BEGIN:VCALENDAR
VERSION:2.0
PRODID:goabase.net iCalendar 2026
X-WR-CALNAME:goabase.net - parties and people 
X-WR-TIMEZONE;VALUE=TEXT:Europe/Berlin
CALSCALE:GREGORIAN
BEGIN:VTIMEZONE
TZID:Europe/Berlin
X-LIC-LOCATION:Europe/Berlin
BEGIN:DAYLIGHT
TZOFFSETFROM:+0100
TZOFFSETTO:+0200
TZNAME:CEST
DTSTART:19700329T020000
RRULE:FREQ=YEARLY;INTERVAL=1;BYDAY=-1SU;BYMONTH=3
END:DAYLIGHT
BEGIN:STANDARD
TZOFFSETFROM:+0200
TZOFFSETTO:+0100
TZNAME:CET
DTSTART:19701025T030000
RRULE:FREQ=YEARLY;INTERVAL=1;BYDAY=-1SU;BYMONTH=10
END:STANDARD
END:VTIMEZONE

BEGIN:VEVENT
UID:a8d2c8904a475ea91b4048c5afbb989b
DTSTART:20211203T220000
DTEND:20211204T060000
LOCATION:Lübeck [Germany]
GEO:53.900000000;10.700000000
DTSTAMP:20211203T220000Z
SUMMARY:Aurora Spirits
DESCRIPTION:Line Up: SineOfSun  Dee Matic (Goa Squad Hamburg) dLusion  DJP (MUNDM)
URL:https://www.goabase.net/party/aurora-spirits/107778
CATEGORIES:Psytrance Event
CLASS:PUBLIC
END:VEVENT

BEGIN:VEVENT
UID:100cfe81f8d1bb1c029dc52d597b6081
DTSTART:20211126T220000
DTEND:20211127T060000
LOCATION:Lübeck [Germany]
GEO:53.900000000;10.700000000
DTSTAMP:20211126T220000Z
SUMMARY:Aurora Spirits
DESCRIPTION:Line Up: Carsten Krusch (Theaterfabrik) Nickelodeon (Goa Squad
  Hamburg) LeanArt Numo
URL:https://www.goabase.net/party/aurora-spirits/107777
CATEGORIES:Psytrance Event
CLASS:PUBLIC
END:VEVENT

END:VCALENDAR