BEGIN:VCALENDAR
VERSION:2.0
PRODID:goabase.net iCalendar 2026
X-WR-CALNAME:goabase.net - parties and people 
X-WR-TIMEZONE;VALUE=TEXT:Europe/Berlin
CALSCALE:GREGORIAN
BEGIN:VTIMEZONE
TZID:Europe/Berlin
X-LIC-LOCATION:Europe/Berlin
BEGIN:DAYLIGHT
TZOFFSETFROM:+0100
TZOFFSETTO:+0200
TZNAME:CEST
DTSTART:19700329T020000
RRULE:FREQ=YEARLY;INTERVAL=1;BYDAY=-1SU;BYMONTH=3
END:DAYLIGHT
BEGIN:STANDARD
TZOFFSETFROM:+0200
TZOFFSETTO:+0100
TZNAME:CET
DTSTART:19701025T030000
RRULE:FREQ=YEARLY;INTERVAL=1;BYDAY=-1SU;BYMONTH=10
END:STANDARD
END:VTIMEZONE

BEGIN:VEVENT
UID:c448f44f6402699ba671fb7ac7c74f55
DTSTART:20181231T233000
DTEND:20190101T110000
LOCATION:Athens [Greece]
GEO:37.976520400;23.725662600
DTSTAMP:20181231T233000Z
SUMMARY:FSI NYE (31.Dec), Athens!
DESCRIPTION:Line Up: 1st Alteza Records label event in Athens. Blastoyz | Reality
  Test | Animato PROG (Muzic Boom & Blue Tunes), Live SUN (Io…
URL:https://www.goabase.net/party/fsi-nye-31dec-athens/101946
CATEGORIES:Psytrance Event
CLASS:PUBLIC
END:VEVENT

BEGIN:VEVENT
UID:4ee8258afe5f79845c9e78209a9afcad
DTSTART:20180310T230000
DTEND:20180311T073000
LOCATION:Athens [Greece]
GEO:37.977666700;23.725468800
DTSTAMP:20180310T230000Z
SUMMARY:VINI VICI live in Athens!
DESCRIPTION:Line Up: ΣΑΒΒΑΤΟ, 10 ΜΑΡΤΙΟΥ, στο πρώτο F.S.I. Dance+Concert Event για
  το 2018, στην ΑΘΗΝΑ! Προπώληση εισιτηρίων ( 17€ ) σε όλα τ…
URL:https://www.goabase.net/party/vini-vici-live-in-athens/98964
CATEGORIES:Psytrance Event
CLASS:PUBLIC
END:VEVENT

BEGIN:VEVENT
UID:1e4cd625d51c6f09653358d777a6f1a1
DTSTART:20171231T230000
DTEND:20180101T110000
LOCATION:Athens [Greece]
GEO:37.977666700;23.725468800
DTSTAMP:20171231T230000Z
SUMMARY:31 December (New Year's Eve) Athens!
DESCRIPTION:Line Up: ΠΑΡΑΜΟΝΗ ΠΡΩΤΟΧΡΟΝΙΑΣ (Κυριακή, 31 Δεκεμβρίου) Monastiraki
  Center (Αγία Ελεούσης 3, Στάση Μετρό Μοναστηράκι), AΘΗΝΑ. ΠΡΟ…
URL:https://www.goabase.net/party/31-december-new-years-eve-athens/97928
CATEGORIES:Psytrance Event
CLASS:PUBLIC
END:VEVENT

BEGIN:VEVENT
UID:a92a93fe09352ebe350ee021e5e681c6
DTSTART:20171021T230000
DTEND:20171022T080000
LOCATION:Athens [Greece]
GEO:37.981151200;23.729450400
DTSTAMP:20171021T230000Z
SUMMARY:FSI BirthDay Event in Athens!
DESCRIPTION:Line Up: ASTRIX (HOMmega Records), Israel. HI PROFILE (Live) ANASA
  (Cosmicleaf Records), Live XDimension (Closing DJ set) Dj Home…
URL:https://www.goabase.net/party/fsi-birthday-event-in-athens/97098
CATEGORIES:Psytrance Event
CLASS:PUBLIC
END:VEVENT

BEGIN:VEVENT
UID:487d34a1b7ac3dc88bb4a0c9994dd5b7
DTSTART:20170902T230000
DTEND:20170903T070000
LOCATION:Ellinikón [Greece]
GEO:37.890536026;23.721166849
DTSTAMP:20170902T230000Z
SUMMARY:IBOGA Records 20 years, FSI Athens, Greece.
DESCRIPTION:Line Up: ΠΡΟΠΩΛΗΣΗ ΕΙΣΙΤΗΡΙΩΝ €15 (( Eισιτήριο εισόδου €20 )) ●
  Διαδικτυακή Αγορά: *Σε κάθε online αγορά εισιτηρίου #ΔΩΡΟ downlo…
URL:https://www.goabase.net/party/iboga-records-20-years-fsi-athens-greece/96541
CATEGORIES:Psytrance Event
CLASS:PUBLIC
END:VEVENT

BEGIN:VEVENT
UID:5e220c401ddc4b47ecb91d995d322cfe
DTSTART:20170715T230000
DTEND:20170716T070000
LOCATION:Ellinikón [Greece]
GEO:37.890536026;23.721166849
DTSTAMP:20170715T230000Z
SUMMARY:The legendary & pioneer artist of psychedelic trance music!
DESCRIPTION:Line Up: Σάββατο, 15 Ιουλίου, σε ένα απο τα σημαντικότερα psytrance
  events των τελευταίων ετών, που έχουν πραγματοποιηθεί καλοκαί…
URL:https://www.goabase.net/party/the-legendary-pioneer-artist-of-psychedelic-trance-music/96117
CATEGORIES:Psytrance Event
CLASS:PUBLIC
END:VEVENT

BEGIN:VEVENT
UID:ea8a013f27101d65cbec178865661c2c
DTSTART:20161210T230000
DTEND:20161211T073000
LOCATION:Steam Athens [Greece]
GEO:37.976479500;23.731737600
DTSTAMP:20161210T230000Z
SUMMARY:TICON live in Athens!
DESCRIPTION:Line Up: TICON (album launch party &quot;Mirage) Iboga Records || Live
  Cydelix || Live Enarxis || Live XDimension || Dj set Kingp…
URL:https://www.goabase.net/party/ticon-live-in-athens/92216
CATEGORIES:Psytrance Event
CLASS:PUBLIC
END:VEVENT

BEGIN:VEVENT
UID:de2c9cd1f0a3acaf029c13fa6c23404d
DTSTART:20160819T190000
DTEND:20160823T100000
LOCATION:Athens [Greece]
GEO:37.981151200;23.729450400
DTSTAMP:20160819T190000Z
SUMMARY:F.S.I DANCE FESTIVAL (19-23 August), BEACH Camp, Central GREECE.
DESCRIPTION:Line Up: Check artwork
URL:https://www.goabase.net/festival/fsi-dance-festival-19-23-august-beach-camp-central-greece/89456
CATEGORIES:Psytrance Event
CLASS:PUBLIC
END:VEVENT

BEGIN:VEVENT
UID:d51176000273b1395171cf1c7a2de12e
DTSTART:20151231T230000
DTEND:20160101T120000
LOCATION:Athens [Greece]
GEO:37.981151200;23.729450400
DTSTAMP:20151231T230000Z
SUMMARY:F.S.I. NYE Athens!
DESCRIPTION:Line Up: LIQUID SOUL - Live World's Best Psy Trance artist* ACE
  VENTURA - Live &quot;Paradise Engineering&quot; World Tour* HI PR…
URL:https://www.goabase.net/party/fsi-nye-athens/87403
CATEGORIES:Psytrance Event
CLASS:PUBLIC
END:VEVENT

BEGIN:VEVENT
UID:3f5cd080eabb60f3b2434c80a75d993e
DTSTART:20140208T233000
DTEND:20140209T080000
LOCATION:Athens - Creta island [Greece]
GEO:0.000000000;0.000000000
DTSTAMP:20140208T233000Z
SUMMARY:F.S.I. Annual Event w/ RITMO, SONIC SPECIES, KINGPINK & more in Athens!
DESCRIPTION:Line Up: R I T M O [Iono Music / Israel] - Live SONIC SPECIES [Alchemy
  records / UK ] - Live KINGPINK [Phoenix Groove records]…
URL:https://www.goabase.net/party/fsi-annual-event-w-ritmo-sonic-species-kingpink-more-in-athens/77602
CATEGORIES:Psytrance Event
CLASS:PUBLIC
END:VEVENT

BEGIN:VEVENT
UID:e73b636bff0af2357278264a6bdbf292
DTSTART:20131116T233000
DTEND:20131117T073000
LOCATION:Athens - Creta island [Greece]
GEO:0.000000000;0.000000000
DTSTAMP:20131116T233000Z
SUMMARY:F.S.I. (Opening Event) w/ BAMBOO Forest, ELEGY, ODD Sequence & more!
DESCRIPTION:Line Up: *The legendary group of Trance music, at one exclusive LIVE
  show in Athens.. ► BAMBOO FOREST [Dragonfly, Flying Rhino r…
URL:https://www.goabase.net/party/fsi-opening-event-w-bamboo-forest-elegy-odd-sequence-more/76304
CATEGORIES:Psytrance Event
CLASS:PUBLIC
END:VEVENT

BEGIN:VEVENT
UID:2df1b254ec38dc5dd295cc866e28c598
DTSTART:20130413T223000
DTEND:20130414T233000
LOCATION:Athens! [Greece]
GEO:0.000000000;0.000000000
DTSTAMP:20130413T223000Z
SUMMARY:F.S.I. welcomes Spring w/NEELIX, EGORYTHMIA & more @ Ammos beach in Athens!
DESCRIPTION:Line Up: ► N E E L I X [Spintwist rec, Germany] - Live ► E G O R Y T H
  M I A [Ionos Music, Fyrom] - Live ► AGENT KRITSEK [S…
URL:https://www.goabase.net/party/fsi-welcomes-spring-wneelix-egorythmia-more-ammos-beach-in-athens/72700
CATEGORIES:Psytrance Event
CLASS:PUBLIC
END:VEVENT

BEGIN:VEVENT
UID:d7512a7a764244caa7488c3f627ecd11
DTSTART:20130317T233000
DTEND:20130318T073000
LOCATION:Athens! [Greece]
GEO:0.000000000;0.000000000
DTSTAMP:20130317T233000Z
SUMMARY:FSI *CaRniVal FieSta* PROTONICA + MAN MACHINE + ODD SEQUENCE + more @ ATHENS !
DESCRIPTION:Line Up: ► P R O T O N I C A [Iono Music || FSI Booking] - Live *4 the
  1st time in Athens.. ► MAN MACHINE [YSE rec, Ovnimoon…
URL:https://www.goabase.net/party/fsi-carnival-fiesta-protonica-man-machine-odd-sequence-more-athens/72168
CATEGORIES:Psytrance Event
CLASS:PUBLIC
END:VEVENT

BEGIN:VEVENT
UID:aa4c1028586f1c84fc1db51e2b01ea50
DTSTART:20130316T233000
DTEND:20130317T073000
LOCATION:Heraklion - Creta island [Greece]
GEO:35.338488600;25.158601300
DTSTAMP:20130316T233000Z
SUMMARY:FSI "CarNiVaL FieSta" PROTONICA + OPTILOOP (aka Loopstep) & more @ CRETE island!
DESCRIPTION:Line Up: ► P R O T O N I C A [Iono Music || FSI Booking] - Live
URL:https://www.goabase.net/party/fsi-carnival-fiesta-protonica-optiloop-aka-loopstep-more-crete-island/72167
CATEGORIES:Psytrance Event
CLASS:PUBLIC
END:VEVENT

BEGIN:VEVENT
UID:fc7ad7fc6254ec8db245bc8cfc8113f3
DTSTART:20120616T233000
DTEND:20120617T070000
LOCATION:Athens ! [Greece]
GEO:0.000000000;0.000000000
DTSTAMP:20120616T233000Z
SUMMARY:✈ FSI.ntroduces "ProGRESSIVE Elements" SYMPHONIX + PROTONICA
DESCRIPTION:Line Up: *Presenting new album :::. P R O T O N I C A .::: (Iono Music
  // Germany)
URL:https://www.goabase.net/party/fsintroduces-progressive-elements-symphonix-protonica/67070
CATEGORIES:Psytrance Event
CLASS:PUBLIC
END:VEVENT

BEGIN:VEVENT
UID:b8495facacbc38e473f87168dd72a58d
DTSTART:20120324T233000
DTEND:20120325T070000
LOCATION:Athens ! [Greece]
GEO:0.000000000;0.000000000
DTSTAMP:20120324T233000Z
SUMMARY:✈ FSI pres.. ASTRAL PROJECTION (Live) + EGORYTHMIA (Live) ++
DESCRIPTION:Line Up: :::. A S T R A L PROJECTION [Trust In Trance // Israel] -
  Live Perfrormance :::. E G O R Y T H M I A [Iono music // Fyro…
URL:https://www.goabase.net/party/fsi-pres-astral-projection-live-egorythmia-live/65647
CATEGORIES:Psytrance Event
CLASS:PUBLIC
END:VEVENT

BEGIN:VEVENT
UID:fc9e1b2121d94c00e1a2a1502020f788
DTSTART:20120121T230000
DTEND:20120122T080000
LOCATION:Athens ! [Greece]
GEO:0.000000000;0.000000000
DTSTAMP:20120121T230000Z
SUMMARY:F.S.I pres 2 dance stages -&gt- NEELIX + B.CONTACT + MINDWAVE +
DESCRIPTION:Line Up: &#9632- PROGRESSIVE Stage &#9632- (1.000ppl capacity) :::.
  NEELIX - Live (Spintwist rec, Germany // 03.00 - 05.00) *1st…
URL:https://www.goabase.net/party/fsi-pres-2-dance-stages-gt-neelix-bcontact-mindwave/64349
CATEGORIES:Psytrance Event
CLASS:PUBLIC
END:VEVENT

BEGIN:VEVENT
UID:48ccfd137ea5fbb9f3b60a9d075bbb25
DTSTART:20111225T233000
DTEND:20111226T090000
LOCATION:Athens ! [Greece]
GEO:0.000000000;0.000000000
DTSTAMP:20111225T233000Z
SUMMARY:* * X-mAs DaNce FestivaL -&gt- 2 x Stages * *
DESCRIPTION:Line Up: :::. BAMBOO FOREST - Live (Presenting his new album+Retro
  Live set // 03.00-05.00) :::. PSYCKOVSKY - Live+DJ (Tantrumm R…
URL:https://www.goabase.net/party/x-mas-dance-festival-gt-2-x-stages/63875
CATEGORIES:Psytrance Event
CLASS:PUBLIC
END:VEVENT

BEGIN:VEVENT
UID:a2c8d54ae9f60d06a6da048227d81eef
DTSTART:20111119T230000
DTEND:20111120T080000
LOCATION:Athens [Greece]
GEO:0.000000000;0.000000000
DTSTAMP:20111119T230000Z
SUMMARY:* * * F.S.I. F E S T (The Rebirth) - 12 Artists on 2 Stages!
DESCRIPTION:Line Up: ::::: DREAM VISION Stage ::::: (Ambient / Progressive / Psy
  Trance) :::. PROTOCULTURE - Live+DJ set (Nano rec/Armada rec…
URL:https://www.goabase.net/party/fsi-f-e-s-t-the-rebirth-12-artists-on-2-stages/63202
CATEGORIES:Psytrance Event
CLASS:PUBLIC
END:VEVENT

BEGIN:VEVENT
UID:a72a574a31b89e502ac7c79eea831974
DTSTART:20111001T230000
DTEND:20111002T073000
LOCATION:Athens ! [Greece]
GEO:0.000000000;0.000000000
DTSTAMP:20111001T230000Z
SUMMARY:FSI 10th Anniversary (ATHENS event) + SON KITE + MINILOGUE +
DESCRIPTION:Line Up: ::: SON KITE ::: *in Live Dance Concert (Digital Structures -
  Sweden) ::: MINILOGUE ::: *1st Live Performance in Athens…
URL:https://www.goabase.net/party/fsi-10th-anniversary-athens-event-son-kite-minilogue/61651
CATEGORIES:Psytrance Event
CLASS:PUBLIC
END:VEVENT

END:VCALENDAR