BEGIN:VCALENDAR
VERSION:2.0
PRODID:goabase.net iCalendar 2026
X-WR-CALNAME:goabase.net - parties and people 
X-WR-TIMEZONE;VALUE=TEXT:Europe/Berlin
CALSCALE:GREGORIAN
BEGIN:VTIMEZONE
TZID:Europe/Berlin
X-LIC-LOCATION:Europe/Berlin
BEGIN:DAYLIGHT
TZOFFSETFROM:+0100
TZOFFSETTO:+0200
TZNAME:CEST
DTSTART:19700329T020000
RRULE:FREQ=YEARLY;INTERVAL=1;BYDAY=-1SU;BYMONTH=3
END:DAYLIGHT
BEGIN:STANDARD
TZOFFSETFROM:+0200
TZOFFSETTO:+0100
TZNAME:CET
DTSTART:19701025T030000
RRULE:FREQ=YEARLY;INTERVAL=1;BYDAY=-1SU;BYMONTH=10
END:STANDARD
END:VTIMEZONE

BEGIN:VEVENT
UID:dc0544e3c0cdd80b38f73e0e039da98d
DTSTART:20040723T230000
DTEND:20040724T120000
LOCATION:münchen [Germany]
GEO:0.000000000;0.000000000
DTSTAMP:20040723T230000Z
SUMMARY:moni s  birthday (privat party -)
DESCRIPTION:
URL:https://www.goabase.net/party/moni-s-birthday-privat-party/14643
CATEGORIES:Psytrance Event
CLASS:PUBLIC
END:VEVENT

BEGIN:VEVENT
UID:ae352d78f0377766ba00fe0409d99747
DTSTART:20040626T180000
DTEND:20040627T120000
LOCATION:München (Eichenau) [Germany]
GEO:0.000000000;0.000000000
DTSTAMP:20040626T180000Z
SUMMARY:Bridge Of Fairytales part 2 (Privatparty)
DESCRIPTION:
URL:https://www.goabase.net/party/bridge-of-fairytales-part-2-privatparty/14384
CATEGORIES:Psytrance Event
CLASS:PUBLIC
END:VEVENT

BEGIN:VEVENT
UID:4e2cf7d64df3fbbcc74a095ada9f4c43
DTSTART:20040618T220000
DTEND:20040620T120000
LOCATION:München (Eichenau) [Germany]
GEO:0.000000000;0.000000000
DTSTAMP:20040618T220000Z
SUMMARY:Bridge of Fairytales (Privatparty)
DESCRIPTION:
URL:https://www.goabase.net/festival/bridge-of-fairytales-privatparty/14310
CATEGORIES:Psytrance Event
CLASS:PUBLIC
END:VEVENT

BEGIN:VEVENT
UID:e7c053f1a2bceefa5b6a9e137ec73166
DTSTART:20031205T230000
DTEND:20031206T080000
LOCATION:München [Germany]
GEO:0.000000000;0.000000000
DTSTAMP:20031205T230000Z
SUMMARY:Psychotronic  Artists
DESCRIPTION:
URL:https://www.goabase.net/party/psychotronic-artists/11319
CATEGORIES:Psytrance Event
CLASS:PUBLIC
END:VEVENT

BEGIN:VEVENT
UID:255c1c9b9f5e6c26305d4189656f0ae1
DTSTART:20031010T223000
DTEND:20031011T080000
LOCATION:München [Germany]
GEO:0.000000000;0.000000000
DTSTAMP:20031010T223000Z
SUMMARY:The First Effect
DESCRIPTION:Line Up: Everything
URL:https://www.goabase.net/party/the-first-effect/11316
CATEGORIES:Psytrance Event
CLASS:PUBLIC
END:VEVENT

END:VCALENDAR