BEGIN:VCALENDAR
VERSION:2.0
PRODID:goabase.net iCalendar 2026
X-WR-CALNAME:goabase.net - parties and people 
X-WR-TIMEZONE;VALUE=TEXT:Europe/Berlin
CALSCALE:GREGORIAN
BEGIN:VTIMEZONE
TZID:Europe/Berlin
X-LIC-LOCATION:Europe/Berlin
BEGIN:DAYLIGHT
TZOFFSETFROM:+0100
TZOFFSETTO:+0200
TZNAME:CEST
DTSTART:19700329T020000
RRULE:FREQ=YEARLY;INTERVAL=1;BYDAY=-1SU;BYMONTH=3
END:DAYLIGHT
BEGIN:STANDARD
TZOFFSETFROM:+0200
TZOFFSETTO:+0100
TZNAME:CET
DTSTART:19701025T030000
RRULE:FREQ=YEARLY;INTERVAL=1;BYDAY=-1SU;BYMONTH=10
END:STANDARD
END:VTIMEZONE

BEGIN:VEVENT
UID:8229f4db21624fbe48ed593c81777bd6
DTSTART:20160129T220000
DTEND:20160130T043000
LOCATION:Leeuwarden [Netherlands]
GEO:53.200538600;5.791881100
DTSTAMP:20160129T220000Z
SUMMARY:PsyFreaks
DESCRIPTION:Line Up: Kayrunchy [ 3rd BIT ] Audio Terrorist [ 3rd BIT ] Anand [ 3rd
  BIT ] Nilezz [ 3rd BIT ] Paul B [ 3rd BIT / Forest Freaks…
URL:https://www.goabase.net/party/psyfreaks/88076
CATEGORIES:Psytrance Event
CLASS:PUBLIC
END:VEVENT

BEGIN:VEVENT
UID:c5903e084920fdf5e4c16f34d1654839
DTSTART:20141129T220000
DTEND:20141130T060000
LOCATION:Groningen [Netherlands]
GEO:53.226132300;6.597231600
DTSTAMP:20141129T220000Z
SUMMARY:Psylumination
DESCRIPTION:Line Up: Live: Schizoid Bears [ Forest Freaks - LT ] DJs: Hanuman [
  Maharetta rec. / Psyde Effect rec. ] Harmonic Frequency [ Psy…
URL:https://www.goabase.net/party/psylumination/81940
CATEGORIES:Psytrance Event
CLASS:PUBLIC
END:VEVENT

BEGIN:VEVENT
UID:102f089ac32f90766d48211d022e5234
DTSTART:20141025T210000
DTEND:20141026T043000
LOCATION:Dordrecht [Netherlands]
GEO:51.815577000;4.679480300
DTSTAMP:20141025T210000Z
SUMMARY:Liquid Night
DESCRIPTION:Line Up: Jon Cockle [ DanceLoveHub / Joof Editions - UK ] LiquidRish [
  Secret Soma - UK ] Fluofreax [ Twisted Extractions ] Mislu…
URL:https://www.goabase.net/party/liquid-night/81078
CATEGORIES:Psytrance Event
CLASS:PUBLIC
END:VEVENT

BEGIN:VEVENT
UID:fa59f06241718266bae6cdea401a0728
DTSTART:20140912T230000
DTEND:20140913T060000
LOCATION:Groningen [Netherlands]
GEO:53.219133800;6.567223000
DTSTAMP:20140912T230000Z
SUMMARY:Psysonic
DESCRIPTION:Line Up: Madwin [ 3rd BIT ] Kayrunchy [ 3rd BIT ] D-Lerium [ 3rd BIT ]
  PsyMax [ 3rd BIT ] Paul B [ 3rd BIT / Forest Freaks ] Nile…
URL:https://www.goabase.net/party/psysonic/81077
CATEGORIES:Psytrance Event
CLASS:PUBLIC
END:VEVENT

BEGIN:VEVENT
UID:77d914e0196ff7a95d956b8b3d3cb58e
DTSTART:20140628T220000
DTEND:20140629T060000
LOCATION:Groningen [Netherlands]
GEO:53.238567000;6.504322000
DTSTAMP:20140628T220000Z
SUMMARY:Psychedelic Anniversary
DESCRIPTION:Line Up: Psy-Trance DJs: Shivanki [ 3rd BIT ] Audio Terrorist [ 3rd
  BIT ] Fluffy [ 3rd BIT ] Kayrunchy [ 3rd BIT ] Nilezz vs Anan…
URL:https://www.goabase.net/party/psychedelic-anniversary/79453
CATEGORIES:Psytrance Event
CLASS:PUBLIC
END:VEVENT

BEGIN:VEVENT
UID:c91888be4a493e6074efb84f6e39c666
DTSTART:20140622T230000
DTEND:20140623T050000
LOCATION:Leeuwarden [Netherlands]
GEO:53.201911400;5.797799700
DTSTAMP:20140622T230000Z
SUMMARY:Psychedelic Anniversary
DESCRIPTION:
URL:https://www.goabase.net/party/psychedelic-anniversary/73422
CATEGORIES:Psytrance Event
CLASS:PUBLIC
END:VEVENT

BEGIN:VEVENT
UID:c1e66b8b977d1911c9a7adff7b16c59a
DTSTART:20140531T220000
DTEND:20140601T043000
LOCATION:Dordrecht [Netherlands]
GEO:51.815436650;4.680317742
DTSTAMP:20140531T220000Z
SUMMARY:Liquid Night
DESCRIPTION:Line Up: JeePsteRiouS [ 3rd BIT ] Fatcat [ TCP / IP ] Jocid [ Pixan
  rec. ] vs Darzid [ Psychedelic.FM / Retroshaman rec. ] Nilezz…
URL:https://www.goabase.net/party/liquid-night/78752
CATEGORIES:Psytrance Event
CLASS:PUBLIC
END:VEVENT

BEGIN:VEVENT
UID:de53b63dfc5dd039b1128885c4a0899e
DTSTART:20140524T220000
DTEND:20140525T060000
LOCATION:Groningen [Netherlands]
GEO:53.226132300;6.597231600
DTSTAMP:20140524T220000Z
SUMMARY:Psylumination
DESCRIPTION:Line Up: Live: Arcuru [ One Foot Groove / Free Flow - PT ] Button
  Pushing Monkeys [ Retroshaman rec. ] DJs: Aquatone [ Independen…
URL:https://www.goabase.net/party/psylumination/78622
CATEGORIES:Psytrance Event
CLASS:PUBLIC
END:VEVENT

BEGIN:VEVENT
UID:e07f072d7819926deab619c11934cde5
DTSTART:20140419T230000
DTEND:20140420T050000
LOCATION:Leeuwarden [Netherlands]
GEO:53.201911400;5.797799700
DTSTAMP:20140419T230000Z
SUMMARY:Bicycle Day
DESCRIPTION:
URL:https://www.goabase.net/party/bicycle-day/78167
CATEGORIES:Psytrance Event
CLASS:PUBLIC
END:VEVENT

BEGIN:VEVENT
UID:3f075f04f17eb3e533937db2d8dd3167
DTSTART:20140322T220000
DTEND:20140323T043000
LOCATION:Dordrecht [Netherlands]
GEO:51.815436650;4.680317742
DTSTAMP:20140322T220000Z
SUMMARY:Liquid Night
DESCRIPTION:
URL:https://www.goabase.net/party/liquid-night/76849
CATEGORIES:Psytrance Event
CLASS:PUBLIC
END:VEVENT

BEGIN:VEVENT
UID:29ca082f5a7bc26d04d3b7e0ace34d34
DTSTART:20140228T230000
DTEND:20140301T060000
LOCATION:Groningen [Netherlands]
GEO:53.219205400;6.567942500
DTSTAMP:20140228T230000Z
SUMMARY:Psysonic
DESCRIPTION:
URL:https://www.goabase.net/party/psysonic/76848
CATEGORIES:Psytrance Event
CLASS:PUBLIC
END:VEVENT

BEGIN:VEVENT
UID:d3246083eae2ece260931693760213be
DTSTART:20131221T230000
DTEND:20131222T050000
LOCATION:Leeuwarden [Netherlands]
GEO:53.201911400;5.797799700
DTSTAMP:20131221T230000Z
SUMMARY:Psychedelic Anniversary
DESCRIPTION:Line Up: P. Tale [ Forest Freaqs ]
URL:https://www.goabase.net/party/psychedelic-anniversary/76124
CATEGORIES:Psytrance Event
CLASS:PUBLIC
END:VEVENT

BEGIN:VEVENT
UID:6bbc47d083f02e1835cb880f2a41f6dc
DTSTART:20131130T230000
DTEND:20131201T060000
LOCATION:Groningen [Netherlands]
GEO:53.231940000;6.589820000
DTSTAMP:20131130T230000Z
SUMMARY:Psylumination
DESCRIPTION:
URL:https://www.goabase.net/party/psylumination/76122
CATEGORIES:Psytrance Event
CLASS:PUBLIC
END:VEVENT

BEGIN:VEVENT
UID:3c3d26bd8dc1baed9f5ed12ec7f2644f
DTSTART:20131026T230000
DTEND:20131027T050000
LOCATION:Leeuwarden [Netherlands]
GEO:53.201911400;5.797799700
DTSTAMP:20131026T230000Z
SUMMARY:Psychedelic Anniversary
DESCRIPTION:Line Up: Whrikk [ Sanaton rec. / Parvati rec. ]
URL:https://www.goabase.net/party/psychedelic-anniversary/75784
CATEGORIES:Psytrance Event
CLASS:PUBLIC
END:VEVENT

BEGIN:VEVENT
UID:7626aebb617c2da936abe7f838b37e7f
DTSTART:20131004T230000
DTEND:20131005T060000
LOCATION:Leeuwarden [Netherlands]
GEO:53.219205400;6.567942500
DTSTAMP:20131004T230000Z
SUMMARY:Psysonic
DESCRIPTION:
URL:https://www.goabase.net/party/psysonic/75270
CATEGORIES:Psytrance Event
CLASS:PUBLIC
END:VEVENT

BEGIN:VEVENT
UID:a368afca284ff520b07bb79d96c0f0c9
DTSTART:20130831T230000
DTEND:20130901T050000
LOCATION:Leeuwarden [Netherlands]
GEO:53.201911400;5.797799700
DTSTAMP:20130831T230000Z
SUMMARY:Psychedelic Anniversary
DESCRIPTION:
URL:https://www.goabase.net/party/psychedelic-anniversary/74442
CATEGORIES:Psytrance Event
CLASS:PUBLIC
END:VEVENT

BEGIN:VEVENT
UID:38883bbd8f8a9ed2a696668fef9edc20
DTSTART:20130524T230000
DTEND:20130525T060000
LOCATION:Groningen [Netherlands]
GEO:53.217450000;6.570440000
DTSTAMP:20130524T230000Z
SUMMARY:Cosmic Hazard
DESCRIPTION:
URL:https://www.goabase.net/party/cosmic-hazard/72408
CATEGORIES:Psytrance Event
CLASS:PUBLIC
END:VEVENT

BEGIN:VEVENT
UID:a3a87cb40006dc1383f4218537d3a332
DTSTART:20130420T230000
DTEND:20130421T050000
LOCATION:Leeuwarden [Netherlands]
GEO:53.201911400;5.797799700
DTSTAMP:20130420T230000Z
SUMMARY:Progress In Trance
DESCRIPTION:Line Up: ODR [ Realvision Music / Treetrolla rec. ]
URL:https://www.goabase.net/party/progress-in-trance/72026
CATEGORIES:Psytrance Event
CLASS:PUBLIC
END:VEVENT

BEGIN:VEVENT
UID:4c68e33cafb491eea899b238e10cfa56
DTSTART:20130329T230000
DTEND:20130330T060000
LOCATION:Groningen [Netherlands]
GEO:53.218974200;6.568098900
DTSTAMP:20130329T230000Z
SUMMARY:Psysonic
DESCRIPTION:
URL:https://www.goabase.net/party/psysonic/72025
CATEGORIES:Psytrance Event
CLASS:PUBLIC
END:VEVENT

BEGIN:VEVENT
UID:c5cee32749db6a0eef1ee9840efd2766
DTSTART:20130223T233000
DTEND:20130224T050000
LOCATION:Leeuwarden [Netherlands]
GEO:53.202035553;5.798091980
DTSTAMP:20130223T233000Z
SUMMARY:Progress In Trance
DESCRIPTION:
URL:https://www.goabase.net/party/progress-in-trance/70558
CATEGORIES:Psytrance Event
CLASS:PUBLIC
END:VEVENT

END:VCALENDAR