BEGIN:VCALENDAR
VERSION:2.0
PRODID:goabase.net iCalendar 2026
X-WR-CALNAME:goabase.net - parties and people 
X-WR-TIMEZONE;VALUE=TEXT:Europe/Berlin
CALSCALE:GREGORIAN
BEGIN:VTIMEZONE
TZID:Europe/Berlin
X-LIC-LOCATION:Europe/Berlin
BEGIN:DAYLIGHT
TZOFFSETFROM:+0100
TZOFFSETTO:+0200
TZNAME:CEST
DTSTART:19700329T020000
RRULE:FREQ=YEARLY;INTERVAL=1;BYDAY=-1SU;BYMONTH=3
END:DAYLIGHT
BEGIN:STANDARD
TZOFFSETFROM:+0200
TZOFFSETTO:+0100
TZNAME:CET
DTSTART:19701025T030000
RRULE:FREQ=YEARLY;INTERVAL=1;BYDAY=-1SU;BYMONTH=10
END:STANDARD
END:VTIMEZONE

BEGIN:VEVENT
UID:4bc95ecb916387718eda24ab35e0ffa9
DTSTART:20241207T230000
DTEND:20241208T080000
LOCATION:Biel/Bienne [Switzerland]
GEO:47.100000000;7.300000000
DTSTAMP:20241207T230000Z
SUMMARY:Fractal Ritual 3
DESCRIPTION:Line Up: ATZHIRA Live Shamanic Tales Records, Guatemala ALCHEMYSTIK
  Live Retro Future Records, France/Guatemala , First time in… Location:
  Coupole Biel/Bienne, , 2502 Biel/Bienne
URL:https://www.goabase.net/party/fractal-ritual-3/113530
CATEGORIES:Psytrance Event
CLASS:PUBLIC
END:VEVENT

BEGIN:VEVENT
UID:cd5e94da28664fc7c4b824997c266806
DTSTART:20241109T230000
DTEND:20241110T033000
LOCATION:Biel/Bienne [Switzerland]
GEO:47.100000000;7.300000000
DTSTAMP:20241109T230000Z
SUMMARY:Lacour on Fractal
DESCRIPTION:Line Up: COSINUS Live Sangoma Records NEUROTEC Fractal Records
  PSYCHOSOMATIX .:: Decoration ::. FRACTAL RECORDS Location: Lacour Club,
  Rue de Morat 7, 2502 Biel/Bienne
URL:https://www.goabase.net/party/lacour-on-fractal/113643
CATEGORIES:Psytrance Event
CLASS:PUBLIC
END:VEVENT

BEGIN:VEVENT
UID:60aecdfeb01cf2f7c6d794af2a851576
DTSTART:20240309T230000
DTEND:20240310T070000
LOCATION:Biel/Bienne [Switzerland]
GEO:47.100000000;7.300000000
DTSTAMP:20240309T230000Z
SUMMARY:Fractal Ritual 2
DESCRIPTION:Line Up: ● MEKKANIKKA United Beat Records,2 hours set ● LUNA RAVE Epic
  Trance Records, France ● ANGRY LUNA Future Retro Trance… Location:
  Coupole/Chessu, , 2502 Biel/Bienne
URL:https://www.goabase.net/party/fractal-ritual-2/112308
CATEGORIES:Psytrance Event
CLASS:PUBLIC
END:VEVENT

BEGIN:VEVENT
UID:c8a17e9405d073bca2aa4e790fd39532
DTSTART:20231118T230000
DTEND:20231119T080000
LOCATION:Biel/Bienne [Switzerland]
GEO:47.100000000;7.300000000
DTSTAMP:20231118T230000Z
SUMMARY:Fractal Ritual
DESCRIPTION:Line Up: Live BRAINWASH (PT) 3D Vision / Fractal Records Live GEKO
  (ISR) Synthwave Records / Fractal Records Live ELECTRYPNOSE… Location:
  Coupole/Chessu, Esplanade 15, 2502 Biel/Bienne
URL:https://www.goabase.net/party/fractal-ritual/111322
CATEGORIES:Psytrance Event
CLASS:PUBLIC
END:VEVENT

BEGIN:VEVENT
UID:abcaee789179c9f5c57a2462d53d70f8
DTSTART:20200221T230000
DTEND:20200222T080000
LOCATION:Biel/Bienne [Switzerland]
GEO:47.100000000;7.300000000
DTSTAMP:20200221T230000Z
SUMMARY:FractaliZed 2k20
DESCRIPTION:Line Up: ● DAKSINAMURTI (DE) Sangoma Records / 2.30 dj set ● GEKO Live
  (ISR) Fractal Records / Nutek Records ● DIGITAL REFLECTI…
URL:https://www.goabase.net/party/fractalized-2k20/106147
CATEGORIES:Psytrance Event
CLASS:PUBLIC
END:VEVENT

BEGIN:VEVENT
UID:c84ab965c002be008195d5c2fa29ff16
DTSTART:20191011T220000
DTEND:20191012T080000
LOCATION:Biel/Bienne [Switzerland]
GEO:47.142045100;7.258566700
DTSTAMP:20191011T220000Z
SUMMARY:Fractal Energy 2019
DESCRIPTION:Line Up: ... Live ... ● NEUROMOTOR France Fractal Records ● BRAIN
  DRIVER France Fractal Records ● GASPARD Sangoma Records ...…
URL:https://www.goabase.net/party/fractal-energy-2019/104973
CATEGORIES:Psytrance Event
CLASS:PUBLIC
END:VEVENT

BEGIN:VEVENT
UID:e039cf37665d443dd8e341810716c2ba
DTSTART:20190405T220000
DTEND:20190406T080000
LOCATION:Biel/Bienne [Switzerland]
GEO:47.142045100;7.258566700
DTSTAMP:20190405T220000Z
SUMMARY:SPIRITUAL ESSENCE
DESCRIPTION:Line Up: ... Live ... ● CONTRAST (South Africa) Woo Dog Records ●
  ELECTRYPNOSE Zenon Records, 2 Hours Live ● CAN OF TOMATO SOUP…
URL:https://www.goabase.net/party/spiritual-essence/102806
CATEGORIES:Psytrance Event
CLASS:PUBLIC
END:VEVENT

BEGIN:VEVENT
UID:179170cadfda28fe96ee9753ab4ff91f
DTSTART:20181012T220000
DTEND:20181013T080000
LOCATION:Biel/Bienne [Switzerland]
GEO:47.142045100;7.258566700
DTSTAMP:20181012T220000Z
SUMMARY:FRACTAL ENERGY *** Into the Dome ***
DESCRIPTION:Line Up: ... Live ... ● BRAINWASH (Portugal) Fractal Records & 3D
  Vision ● STEREOXIDE (Mexico/Swiss) Blacklite Records ● SIDHAR…
URL:https://www.goabase.net/party/fractal-energy-into-the-dome/101013
CATEGORIES:Psytrance Event
CLASS:PUBLIC
END:VEVENT

BEGIN:VEVENT
UID:9bd0d9e2642150aa3e58c31836e4c7b5
DTSTART:20180331T220000
DTEND:20180401T100000
LOCATION:Biel [Switzerland]
GEO:47.138340000;7.259630000
DTSTAMP:20180331T220000Z
SUMMARY:Plasma Prophecy by Fractal Records
DESCRIPTION:Line Up: ● NEUROMOTOR France First presentation of his new EP. 2 hours
  Show! ● GASPARD Live Sangoma Records ● SEBASTIAN KOS An…
URL:https://www.goabase.net/party/plasma-prophecy-by-fractal-records/99110
CATEGORIES:Psytrance Event
CLASS:PUBLIC
END:VEVENT

BEGIN:VEVENT
UID:05a9773aa72cf63fc9cae9d5d0e533d5
DTSTART:20180216T220000
DTEND:20180217T080000
LOCATION:Biel/Bienne [Switzerland]
GEO:47.142045100;7.258566700
DTSTAMP:20180216T220000Z
SUMMARY:Fractal Carnaval
DESCRIPTION:Line Up: ... Live ... ● ANTISPIN (UK) Fractal Records & Digital
  Psionics ● BRAINDRIVER (France) Fractal Records ● ELECTRYPNOSE…
URL:https://www.goabase.net/party/fractal-carnaval/98229
CATEGORIES:Psytrance Event
CLASS:PUBLIC
END:VEVENT

BEGIN:VEVENT
UID:df3e7e4d765e733ae7ddc7331e2d2e60
DTSTART:20161231T210000
DTEND:20170101T120000
LOCATION:Biel/Bienne [Switzerland]
GEO:47.142045100;7.258566700
DTSTAMP:20161231T210000Z
SUMMARY:Fractal Energy - NYE edition 2
DESCRIPTION:Line Up: ▶ Mainfloor Area - Live Act - ● PRINCIPLES OF FLIGHT 24/7
  Records / France ● PAINKILLER Nutek Records / Spain ● ANDROI…
URL:https://www.goabase.net/party/fractal-energy-nye-edition-2/90275
CATEGORIES:Psytrance Event
CLASS:PUBLIC
END:VEVENT

BEGIN:VEVENT
UID:419968d6313adacb124609b6d582345a
DTSTART:20161202T223000
DTEND:20161203T090000
LOCATION:Bienne [Switzerland]
GEO:0.000000000;0.000000000
DTSTAMP:20161202T223000Z
SUMMARY:Fractal Friday 07
DESCRIPTION:Line Up: ● COMSAT & PETAR [Fractal Records / Psychotria Records]
  Special Guest from Hungaria ● SEBASTIAN KOS [Anthu Records] P…
URL:https://www.goabase.net/party/fractal-friday-07/91985
CATEGORIES:Psytrance Event
CLASS:PUBLIC
END:VEVENT

BEGIN:VEVENT
UID:995edb0c1b4113d4fbcf8571924e3e49
DTSTART:20161105T210000
DTEND:20161106T120000
LOCATION:Biel/Bienne [Switzerland]
GEO:47.142045100;7.258566700
DTSTAMP:20161105T210000Z
SUMMARY:10 YEARS FRACTAL
DESCRIPTION:Line Up: ▶ Mainfloor Area - Live Act - ● SCORB Trick Music, UK ●
  VIBERS Global Army Music, PT ● GEKO Fractal Records, IS ●…
URL:https://www.goabase.net/party/10-years-fractal/90274
CATEGORIES:Psytrance Event
CLASS:PUBLIC
END:VEVENT

BEGIN:VEVENT
UID:39a8974fab16f3dfceb0c3974f7d9719
DTSTART:20160930T220000
DTEND:20161001T090000
LOCATION:Biel/Bienne [Switzerland]
GEO:47.142045100;7.258566700
DTSTAMP:20160930T220000Z
SUMMARY:Fractal Friday 06
DESCRIPTION:Line Up: ● ONERO [Fractal Records] DE Special Guest from Germany ●
  ZENKAI [Digital Shamans Records] ● DIGITAL REFLECTION [ Unl…
URL:https://www.goabase.net/party/fractal-friday-06/90959
CATEGORIES:Psytrance Event
CLASS:PUBLIC
END:VEVENT

BEGIN:VEVENT
UID:b6b8b05da60be011d02820ef47cdcd90
DTSTART:20160429T220000
DTEND:20160430T090000
LOCATION:Biel/Bienne [Switzerland]
GEO:47.142045100;7.258566700
DTSTAMP:20160429T220000Z
SUMMARY:Fractal Friday 05
DESCRIPTION:Line Up: ● MILOSZ Special Retro Fullon Set [Underground Sound
  Promotion] ● FRACTALIZERS[Fractal Records] ● INFERNO[Hysteria Musi…
URL:https://www.goabase.net/party/fractal-friday-05/89425
CATEGORIES:Psytrance Event
CLASS:PUBLIC
END:VEVENT

BEGIN:VEVENT
UID:add32dd3e302af4b0290bd685ec763ca
DTSTART:20160326T220000
DTEND:20160327T100000
LOCATION:Biel/Bienne [Switzerland]
GEO:47.142045100;7.258566700
DTSTAMP:20160326T220000Z
SUMMARY:FractaliZed5
DESCRIPTION:Line Up: - Live Act - ● MEKKANIKKA [United Beats Records] Spain ●
  ALIENN [Mechanik Records // Hypergate Records] Portugal ● SID…
URL:https://www.goabase.net/party/fractalized5/88170
CATEGORIES:Psytrance Event
CLASS:PUBLIC
END:VEVENT

BEGIN:VEVENT
UID:d1a8402672237ab49560fa7713b01414
DTSTART:20160213T220000
DTEND:20160214T120000
LOCATION:Biel/Bienne [Switzerland]
GEO:47.142045100;7.258566700
DTSTAMP:20160213T220000Z
SUMMARY:Fractal Carnaval
DESCRIPTION:Line Up: - Live Act - ● COSMOSIS [Holophonic Records] England With
  Guitar !!! ● HYPNOISE [Maharetta Records] - Spain ● TRYON […
URL:https://www.goabase.net/party/fractal-carnaval/87212
CATEGORIES:Psytrance Event
CLASS:PUBLIC
END:VEVENT

BEGIN:VEVENT
UID:422e1db0edf4a9732ab19b9a2c1cc7ad
DTSTART:20160129T220000
DTEND:20160130T090000
LOCATION:Biel/Bienne [Switzerland]
GEO:47.142045100;7.258566700
DTSTAMP:20160129T220000Z
SUMMARY:Fractal Friday 04
DESCRIPTION:Line Up: ● SHUUMAT Live Fractal Records - Portugal ● CRIMINAL MINDS
  MMD Records / Biomechanix Records ● MADSUN Soft Fire / C.A…
URL:https://www.goabase.net/party/fractal-friday-04/87981
CATEGORIES:Psytrance Event
CLASS:PUBLIC
END:VEVENT

BEGIN:VEVENT
UID:73f10c4c2debd804cc00a236f414b236
DTSTART:20151231T200000
DTEND:20160101T120000
LOCATION:Biel/Bienne [Switzerland]
GEO:47.142045100;7.258566700
DTSTAMP:20151231T200000Z
SUMMARY:Fractal Energy - New Year Eve Edition
DESCRIPTION:Line Up: ▶ Mainfloor Area - Live Act - ● ABSOLUM [3D Vision] France ●
  HUJABOY [T.I.P Records] Israel ● LUNARAVE [O.V.N.I Recor…
URL:https://www.goabase.net/party/fractal-energy-new-year-eve-edition/86356
CATEGORIES:Psytrance Event
CLASS:PUBLIC
END:VEVENT

BEGIN:VEVENT
UID:92a279f377acee242ac15ec6f37fff25
DTSTART:20151127T220000
DTEND:20151128T090000
LOCATION:Biel/Bienne [Switzerland]
GEO:47.142045100;7.258566700
DTSTAMP:20151127T220000Z
SUMMARY:Fractal Friday 03
DESCRIPTION:Line Up: ● AIRI Live 2b6 Records - Special 2 hours performance ●
  SOLARISFractal Records ● TOKIBOUN Moonloop Records ● Djane PSY…
URL:https://www.goabase.net/party/fractal-friday-03/87132
CATEGORIES:Psytrance Event
CLASS:PUBLIC
END:VEVENT

END:VCALENDAR