BEGIN:VCALENDAR
VERSION:2.0
PRODID:goabase.net iCalendar 2026
X-WR-CALNAME:goabase.net - parties and people 
X-WR-TIMEZONE;VALUE=TEXT:Europe/Berlin
CALSCALE:GREGORIAN
BEGIN:VTIMEZONE
TZID:Europe/Berlin
X-LIC-LOCATION:Europe/Berlin
BEGIN:DAYLIGHT
TZOFFSETFROM:+0100
TZOFFSETTO:+0200
TZNAME:CEST
DTSTART:19700329T020000
RRULE:FREQ=YEARLY;INTERVAL=1;BYDAY=-1SU;BYMONTH=3
END:DAYLIGHT
BEGIN:STANDARD
TZOFFSETFROM:+0200
TZOFFSETTO:+0100
TZNAME:CET
DTSTART:19701025T030000
RRULE:FREQ=YEARLY;INTERVAL=1;BYDAY=-1SU;BYMONTH=10
END:STANDARD
END:VTIMEZONE

BEGIN:VEVENT
UID:b03085ab61d0cd78f59cf63f81c09ff8
DTSTART:20260605T180000
DTEND:20260607T150000
LOCATION:Madrid [Spain]
GEO:40.400000000;-3.700000000
DTSTAMP:20260605T180000Z
SUMMARY:KUMBHALA FESTIVAL
DESCRIPTION:Line Up: COMMING SOON Location: COLMENAR VIEJO, ,  Madrid
URL:https://www.goabase.net/festival/kumbhala-festival/115984
CATEGORIES:Psytrance Event
CLASS:PUBLIC
END:VEVENT

BEGIN:VEVENT
UID:3ccaad7f65ed396bb21378bcaa6d5d50
DTSTART:20260207T233000
DTEND:20260208T120000
LOCATION:Madrid [Spain]
GEO:40.400000000;-3.700000000
DTSTAMP:20260207T233000Z
SUMMARY:KUMBHALA FESTIVAL WINTER EDITION
DESCRIPTION:Line Up: ATHZIRA ALVIKER CERNUNNOS NEMESSIAH APOCALIPSY LEOFIX CRYOTEK
  NOCTAMBOWL Location: LA FABRYKA, C/ Camino de Hormigueras 142, Madrid
URL:https://www.goabase.net/party/kumbhala-festival-winter-edition/116693
CATEGORIES:Psytrance Event
CLASS:PUBLIC
END:VEVENT

BEGIN:VEVENT
UID:87a0a2ef76df777e35145b89cd834ce2
DTSTART:20241102T233000
DTEND:20241103T080000
LOCATION:Madrid [Spain]
GEO:40.400000000;-3.700000000
DTSTAMP:20241102T233000Z
SUMMARY:SUPERNOVA 3.0
DESCRIPTION:Line Up: OPLEWING JAYVI NEMESSIAH SAN VAREZ Location: Sala MUV, C/
  Camino de Hormigueras 175, nave 8, 28030 Madrid
URL:https://www.goabase.net/party/supernova-30/113693
CATEGORIES:Psytrance Event
CLASS:PUBLIC
END:VEVENT

BEGIN:VEVENT
UID:9adf312817fd827f0599768c0a3654c5
DTSTART:20240914T210000
DTEND:20240915T090000
LOCATION:Madrid [Spain]
GEO:40.400000000;-3.700000000
DTSTAMP:20240914T210000Z
SUMMARY:SUPERNOVA summer fest
DESCRIPTION:Line Up: WEST GALAXY (Maharetta Rec) BIOFA (Namaha Rec) RUHL (Fractal
  Rec) NEMESSIAH a.k.a EAT SQUIRT (Supernova resident) SAN VA… Location:
  secret location @ sierra norte de Madrid, , Madrid
URL:https://www.goabase.net/party/supernova-summer-fest/113435
CATEGORIES:Psytrance Event
CLASS:PUBLIC
END:VEVENT

BEGIN:VEVENT
UID:647a640cdc8f94b745fa246df91fce8b
DTSTART:20240629T233000
DTEND:20240630T080000
LOCATION:Madrid [Spain]
GEO:40.400000000;-3.700000000
DTSTAMP:20240629T233000Z
SUMMARY:SUPERNOVA 2.0
DESCRIPTION:Line Up: BIOFA (Namaha Rec) RUHL (Fractal Rec) JAYVI NEMESSIAH
  (Supernova resident) SAN VAREZ (Supernova resident) Location: Sala MUV,
  C/ Camino Hormigueras 175, nave 8, 28031 Madrid
URL:https://www.goabase.net/party/supernova-20/113087
CATEGORIES:Psytrance Event
CLASS:PUBLIC
END:VEVENT

BEGIN:VEVENT
UID:249509b55aa5d6102e8af4ef8b0fe73a
DTSTART:20240525T233000
DTEND:20240526T080000
LOCATION:Madrid [Spain]
GEO:40.400000000;-3.700000000
DTSTAMP:20240525T233000Z
SUMMARY:SUPERNOVA 1.0
DESCRIPTION:Line Up: LINE UP: HYPNOISE (Maharetta Rec) ORMUS (JOOF Rec) MANIONIC
  (independiente) NEMESSIAH (Supernova resident) SAN VAREZ (Su… Location:
  Sala MUV, C/ Camino de Hormigueras 175, nave 8, 28031 Madrid
URL:https://www.goabase.net/party/supernova-10/112659
CATEGORIES:Psytrance Event
CLASS:PUBLIC
END:VEVENT

END:VCALENDAR