BEGIN:VCALENDAR
VERSION:2.0
PRODID:goabase.net iCalendar 2026
X-WR-CALNAME:goabase.net - parties and people 
X-WR-TIMEZONE;VALUE=TEXT:Europe/Berlin
CALSCALE:GREGORIAN
BEGIN:VTIMEZONE
TZID:Europe/Berlin
X-LIC-LOCATION:Europe/Berlin
BEGIN:DAYLIGHT
TZOFFSETFROM:+0100
TZOFFSETTO:+0200
TZNAME:CEST
DTSTART:19700329T020000
RRULE:FREQ=YEARLY;INTERVAL=1;BYDAY=-1SU;BYMONTH=3
END:DAYLIGHT
BEGIN:STANDARD
TZOFFSETFROM:+0200
TZOFFSETTO:+0100
TZNAME:CET
DTSTART:19701025T030000
RRULE:FREQ=YEARLY;INTERVAL=1;BYDAY=-1SU;BYMONTH=10
END:STANDARD
END:VTIMEZONE

BEGIN:VEVENT
UID:341049d4b2ef2bdc1fc7f65472a1ce08
DTSTART:20180323T223000
DTEND:20180324T050000
LOCATION:Lugano [Switzerland]
GEO:46.020730000;8.957880000
DTSTAMP:20180323T223000Z
SUMMARY:A Silent Night :: w/ Crazy Astronaut :: Nocturna Project
DESCRIPTION:Line Up: ₪ A SILENT NIGHT :: Nocturna Project w/ Crazy Astronaut ₪
  promoted by JAM ☬ JAM – Urban Culture Promotion and Living R…
URL:https://www.goabase.net/party/a-silent-night-w-crazy-astronaut-nocturna-project/98570
CATEGORIES:Psytrance Event
CLASS:PUBLIC
END:VEVENT

END:VCALENDAR