BEGIN:VCALENDAR
VERSION:2.0
PRODID:goabase.net iCalendar 2026
X-WR-CALNAME:goabase.net - parties and people 
X-WR-TIMEZONE;VALUE=TEXT:Europe/Berlin
CALSCALE:GREGORIAN
BEGIN:VTIMEZONE
TZID:Europe/Berlin
X-LIC-LOCATION:Europe/Berlin
BEGIN:DAYLIGHT
TZOFFSETFROM:+0100
TZOFFSETTO:+0200
TZNAME:CEST
DTSTART:19700329T020000
RRULE:FREQ=YEARLY;INTERVAL=1;BYDAY=-1SU;BYMONTH=3
END:DAYLIGHT
BEGIN:STANDARD
TZOFFSETFROM:+0200
TZOFFSETTO:+0100
TZNAME:CET
DTSTART:19701025T030000
RRULE:FREQ=YEARLY;INTERVAL=1;BYDAY=-1SU;BYMONTH=10
END:STANDARD
END:VTIMEZONE

BEGIN:VEVENT
UID:5d9af835492922a49762b16ce7b2bbb3
DTSTART:20240511T100000
DTEND:20240512T060000
LOCATION:Sucre [Bolivia]
GEO:10.400000000;-63.500000000
DTSTAMP:20240511T100000Z
SUMMARY:JARDIM DE OZ
DESCRIPTION:Line Up: Erofex Oz noize 369 Marmolatia Gema Emss Xinox Crinsound
  Location: Villa izabel, , Sucre
URL:https://www.goabase.net/party/jardim-de-oz/112653
CATEGORIES:Psytrance Event
CLASS:PUBLIC
END:VEVENT

END:VCALENDAR