BEGIN:VCALENDAR
VERSION:2.0
PRODID:goabase.net iCalendar 2026
X-WR-CALNAME:goabase.net - parties and people 
X-WR-TIMEZONE;VALUE=TEXT:Europe/Berlin
CALSCALE:GREGORIAN
BEGIN:VTIMEZONE
TZID:Europe/Berlin
X-LIC-LOCATION:Europe/Berlin
BEGIN:DAYLIGHT
TZOFFSETFROM:+0100
TZOFFSETTO:+0200
TZNAME:CEST
DTSTART:19700329T020000
RRULE:FREQ=YEARLY;INTERVAL=1;BYDAY=-1SU;BYMONTH=3
END:DAYLIGHT
BEGIN:STANDARD
TZOFFSETFROM:+0200
TZOFFSETTO:+0100
TZNAME:CET
DTSTART:19701025T030000
RRULE:FREQ=YEARLY;INTERVAL=1;BYDAY=-1SU;BYMONTH=10
END:STANDARD
END:VTIMEZONE

BEGIN:VEVENT
UID:16a3ce028b7e0f8c27d8c3ea0e430ae8
DTSTART:20110708T120000
DTEND:20110711T170000
LOCATION:Dasiko Chorio Pageo, Kavala [Greece]
GEO:0.000000000;0.000000000
DTSTAMP:20110708T120000Z
SUMMARY:HYBRID UV EVOLUTION Festival 2011
DESCRIPTION:Line Up: **LIVE ACTS** EAT STATIC (UK) Mesmobeat / TIP World/
  Interchill **2 hr Special Live Set** ETNICA / PLEIADIANS Etnicanet…
URL:https://www.goabase.net/festival/hybrid-uv-evolution-festival-2011/57644
CATEGORIES:Psytrance Event
CLASS:PUBLIC
END:VEVENT

BEGIN:VEVENT
UID:85a27adeff27224107ab32d343045a7f
DTSTART:20101008T230000
DTEND:20101009T060000
LOCATION:Athens, Greece [Greece]
GEO:0.000000000;0.000000000
DTSTAMP:20101008T230000Z
SUMMARY:HYBRID UV and ORGANIC DREAM present... HYBRID DREAM
DESCRIPTION:Line Up: &gt-&gt- FREAKULIZER ***LIVE*** (Alchemy Records) Freakulizer
  has been creating a stir in the psytrance scene since his…
URL:https://www.goabase.net/party/hybrid-uv-and-organic-dream-present-hybrid-dream/55529
CATEGORIES:Psytrance Event
CLASS:PUBLIC
END:VEVENT

BEGIN:VEVENT
UID:081a632f3ce9df32af909859ca240844
DTSTART:20100831T120000
DTEND:20100902T170000
LOCATION:Kavala, Dasiko Chorio Pange… [Greece]
GEO:40.980000000;24.159000000
DTSTAMP:20100831T120000Z
SUMMARY:HYBRID UV presents.. HYBRID RE-BIRTH
DESCRIPTION:Line Up: **LIVE** ARCHAIC (GR) (Wildthings Records) EVP (UK)
  (Wildthings Records) MR PECULIAR (AU) (Magnetic Pulse Records) PH…
URL:https://www.goabase.net/festival/hybrid-uv-presents-hybrid-re-birth/54035
CATEGORIES:Psytrance Event
CLASS:PUBLIC
END:VEVENT

END:VCALENDAR