BEGIN:VCALENDAR
VERSION:2.0
PRODID:goabase.net iCalendar 2026
X-WR-CALNAME:goabase.net - parties and people 
X-WR-TIMEZONE;VALUE=TEXT:Europe/Berlin
CALSCALE:GREGORIAN
BEGIN:VTIMEZONE
TZID:Europe/Berlin
X-LIC-LOCATION:Europe/Berlin
BEGIN:DAYLIGHT
TZOFFSETFROM:+0100
TZOFFSETTO:+0200
TZNAME:CEST
DTSTART:19700329T020000
RRULE:FREQ=YEARLY;INTERVAL=1;BYDAY=-1SU;BYMONTH=3
END:DAYLIGHT
BEGIN:STANDARD
TZOFFSETFROM:+0200
TZOFFSETTO:+0100
TZNAME:CET
DTSTART:19701025T030000
RRULE:FREQ=YEARLY;INTERVAL=1;BYDAY=-1SU;BYMONTH=10
END:STANDARD
END:VTIMEZONE

BEGIN:VEVENT
UID:f74a48cb90463d2f36f9c1b02515b508
DTSTART:20191123T230000
DTEND:20191124T100000
LOCATION:Sofia [Bulgaria]
GEO:42.697510000;23.324150000
DTSTAMP:20191123T230000Z
SUMMARY:Harmonic Vision: Cosmic Ritual
DESCRIPTION:Line Up: • MetaHuman // Knobs & Keys Records // Live Act [GR] •
  Psyonic // Knobs & Keys Records // Phrenetic Tales Records // [G…
URL:https://www.goabase.net/party/harmonic-vision-cosmic-ritual/104739
CATEGORIES:Psytrance Event
CLASS:PUBLIC
END:VEVENT

BEGIN:VEVENT
UID:fa2fe774ad23f3898ef59ff644934c05
DTSTART:20190525T230000
DTEND:20190526T100000
LOCATION:Sofia [Bulgaria]
GEO:42.697721100;23.322596400
DTSTAMP:20190525T230000Z
SUMMARY:Harmonic Vision: Twisted Momentum
DESCRIPTION:Line Up: ▻ Defect // RTBG (Rave Together BG) // BG ▻ Diablero // SomA
  Ritual Records // GR ▻ Dodecaedre // Artmospheric Festiva…
URL:https://www.goabase.net/party/harmonic-vision-twisted-momentum/103526
CATEGORIES:Psytrance Event
CLASS:PUBLIC
END:VEVENT

BEGIN:VEVENT
UID:8a508d5f2a577f13e476e0e566b64408
DTSTART:20190309T230000
DTEND:20190310T110000
LOCATION:Sofia [Bulgaria]
GEO:42.697721100;23.322596400
DTSTAMP:20190309T230000Z
SUMMARY:Harmonic Vision presents: Seeds of Creation
DESCRIPTION:Line Up: • Geo-G ( OverDope Records / GR ) • Diablero ( SomA Ritual
  Records / GR ) • Sotols ( Galactic Groove Records / GR ) •…
URL:https://www.goabase.net/party/harmonic-vision-presents-seeds-of-creation/102731
CATEGORIES:Psytrance Event
CLASS:PUBLIC
END:VEVENT

END:VCALENDAR