BEGIN:VCALENDAR
VERSION:2.0
PRODID:goabase.net iCalendar 2026
X-WR-CALNAME:goabase.net - parties and people 
X-WR-TIMEZONE;VALUE=TEXT:Europe/Berlin
CALSCALE:GREGORIAN
BEGIN:VTIMEZONE
TZID:Europe/Berlin
X-LIC-LOCATION:Europe/Berlin
BEGIN:DAYLIGHT
TZOFFSETFROM:+0100
TZOFFSETTO:+0200
TZNAME:CEST
DTSTART:19700329T020000
RRULE:FREQ=YEARLY;INTERVAL=1;BYDAY=-1SU;BYMONTH=3
END:DAYLIGHT
BEGIN:STANDARD
TZOFFSETFROM:+0200
TZOFFSETTO:+0100
TZNAME:CET
DTSTART:19701025T030000
RRULE:FREQ=YEARLY;INTERVAL=1;BYDAY=-1SU;BYMONTH=10
END:STANDARD
END:VTIMEZONE

BEGIN:VEVENT
UID:97d0241110ec0e170ae7ddfb948fc9ce
DTSTART:20190601T220000
DTEND:20190602T100000
LOCATION:Mülheim an der Ruhr [Germany]
GEO:51.443353300;6.903768800
DTSTAMP:20190601T220000Z
SUMMARY:Panaji
DESCRIPTION:Line Up: ▼ DJ’s Suriday ( Solar System ) DJane Jumanji ( Prog Tune
  Records ) Sundance ( Solar System ) One Sense ( Trallafitt…
URL:https://www.goabase.net/party/panaji/103880
CATEGORIES:Psytrance Event
CLASS:PUBLIC
END:VEVENT

BEGIN:VEVENT
UID:681c28f68477d611b2dde5426092858c
DTSTART:20190504T220000
DTEND:20190505T100000
LOCATION:Mülheim an der Ruhr [Germany]
GEO:51.443317000;6.901652400
DTSTAMP:20190504T220000Z
SUMMARY:Panaji
DESCRIPTION:Line Up: Suriday / Solar System DJane Jumanji / Prog Tune Rec. Insalvo
  / PSYKOLOGNE Sundance / Solar System One Sense / Trallafit…
URL:https://www.goabase.net/party/panaji/103603
CATEGORIES:Psytrance Event
CLASS:PUBLIC
END:VEVENT

END:VCALENDAR