BEGIN:VCALENDAR
VERSION:2.0
PRODID:goabase.net iCalendar 2026
X-WR-CALNAME:goabase.net - parties and people 
X-WR-TIMEZONE;VALUE=TEXT:Europe/Berlin
CALSCALE:GREGORIAN
BEGIN:VTIMEZONE
TZID:Europe/Berlin
X-LIC-LOCATION:Europe/Berlin
BEGIN:DAYLIGHT
TZOFFSETFROM:+0100
TZOFFSETTO:+0200
TZNAME:CEST
DTSTART:19700329T020000
RRULE:FREQ=YEARLY;INTERVAL=1;BYDAY=-1SU;BYMONTH=3
END:DAYLIGHT
BEGIN:STANDARD
TZOFFSETFROM:+0200
TZOFFSETTO:+0100
TZNAME:CET
DTSTART:19701025T030000
RRULE:FREQ=YEARLY;INTERVAL=1;BYDAY=-1SU;BYMONTH=10
END:STANDARD
END:VTIMEZONE

BEGIN:VEVENT
UID:596f250832c41118ab5afd504d39acb1
DTSTART:20140620T080000
DTEND:20140622T220000
LOCATION:Creativ Center Göritz [Germany]
GEO:0.000000000;0.000000000
DTSTAMP:20140620T080000Z
SUMMARY:PSYCROWDELICA - BACK TO THE ROOTS
DESCRIPTION:Line Up: LINE UP ___ ★ CANNIBAL CROW ( DE) Psycrowdelica ☆ DAVID &
  GOLIATH |DE| Psycrowdel…
URL:https://www.goabase.net/festival/psycrowdelica-back-to-the-roots/76520
CATEGORIES:Psytrance Event
CLASS:PUBLIC
END:VEVENT

BEGIN:VEVENT
UID:3c7c3eda5f4cb27f16f8c5390312e529
DTSTART:20131225T230000
DTEND:20131226T110000
LOCATION:berlin [Germany]
GEO:0.000000000;0.000000000
DTSTAMP:20131225T230000Z
SUMMARY:Psycrowdelica presents : "Anlauf statt Gleitgel "-X-mas Special !!!
DESCRIPTION:Line Up: LINE UP ____ ALPHA ANT ELEKTROENGEL KARPAXOS CANNIBAL CROW +
  INTERNATIONAL SURPRISE ACT
URL:https://www.goabase.net/party/psycrowdelica-presents-anlauf-statt-gleitgel-x-mas-special/75782
CATEGORIES:Psytrance Event
CLASS:PUBLIC
END:VEVENT

BEGIN:VEVENT
UID:9db174a6c577375526cf35d14bc4d3e6
DTSTART:20131221T230000
DTEND:20131222T170000
LOCATION:berlin [Germany]
GEO:0.000000000;0.000000000
DTSTAMP:20131221T230000Z
SUMMARY:LUZIFERS JUDAS - FALLEN ANGEL B-DAY BASH
DESCRIPTION:Line Up: Main Floor : Jibber Jabber ( Jibber Jabber Music ) present
  the new album !!!! Sonik Scizzor ( Dark Prisma Rec. ) present…
URL:https://www.goabase.net/party/luzifers-judas-fallen-angel-b-day-bash/73298
CATEGORIES:Psytrance Event
CLASS:PUBLIC
END:VEVENT

BEGIN:VEVENT
UID:76b556f8e4c629a5e5a3df1497daddf0
DTSTART:20130726T080000
DTEND:20130728T220000
LOCATION:Creativ Center Göritz [Germany]
GEO:0.000000000;0.000000000
DTSTAMP:20130726T080000Z
SUMMARY:PSYCROWDELICA -- REINCARNATION
DESCRIPTION:Line Up: TIME TABLE IS ONLINE ! ! ! SEE THE MEETINGPOINT ! ! ! ___…
URL:https://www.goabase.net/festival/psycrowdelica-reincarnation/68443
CATEGORIES:Psytrance Event
CLASS:PUBLIC
END:VEVENT

BEGIN:VEVENT
UID:4ca1dd83caddb5b491cfe31d6c7fca01
DTSTART:20121215T220000
DTEND:20121216T150000
LOCATION:Berlin [Germany]
GEO:0.000000000;0.000000000
DTSTAMP:20121215T220000Z
SUMMARY:Back from Hell - Cannibal Crow\\\'s Revival Birthday 
DESCRIPTION:Line Up: COSMO ( Noise Poison Rec. ) Slovakia QUANTUM MECHANICA ( Dark
  Prisma Rec. ) Argentina GLOSOLALIA ( Dark Prisma Rec.) Arg…
URL:https://www.goabase.net/party/back-from-hell-cannibal-crows-revival-birthday/67538
CATEGORIES:Psytrance Event
CLASS:PUBLIC
END:VEVENT

BEGIN:VEVENT
UID:50147ef2e6610a29ce800cf213ad67b4
DTSTART:20120727T080000
DTEND:20120729T220000
LOCATION:near Eisfeld [Germany]
GEO:0.000000000;0.000000000
DTSTAMP:20120727T080000Z
SUMMARY:PsyCrowDelica --- Fight Back !!!!
DESCRIPTION:Line Up: Electrypnose ( 2 to 6 Rec.) CH 4 h Spezial Psycrow Opening
  Set Psykovsky ( Tantrumm Rec./Osom Music ) RU Ogoun ( Alice D…
URL:https://www.goabase.net/festival/psycrowdelica-fight-back/62070
CATEGORIES:Psytrance Event
CLASS:PUBLIC
END:VEVENT

BEGIN:VEVENT
UID:c66c0731fe5cd264403b78a3202457ca
DTSTART:20120324T220000
DTEND:20120325T150000
LOCATION:Berlin [Germany]
GEO:0.000000000;0.000000000
DTSTAMP:20120324T220000Z
SUMMARY:Psychedelic Spring Break -- Tripple B-Day Bash
DESCRIPTION:Line Up: &#9733- KINDZA | RUS Osom-Music &#9733- M.M.C. | RUS - First
  Time in Germany Tekkin' Over Records / F.P.T. &#9733- MU…
URL:https://www.goabase.net/party/psychedelic-spring-break-tripple-b-day-bash/62191
CATEGORIES:Psytrance Event
CLASS:PUBLIC
END:VEVENT

BEGIN:VEVENT
UID:1312100eda8dcb5c91802d3f31089f62
DTSTART:20110729T080000
DTEND:20110731T220000
LOCATION:Drebkau - Göritz [Germany]
GEO:0.000000000;0.000000000
DTSTAMP:20110729T080000Z
SUMMARY:PsyCrowDelica --- Psychedelic Destination
DESCRIPTION:Line Up: Abralabim ( Discovalley Rec / Germany ) Ankur ( Seres Music /
  Germany ) Ant ( Mind Expansion / Germany ) Arjuna ( Parvat…
URL:https://www.goabase.net/festival/psycrowdelica-psychedelic-destination/55451
CATEGORIES:Psytrance Event
CLASS:PUBLIC
END:VEVENT

BEGIN:VEVENT
UID:0f6dbeff32402a232e5148a8c4d3a58a
DTSTART:20110326T220000
DTEND:20110327T140000
LOCATION:Berlin [Germany]
GEO:0.000000000;0.000000000
DTSTAMP:20110326T220000Z
SUMMARY:5 Years Psycrowdelica - BOOOOOOM-CTC & Cannibal Crow's B-day
DESCRIPTION:Line Up: CTCDROPE ( Biomechanikal / Temple Twisters / Kamino Rec.)
  present the new VA &quot;Psynesthesia&quot; by Biomechanikal R…
URL:https://www.goabase.net/party/5-years-psycrowdelica-boooooom-ctc-cannibal-crows-b-day/54623
CATEGORIES:Psytrance Event
CLASS:PUBLIC
END:VEVENT

BEGIN:VEVENT
UID:4e62d734f0dc07372148975f6bb60e18
DTSTART:20101218T220000
DTEND:20101220T060000
LOCATION:Cape Town [South Africa]
GEO:0.000000000;0.000000000
DTSTAMP:20101218T220000Z
SUMMARY:Noisy Radicals & Psycrowdelica presents " A Dotty Day Out "
DESCRIPTION:Line Up: Loose Connection (Free Radical Records) Paralocks (Free
  Radical Records) Psymmetrix (Bom Shanka Music) Bombax (Free Radi…
URL:https://www.goabase.net/party/noisy-radicals-psycrowdelica-presents-a-dotty-day-out/55914
CATEGORIES:Psytrance Event
CLASS:PUBLIC
END:VEVENT

BEGIN:VEVENT
UID:7979714e308c7d8eb513ff0a815edc3d
DTSTART:20100702T080000
DTEND:20100704T220000
LOCATION:03116 Drebkau - Göritz/ [Germany]
GEO:0.000000000;0.000000000
DTSTAMP:20100702T080000Z
SUMMARY:Psycrowdelica Wedding 
DESCRIPTION:Line Up: PsyCrowdelica Floor: Cosmo ( Noise Poison Records / Slovakia
  ) Ectogasmics (AntiShanti Records / Germany - Sweden) Ender…
URL:https://www.goabase.net/festival/psycrowdelica-wedding/48555
CATEGORIES:Psytrance Event
CLASS:PUBLIC
END:VEVENT

BEGIN:VEVENT
UID:33e2a5c1b0391fe4ea7d4713786108dd
DTSTART:20100326T220000
DTEND:20100327T140000
LOCATION:Berlin [Germany]
GEO:0.000000000;0.000000000
DTSTAMP:20100326T220000Z
SUMMARY:Monis Birthday- only with friends
DESCRIPTION:Line Up: Psykovsky ( Tantrumm Rec./Osom Music ) Russia Ectogasmics (
  Antishanti Rec) Germany / Schweden
URL:https://www.goabase.net/party/monis-birthday-only-with-friends/50487
CATEGORIES:Psytrance Event
CLASS:PUBLIC
END:VEVENT

BEGIN:VEVENT
UID:1945cebf26cd13075e5c4e7894c25d4b
DTSTART:20091219T220000
DTEND:20091220T120000
LOCATION:Berlin [Germany]
GEO:0.000000000;0.000000000
DTSTAMP:20091219T220000Z
SUMMARY:PSYCROWDELICA - Cannibal Crow's International Birthday Crash
DESCRIPTION:Line Up: PSYCROWDELICA FLOOR Enichkin ( Avatar Rec. ) Russia --- first
  time in Germany Zero - Blade ( Triplag Music ) Bulgaria --…
URL:https://www.goabase.net/party/psycrowdelica-cannibal-crows-international-birthday-crash/46399
CATEGORIES:Psytrance Event
CLASS:PUBLIC
END:VEVENT

BEGIN:VEVENT
UID:88f76c55482266587e475837d54292f1
DTSTART:20090703T090000
DTEND:20090705T210000
LOCATION:Vetschau / 03116 Drebkau -… [Germany]
GEO:0.000000000;0.000000000
DTSTAMP:20090703T090000Z
SUMMARY:PSYCROWDELICA --Music and Art Festival
DESCRIPTION:Line Up: Alien Mental (Echo Vortex Records / India) Highko (Noise
  Poison Records / Germany) Cosmo (Noise Poison Records / Slovaki…
URL:https://www.goabase.net/festival/psycrowdelica-music-and-art-festival/44061
CATEGORIES:Psytrance Event
CLASS:PUBLIC
END:VEVENT

BEGIN:VEVENT
UID:105ceb94fa1e31f786fef72fd13fe96b
DTSTART:20081213T220000
DTEND:20081214T160000
LOCATION:Berlin [Germany]
GEO:0.000000000;0.000000000
DTSTAMP:20081213T220000Z
SUMMARY:" Terror for Friends "aka PsyCrowDelica meets Mind Expansion
DESCRIPTION:Line Up: !!!! Special Act !!!! PSYKOVSKY osom music / tantrum rec.
  RUSSIA &&&&& COSMO noise-poison rec. SLOVAKIA TERRANO…
URL:https://www.goabase.net/party/terror-for-friends-aka-psycrowdelica-meets-mind-expansion/38116
CATEGORIES:Psytrance Event
CLASS:PUBLIC
END:VEVENT

END:VCALENDAR