BEGIN:VCALENDAR
VERSION:2.0
PRODID:goabase.net iCalendar 2026
X-WR-CALNAME:goabase.net - parties and people 
X-WR-TIMEZONE;VALUE=TEXT:Europe/Berlin
CALSCALE:GREGORIAN
BEGIN:VTIMEZONE
TZID:Europe/Berlin
X-LIC-LOCATION:Europe/Berlin
BEGIN:DAYLIGHT
TZOFFSETFROM:+0100
TZOFFSETTO:+0200
TZNAME:CEST
DTSTART:19700329T020000
RRULE:FREQ=YEARLY;INTERVAL=1;BYDAY=-1SU;BYMONTH=3
END:DAYLIGHT
BEGIN:STANDARD
TZOFFSETFROM:+0200
TZOFFSETTO:+0100
TZNAME:CET
DTSTART:19701025T030000
RRULE:FREQ=YEARLY;INTERVAL=1;BYDAY=-1SU;BYMONTH=10
END:STANDARD
END:VTIMEZONE

BEGIN:VEVENT
UID:8a87a100332284290dc8fcf024d134f1
DTSTART:20260508T220000
DTEND:20260509T030000
LOCATION:Bergen [Norway]
GEO:50.500000000;4.000000000
DTSTAMP:20260508T220000Z
SUMMARY:LIQUID SPARKS
DESCRIPTION:Line Up: Beautiful Friends, we are super happy to invite you to Liquid
  Sparks - a night of pure psychedelic magic & delights!🧡 Wi… Location:
  Cornerteateret, Kong Christian Frederiks plass 3, 5006 BERGEN
URL:https://www.goabase.net/party/liquid-sparks/117481
CATEGORIES:Psytrance Event
CLASS:PUBLIC
END:VEVENT

BEGIN:VEVENT
UID:05ec92aabb8e49df11ec7baf7d3ebce3
DTSTART:20260417T220000
DTEND:20260418T030000
LOCATION:Bergen [Norway]
GEO:50.500000000;4.000000000
DTSTAMP:20260417T220000Z
SUMMARY:Protoned SPARKS
DESCRIPTION:Line Up: SPARKS DANCE ARENA invites you to a night of deep grooves,
  driving basslines and psychedelic energy at Cornerteateret on…
  Location: Cornerteateret, Kong Christian Frederiks plass 4, 5006 BERGEN
URL:https://www.goabase.net/party/protoned-sparks/117288
CATEGORIES:Psytrance Event
CLASS:PUBLIC
END:VEVENT

BEGIN:VEVENT
UID:05e8fa5035d1086fb63e20575a5ebf05
DTSTART:20251220T210000
DTEND:20251221T030000
LOCATION:Bergen [Norway]
GEO:50.500000000;4.000000000
DTSTAMP:20251220T210000Z
SUMMARY:SPARKS - YULETIDE
DESCRIPTION:Line Up: ✨ Teltplugg Klubben Norwegian duo Tveitrance & Dinosaudius
  bring the raw energy that started in a garage and grew into f…
  Location: Cornerteateret, Kong Christian Fredriks plass 4, 5006 BERGEN
URL:https://www.goabase.net/party/sparks-yuletide/116567
CATEGORIES:Psytrance Event
CLASS:PUBLIC
END:VEVENT

BEGIN:VEVENT
UID:8feca036faea9a4ec0e0a6ebf2e4b86e
DTSTART:20250412T213000
DTEND:20250413T030000
LOCATION:Bergen [Norway]
GEO:50.500000000;4.000000000
DTSTAMP:20250412T213000Z
SUMMARY:SPARKS - SENSIENT - TROLD
DESCRIPTION:Line Up: 🔥 SPARKS DANCE ARENA – 5-YEAR ANNIVERSARY 🔥 Get ready for an
  unforgettable night as Sparks Dance Arena marks 5 years of… Location:
  Kulturhuset i Bergen, Lillesalen, Vaskerelven 8, Bergen
URL:https://www.goabase.net/party/sparks-sensient-trold/114587
CATEGORIES:Psytrance Event
CLASS:PUBLIC
END:VEVENT

BEGIN:VEVENT
UID:b255817581e248bdcd1d22c42a504a14
DTSTART:20250208T213000
DTEND:20250209T033000
LOCATION:Bergen [Norway]
GEO:50.500000000;4.000000000
DTSTAMP:20250208T213000Z
SUMMARY:SPARKS - KICKOFF 2025
DESCRIPTION:Line Up: Get Ready for Sparks Dance Arena! Kick off 2025 with an
  unforgettable night of pulsating beats and a floor packed with p…
  Location: Børsklubben, Vågsalmenningen 1, Bergen
URL:https://www.goabase.net/party/sparks-kickoff-2025/114540
CATEGORIES:Psytrance Event
CLASS:PUBLIC
END:VEVENT

BEGIN:VEVENT
UID:3d405ed43851762ee07b4b1301fabb0b
DTSTART:20241221T213000
DTEND:20241222T030000
LOCATION:Bergen [Norway]
GEO:50.500000000;4.000000000
DTSTAMP:20241221T213000Z
SUMMARY:SPARKS Xmas SPECIAL EDITION
DESCRIPTION:Line Up: 🎄✨ Sparks Dance Arena Presents: The X-Mas Special ✨🎄 🎧 21st
  of December | Winter Solstice | Studio USF Verftet 🎶 On the… Location:
  STUDIO USF VERFTET, Georgernes Verft 12, 5011 Bergen
URL:https://www.goabase.net/party/sparks-xmas-special-edition/114180
CATEGORIES:Psytrance Event
CLASS:PUBLIC
END:VEVENT

BEGIN:VEVENT
UID:fd78299f55c4cff3d0880cdd555509d4
DTSTART:20241116T210000
DTEND:20241117T023000
LOCATION:Bergen [Norway]
GEO:60.382410000;5.325380000
DTSTAMP:20241116T210000Z
SUMMARY:SPARKS - MECHANICAL DIALECT - DINOSAUDIUS - ONDREJ PSYLA
DESCRIPTION:Line Up: Mark your calendars for November 16th and get ready to step
  into a world of electrifying sound, mesmerizing lights, and… Location:
  Cornerteateret, Kong Christian Fredriks plass 4, BERGEN
URL:https://www.goabase.net/party/sparks-mechanical-dialect-dinosaudius-ondrej-psyla/113943
CATEGORIES:Psytrance Event
CLASS:PUBLIC
END:VEVENT

BEGIN:VEVENT
UID:277e4888118f151e140e468012364aaf
DTSTART:20241012T213000
DTEND:20241013T030000
LOCATION:Bergen [Norway]
GEO:50.500000000;4.000000000
DTSTAMP:20241012T213000Z
SUMMARY:SPARKS - MENTAL PROJECTION
DESCRIPTION:Line Up: The countdown is on! Sparks Dance Arena returns on October
  12th, and we’re bring a lineup guaranteed to set the dance… Location:
  Kulturhuset i Bergen, Lillesalen, Vaskerelven 8, Bergen
URL:https://www.goabase.net/party/sparks-mental-projection/113740
CATEGORIES:Psytrance Event
CLASS:PUBLIC
END:VEVENT

BEGIN:VEVENT
UID:102f8f8682c847027a4b5d7aa6ff9bee
DTSTART:20240511T213000
DTEND:20240512T030000
LOCATION:Bergen [Norway]
GEO:60.300000000;5.300000000
DTSTAMP:20240511T213000Z
SUMMARY:SPARKS - FLORESCENCE - WITCH PRINCESS - OLDBOY
DESCRIPTION:Line Up: FLORESCENCE- is one of the rising stars in the psytrance
  scene, best known and loved for her funky, groovy, high energy…
  Location: Stereo, Christies gate 14, 5015 Bergen
URL:https://www.goabase.net/party/sparks-florescence-witch-princess-oldboy/112859
CATEGORIES:Psytrance Event
CLASS:PUBLIC
END:VEVENT

BEGIN:VEVENT
UID:9ebe5e2c7a4a7e6aa6f26d5fda126fea
DTSTART:20240316T213000
DTEND:20240317T030000
LOCATION:Bergen [Norway]
GEO:60.300000000;5.300000000
DTSTAMP:20240316T213000Z
SUMMARY:SPARKS - LABRAT - WOOS - LARS
DESCRIPTION:Line Up: 21:30-00:00 LARS TØMMERÅS (DJ, NO) 00:30-01:00 WOOS (LABLE
  DJ, DK) (Protoned music) 01:00-02:30 LABRAT (LIVE, DK) (Proto…
  Location: Stereo, Bar, Christies gate 14, 5015 Bergen
URL:https://www.goabase.net/party/sparks-labrat-woos-lars/112459
CATEGORIES:Psytrance Event
CLASS:PUBLIC
END:VEVENT

BEGIN:VEVENT
UID:1d73e4a4f124cdd8b51fb5fcf6e40ea2
DTSTART:20240217T213000
DTEND:20240218T030000
LOCATION:Bergen [Norway]
GEO:60.300000000;5.300000000
DTSTAMP:20240217T213000Z
SUMMARY:SPARKS - OxyFlux, Krypto & DinosAudius
DESCRIPTION:Line Up: 21:30-00:00 Dinosaudius 00:00-01:00 Krypto(live) 01:00-02:30
  OxyFlux(live) 💫 OxyFlux: Experience the ingenious blend of… Location:
  Stereo, Bar, Christies gate 14, 5015 Bergen
URL:https://www.goabase.net/party/sparks-oxyflux-krypto-dinosaudius/112330
CATEGORIES:Psytrance Event
CLASS:PUBLIC
END:VEVENT

BEGIN:VEVENT
UID:0e4209ead5457c46bd2cd6c06380f4c3
DTSTART:20200313T230000
DTEND:20200314T023000
LOCATION:Bergen [Norway]
GEO:60.392990000;5.324150000
DTSTAMP:20200313T230000Z
SUMMARY:SPARKS Dance Arena - First official
DESCRIPTION:Line Up: 23:00 - Dj Deigleik 24:00 - Dinosaudius 01:00 - Trold
URL:https://www.goabase.net/party/sparks-dance-arena-first-official/106576
CATEGORIES:Psytrance Event
CLASS:PUBLIC
END:VEVENT

END:VCALENDAR