BEGIN:VCALENDAR
VERSION:2.0
PRODID:goabase.net iCalendar 2026
X-WR-CALNAME:goabase.net - parties and people 
X-WR-TIMEZONE;VALUE=TEXT:Europe/Berlin
CALSCALE:GREGORIAN
BEGIN:VTIMEZONE
TZID:Europe/Berlin
X-LIC-LOCATION:Europe/Berlin
BEGIN:DAYLIGHT
TZOFFSETFROM:+0100
TZOFFSETTO:+0200
TZNAME:CEST
DTSTART:19700329T020000
RRULE:FREQ=YEARLY;INTERVAL=1;BYDAY=-1SU;BYMONTH=3
END:DAYLIGHT
BEGIN:STANDARD
TZOFFSETFROM:+0200
TZOFFSETTO:+0100
TZNAME:CET
DTSTART:19701025T030000
RRULE:FREQ=YEARLY;INTERVAL=1;BYDAY=-1SU;BYMONTH=10
END:STANDARD
END:VTIMEZONE

BEGIN:VEVENT
UID:19a1645f5ea2f2d1a4dfea5e3aaa678a
DTSTART:20190921T220000
DTEND:20190922T110000
LOCATION:Hamburg [Germany]
GEO:53.575320000;10.015340000
DTSTAMP:20190921T220000Z
SUMMARY:Earthdance Hamburg
DESCRIPTION:Line Up: Liveacts: Neuro Twister (Higher Voltage Rec) TheJihila
  (Treeverb Records) Error in Dimension (Alice D Records)Microorg…
URL:https://www.goabase.net/party/earthdance-hamburg/104502
CATEGORIES:Psytrance Event
CLASS:PUBLIC
END:VEVENT

BEGIN:VEVENT
UID:2d9815363ab17a7a6204345624d709f5
DTSTART:20180922T220000
DTEND:20180923T120000
LOCATION:Hamburg [Germany]
GEO:53.550342600;10.000654200
DTSTAMP:20180922T220000Z
SUMMARY:Earthdance Hamburg
DESCRIPTION:Line Up: Antaro (Spirit Zone) Mat Mushroom (Mushroom Magazine) Djane
  Melburn (Landmark Rec / Y.S.E.) Klaustrophobia (OV-Silenc…
URL:https://www.goabase.net/party/earthdance-hamburg/97607
CATEGORIES:Psytrance Event
CLASS:PUBLIC
END:VEVENT

BEGIN:VEVENT
UID:ccd4fc54038de849ede9a440a7929d4d
DTSTART:20170923T220000
DTEND:20170924T120000
LOCATION:Hamburg [Germany]
GEO:53.550342600;10.000654200
DTSTAMP:20170923T220000Z
SUMMARY:Earthdance Hamburg
DESCRIPTION:Line Up: Painkiller (Nutek Rec) Francis (Freunde Der Sonne / Sun
  Network / SDR Rec) Bazooka (EnterRec) Psy-To-Delic (Sun Depar…
URL:https://www.goabase.net/party/earthdance-hamburg/92390
CATEGORIES:Psytrance Event
CLASS:PUBLIC
END:VEVENT

BEGIN:VEVENT
UID:e4592ef446e0da4a8806361ce17b1c96
DTSTART:20170407T220000
DTEND:20170408T100000
LOCATION:Hamburg [Germany]
GEO:53.550342600;10.000654200
DTSTAMP:20170407T220000Z
SUMMARY:Desert Dance -Karawane zur Sonne - Pre Party - Francis Birthday
DESCRIPTION:Line Up: As usual we will have a selection of Progressive, Fullon and
  Dark! A musical journey from take-off to landing. BAZOOKA /…
URL:https://www.goabase.net/party/desert-dance-karawane-zur-sonne-pre-party-francis-birthday/93361
CATEGORIES:Psytrance Event
CLASS:PUBLIC
END:VEVENT

BEGIN:VEVENT
UID:7b5639b98422dd7f57ba9f4357878445
DTSTART:20160917T220000
DTEND:20160918T120000
LOCATION:Hamburg [Germany]
GEO:53.550342600;10.000654200
DTSTAMP:20160917T220000Z
SUMMARY:Earthdance Hamburg
DESCRIPTION:Line Up: Internationales Line up is coming soon
URL:https://www.goabase.net/party/earthdance-hamburg/87027
CATEGORIES:Psytrance Event
CLASS:PUBLIC
END:VEVENT

BEGIN:VEVENT
UID:ec2915ec54e2309b16992ffcf216069b
DTSTART:20150919T220000
DTEND:20150920T100000
LOCATION:Hamburg [Germany]
GEO:53.497173300;9.978908500
DTSTAMP:20150919T220000Z
SUMMARY:Earthdance Hamburg "Awakening"
DESCRIPTION:Line Up: CHRIZZLIX (FDS / Sun Department Rec.) + Live & Dj Set +
  Facebook: Artistinfo & Sound: -----…
URL:https://www.goabase.net/party/earthdance-hamburg-awakening/85368
CATEGORIES:Psytrance Event
CLASS:PUBLIC
END:VEVENT

BEGIN:VEVENT
UID:4c411ad7588a40e6a71b552ea0c20112
DTSTART:20150402T210000
DTEND:20150406T140000
LOCATION:Dahab - South Sinai [Egypt]
GEO:0.000000000;0.000000000
DTSTAMP:20150402T210000Z
SUMMARY:18 Years "Freunde Der Sonne" ( FDS ) @ Desert Dance Festival Year IV
DESCRIPTION:
URL:https://www.goabase.net/festival/18-years-freunde-der-sonne-fds-desert-dance-festival-year-iv/71451
CATEGORIES:Psytrance Event
CLASS:PUBLIC
END:VEVENT

BEGIN:VEVENT
UID:90331287d70396287f1b8badc1c0c8c8
DTSTART:20140920T220000
DTEND:20140921T120000
LOCATION:Hamburg [Germany]
GEO:53.583419300;9.722987058
DTSTAMP:20140920T220000Z
SUMMARY:EARTHDANCE HAMBURG
DESCRIPTION:Line Up: Lars Lee - Dj + Live Guitar (Lonely Forest Project) Alpha &
  Antagon - Dj & Live (Interzone-pa) Mirco Chromee (Psychede…
URL:https://www.goabase.net/party/earthdance-hamburg/79005
CATEGORIES:Psytrance Event
CLASS:PUBLIC
END:VEVENT

BEGIN:VEVENT
UID:878dbaac9a9f07caded316a1e2b06d78
DTSTART:20140517T220000
DTEND:20140518T100000
LOCATION:Hamburg [Germany]
GEO:53.549546800;10.022533900
DTSTAMP:20140517T220000Z
SUMMARY:Simsala Sun - The Gathering of the Sun Family
DESCRIPTION:Line Up: Live: Psycobold (with his new EP &quot;All Suns Dawn&quot; on
  Sun Department Rec) Dj´s: Francis Raa Moon Chrizzlix…
URL:https://www.goabase.net/party/simsala-sun-the-gathering-of-the-sun-family/78839
CATEGORIES:Psytrance Event
CLASS:PUBLIC
END:VEVENT

BEGIN:VEVENT
UID:71409b2e74c7da334e95c50fadd1ef52
DTSTART:20130921T220000
DTEND:20130922T120000
LOCATION:Hamburg [Germany]
GEO:53.588233500;9.920155000
DTSTAMP:20130921T220000Z
SUMMARY:Earthdance Hamburg
DESCRIPTION:Line Up: Wootz (Sun Department
  Rec.)www.facebook.com/pages/WooTz/188373734560652
URL:https://www.goabase.net/party/earthdance-hamburg/72162
CATEGORIES:Psytrance Event
CLASS:PUBLIC
END:VEVENT

BEGIN:VEVENT
UID:accaf63787a93e986dc6b14f66157813
DTSTART:20130309T220000
DTEND:20130310T120000
LOCATION:Hamburg [Germany]
GEO:53.595124173;9.905624365
DTSTAMP:20130309T220000Z
SUMMARY:Freunde Der Sonne - Heimspiel
DESCRIPTION:Line Up: ELECTRIC NOIZE [Psycana] - Austria MYSTERIOUS SOUNDSTATION
  (Triptychon Rec./Mysterious Lights) - Germany .
URL:https://www.goabase.net/party/freunde-der-sonne-heimspiel/66019
CATEGORIES:Psytrance Event
CLASS:PUBLIC
END:VEVENT

BEGIN:VEVENT
UID:718800d0ba298d37c4b1e32521fbebc3
DTSTART:20120922T200000
DTEND:20120923T120000
LOCATION:Hamburg [Germany]
GEO:53.593769084;9.832570085
DTSTAMP:20120922T200000Z
SUMMARY:Earthdance Hamburg - Global Festival For Peace
DESCRIPTION:
URL:https://www.goabase.net/party/earthdance-hamburg-global-festival-for-peace/65263
CATEGORIES:Psytrance Event
CLASS:PUBLIC
END:VEVENT

BEGIN:VEVENT
UID:c975e700b0436aba86e511248f63cdf8
DTSTART:20120719T220000
DTEND:20120720T100000
LOCATION:Hamburg - St.Pauli [Germany]
GEO:0.000000000;0.000000000
DTSTAMP:20120719T220000Z
SUMMARY:Kiezbeats
DESCRIPTION:
URL:https://www.goabase.net/party/kiezbeats/67605
CATEGORIES:Psytrance Event
CLASS:PUBLIC
END:VEVENT

BEGIN:VEVENT
UID:07375d914443062ffe004c78486c05ef
DTSTART:20120502T220000
DTEND:20120503T060000
LOCATION:Dahab - South Sinai [Egypt]
GEO:0.000000000;0.000000000
DTSTAMP:20120502T220000Z
SUMMARY:FDS Goatrance Night 2
DESCRIPTION:
URL:https://www.goabase.net/party/fds-goatrance-night-2/66448
CATEGORIES:Psytrance Event
CLASS:PUBLIC
END:VEVENT

BEGIN:VEVENT
UID:fb9ddd10f48a61fe347028b74c6c2235
DTSTART:20120427T220000
DTEND:20120428T040000
LOCATION:Dahab [Egypt]
GEO:0.000000000;0.000000000
DTSTAMP:20120427T220000Z
SUMMARY:FDS Goatrance Night
DESCRIPTION:
URL:https://www.goabase.net/party/fds-goatrance-night/66447
CATEGORIES:Psytrance Event
CLASS:PUBLIC
END:VEVENT

BEGIN:VEVENT
UID:1ee7ebcfa0c8aebf20e81a9f58940ad2
DTSTART:20120408T010000
DTEND:20120408T233000
LOCATION:Dahab [Egypt]
GEO:0.000000000;0.000000000
DTSTAMP:20120408T010000Z
SUMMARY:Friede, Freude,Freakadelica  - Francis B´ Day Party
DESCRIPTION:
URL:https://www.goabase.net/party/friede-freudefreakadelica-francis-b-day-party/61121
CATEGORIES:Psytrance Event
CLASS:PUBLIC
END:VEVENT

BEGIN:VEVENT
UID:88599c699a994ba8238824e07ef1bf29
DTSTART:20120204T213000
DTEND:20120205T140000
LOCATION:Hamburg [Germany]
GEO:0.000000000;0.000000000
DTSTAMP:20120204T213000Z
SUMMARY:15 Jahre Freunde Der Sonne 
DESCRIPTION:
URL:https://www.goabase.net/party/15-jahre-freunde-der-sonne/57476
CATEGORIES:Psytrance Event
CLASS:PUBLIC
END:VEVENT

BEGIN:VEVENT
UID:bd219ebcca92d5c5fea807a6627d9e1b
DTSTART:20120120T220000
DTEND:20120121T120000
LOCATION:Hamburg City [Germany]
GEO:0.000000000;0.000000000
DTSTAMP:20120120T220000Z
SUMMARY:Rausch & Flausch Part 2
DESCRIPTION:
URL:https://www.goabase.net/party/rausch-flausch-part-2/61777
CATEGORIES:Psytrance Event
CLASS:PUBLIC
END:VEVENT

BEGIN:VEVENT
UID:9bb49805b8c7abc1ec219d61ecf3580c
DTSTART:20110924T210000
DTEND:20110925T160000
LOCATION:Hamburg [Germany]
GEO:0.000000000;0.000000000
DTSTAMP:20110924T210000Z
SUMMARY:EARTHDANCE HAMBURG
DESCRIPTION:
URL:https://www.goabase.net/party/earthdance-hamburg/58529
CATEGORIES:Psytrance Event
CLASS:PUBLIC
END:VEVENT

BEGIN:VEVENT
UID:ed270bd5d7fca3a4fef49c97e31aac40
DTSTART:20110709T180000
DTEND:20110710T140000
LOCATION:Hamburg -Umsonst & Draussen… [Germany]
GEO:0.000000000;0.000000000
DTSTAMP:20110709T180000Z
SUMMARY:Half Moon Party 
DESCRIPTION:
URL:https://www.goabase.net/party/half-moon-party/54755
CATEGORIES:Psytrance Event
CLASS:PUBLIC
END:VEVENT

END:VCALENDAR