BEGIN:VCALENDAR
VERSION:2.0
PRODID:goabase.net iCalendar 2026
X-WR-CALNAME:goabase.net - parties and people 
X-WR-TIMEZONE;VALUE=TEXT:Europe/Berlin
CALSCALE:GREGORIAN
BEGIN:VTIMEZONE
TZID:Europe/Berlin
X-LIC-LOCATION:Europe/Berlin
BEGIN:DAYLIGHT
TZOFFSETFROM:+0100
TZOFFSETTO:+0200
TZNAME:CEST
DTSTART:19700329T020000
RRULE:FREQ=YEARLY;INTERVAL=1;BYDAY=-1SU;BYMONTH=3
END:DAYLIGHT
BEGIN:STANDARD
TZOFFSETFROM:+0200
TZOFFSETTO:+0100
TZNAME:CET
DTSTART:19701025T030000
RRULE:FREQ=YEARLY;INTERVAL=1;BYDAY=-1SU;BYMONTH=10
END:STANDARD
END:VTIMEZONE

BEGIN:VEVENT
UID:70ab6e96a2f4025ffd1f5b3e40e520e6
DTSTART:20230908T170000
DTEND:20230909T203000
LOCATION:brussels [Belgium]
GEO:50.800000000;4.400000000
DTSTAMP:20230908T170000Z
SUMMARY:MEDITATION GARDEN / 20 YEARS OF BOOMSHANKAR PROD /
DESCRIPTION:Line Up: ❂MAIN STAGE ❂ ♦️ALCHEMY CIRCLE // Brazil ♦️NAKED TOURIST //
  Germany ♦️KNOBS // Croatia ♦️FISHEYE // Chilli ♦️T… Location: belgium
  south, , brussels
URL:https://www.goabase.net/party/meditation-garden-20-years-of-boomshankar-prod/110615
CATEGORIES:Psytrance Event
CLASS:PUBLIC
END:VEVENT

BEGIN:VEVENT
UID:54a359531bad66612d999e449bdb40c5
DTSTART:20190531T150000
DTEND:20190601T200000
LOCATION:brussels [Belgium]
GEO:50.846542400;4.351684100
DTSTAMP:20190531T150000Z
SUMMARY:Meditation Garden
DESCRIPTION:Line Up: LINE UP ▬ ▬Main Stage▬ ▬ -Kromagon (USA) - Zenon Records 🔊…
URL:https://www.goabase.net/party/meditation-garden/103503
CATEGORIES:Psytrance Event
CLASS:PUBLIC
END:VEVENT

BEGIN:VEVENT
UID:13b7ed0b979fa962b7bf1458909dd2ae
DTSTART:20190316T210000
DTEND:20190317T060000
LOCATION:Brussels [Belgium]
GEO:50.846542400;4.351684100
DTSTAMP:20190316T210000Z
SUMMARY:BoOMshankar
DESCRIPTION:Line Up: ▬ TECHNO / PSYTECHNO / PSYGRESSIVE / PSYTRANCE Airi From
  Switzerland - Part of the famous label…
URL:https://www.goabase.net/party/boomshankar/102998
CATEGORIES:Psytrance Event
CLASS:PUBLIC
END:VEVENT

END:VCALENDAR