BEGIN:VCALENDAR
VERSION:2.0
PRODID:goabase.net iCalendar 2026
X-WR-CALNAME:goabase.net - parties and people 
X-WR-TIMEZONE;VALUE=TEXT:Europe/Berlin
CALSCALE:GREGORIAN
BEGIN:VTIMEZONE
TZID:Europe/Berlin
X-LIC-LOCATION:Europe/Berlin
BEGIN:DAYLIGHT
TZOFFSETFROM:+0100
TZOFFSETTO:+0200
TZNAME:CEST
DTSTART:19700329T020000
RRULE:FREQ=YEARLY;INTERVAL=1;BYDAY=-1SU;BYMONTH=3
END:DAYLIGHT
BEGIN:STANDARD
TZOFFSETFROM:+0200
TZOFFSETTO:+0100
TZNAME:CET
DTSTART:19701025T030000
RRULE:FREQ=YEARLY;INTERVAL=1;BYDAY=-1SU;BYMONTH=10
END:STANDARD
END:VTIMEZONE

BEGIN:VEVENT
UID:de145c7feff64f1fe6680c908ffaf2fd
DTSTART:20230707T220000
DTEND:20230708T060000
LOCATION:Espoo [Finland]
GEO:60.200000000;24.600000000
DTSTAMP:20230707T220000Z
SUMMARY:Elektroniset Tanssit w. Dreaml4nd
DESCRIPTION:Line Up: Dreaml4nd Luminescent Paul Eye Pootis Location: UG, , 02150
  Espoo
URL:https://www.goabase.net/party/elektroniset-tanssit-w-dreaml4nd/110790
CATEGORIES:Psytrance Event
CLASS:PUBLIC
END:VEVENT

BEGIN:VEVENT
UID:4a9b395203e9449fde6d6cf88e7a56aa
DTSTART:20230609T220000
DTEND:20230610T060000
LOCATION:Helsinki [Finland]
GEO:60.171160000;24.932650000
DTSTAMP:20230609T220000Z
SUMMARY:Elektroniset Tanssit w. Dreaml4nd
DESCRIPTION:Line Up: Dreaml4nd More TBA Location: UG, ,  Helsinki
URL:https://www.goabase.net/party/elektroniset-tanssit-w-dreaml4nd/110400
CATEGORIES:Psytrance Event
CLASS:PUBLIC
END:VEVENT

BEGIN:VEVENT
UID:3e13ec304e513898efc7314d3b9538d9
DTSTART:20220923T230000
DTEND:20220924T043000
LOCATION:Helsinki [Finland]
GEO:60.167408600;24.942568300
DTSTAMP:20220923T230000Z
SUMMARY:Trip To Goa Presents: Globular Live (UK), Aegonox 20Y
DESCRIPTION:Line Up: Globular Live (UK, FeelLifeMusic) Aegonox aka Dreaml4nd (20
  year anniversary set) Khaiku Live (CLH Rec., Human Spectrum,… Location:
  Kaivohuone, Iso Puistotie 1, 00100 Helsinki
URL:https://www.goabase.net/party/trip-to-goa-presents-globular-live-uk-aegonox-20y/108956
CATEGORIES:Psytrance Event
CLASS:PUBLIC
END:VEVENT

BEGIN:VEVENT
UID:42592d3ac2b902cf6bd431cca86aba03
DTSTART:20220506T220000
DTEND:20220507T060000
LOCATION:Helsinki [Finland]
GEO:60.158980600;24.955022300
DTSTAMP:20220506T220000Z
SUMMARY:Trip To Goa Presents: Carbon Based Lifeforms Live
DESCRIPTION:Line Up: Carbon Based Lifeforms Live (SWEDEN, Blood Music, Ultimae)
  Andorra Live (Ambient) Maoa Live (BMSS / Sacred Vision / Unit…
URL:https://www.goabase.net/party/trip-to-goa-presents-carbon-based-lifeforms-live/108319
CATEGORIES:Psytrance Event
CLASS:PUBLIC
END:VEVENT

BEGIN:VEVENT
UID:6342b51ef5b1d30e87644753d7b10597
DTSTART:20191018T210000
DTEND:20191019T060000
LOCATION:Helsinki [Finland]
GEO:60.158483800;24.955583600
DTSTAMP:20191018T210000Z
SUMMARY:Trip To Goa presents: Solar Fields Live
DESCRIPTION:Line Up: Solar Fields Live (SWEDEN, Droneform, Ultimae) Rayavana
  (BELGIUM, Sita Rec, Neogoa) Andorra Live Biopolar Live (Reson8 M…
URL:https://www.goabase.net/party/trip-to-goa-presents-solar-fields-live/104520
CATEGORIES:Psytrance Event
CLASS:PUBLIC
END:VEVENT

BEGIN:VEVENT
UID:301151b77636d41b4fd2b7a9ae43fdd6
DTSTART:20181110T220000
DTEND:20181111T040000
LOCATION:Helsinki [Finland]
GEO:60.157460000;24.955860000
DTSTAMP:20181110T220000Z
SUMMARY:Trip To Goa presents: Globular Live (UK)
DESCRIPTION:Line Up: Globular Live (UK, FeelLifeMusic) Soladria Live (Peyotii)
  Lunar Vegetarian Live (Moon Koradji) DJ Aegonox (Goa, Entropy)…
URL:https://www.goabase.net/party/trip-to-goa-presents-globular-live-uk/101652
CATEGORIES:Psytrance Event
CLASS:PUBLIC
END:VEVENT

BEGIN:VEVENT
UID:4efadaa43731d88a3bb0907c60342d5b
DTSTART:20180413T210000
DTEND:20180414T040000
LOCATION:Helsinki [Finland]
GEO:60.157460000;24.955860000
DTSTAMP:20180413T210000Z
SUMMARY:Trip To Goa presents: Younger Brother (Twisted Records)
DESCRIPTION:Line Up: EARLY BIRD tickets (18eur) now in Cybershop Asematunneli
  (limited amount!) Our fans voted for Younger Brother so we have…
URL:https://www.goabase.net/party/trip-to-goa-presents-younger-brother-twisted-records/98951
CATEGORIES:Psytrance Event
CLASS:PUBLIC
END:VEVENT

BEGIN:VEVENT
UID:4f147bfc274f306ec39787b34cf5f641
DTSTART:20171201T210000
DTEND:20171202T050000
LOCATION:Helsinki [Finland]
GEO:60.171321900;24.941457700
DTSTAMP:20171201T210000Z
SUMMARY:UG Goa presents: Goa 10Y Anniversary w Protonica Live, Kiwa Live
DESCRIPTION:Line Up: Goa klubi täyttää 10 vuotta. Liity joukkoomme viettämään tä
  erityistä merkkipäivää yhteen legendaarisimmista UG-bilepa…
URL:https://www.goabase.net/party/ug-goa-presents-goa-10y-anniversary-w-protonica-live-kiwa-live/96882
CATEGORIES:Psytrance Event
CLASS:PUBLIC
END:VEVENT

BEGIN:VEVENT
UID:5d41e753b9c437fd87ec065646c23d07
DTSTART:20171006T220000
DTEND:20171007T033000
LOCATION:Helsinki [Finland]
GEO:60.157460000;24.955860000
DTSTAMP:20171006T220000Z
SUMMARY:Trip To Goa presents: Carbon Based Lifeforms Live
DESCRIPTION:Line Up: This the moment you have been waiting for. A lot of people
  have asked us to bring Carbon Based Lifeforms (CBL) to Fin…
URL:https://www.goabase.net/party/trip-to-goa-presents-carbon-based-lifeforms-live/96881
CATEGORIES:Psytrance Event
CLASS:PUBLIC
END:VEVENT

BEGIN:VEVENT
UID:fc6d374ff8462ec2caab00063d45febc
DTSTART:20170407T210000
DTEND:20170408T033000
LOCATION:Helsinki [Finland]
GEO:60.157460000;24.955860000
DTSTAMP:20170407T210000Z
SUMMARY:Trip To Goa presents: OTT LIVE
DESCRIPTION:Line Up: Ennakkolippujen myynti alkaa 11.1. klo 17:00 EARLY BIRD
  presale ticket packet (limited amount, FRI 3.2. Trip To Goa E-Ma…
URL:https://www.goabase.net/party/trip-to-goa-presents-ott-live/92797
CATEGORIES:Psytrance Event
CLASS:PUBLIC
END:VEVENT

BEGIN:VEVENT
UID:90f9cc2a7c41ef1cd29bbb01e7336ef2
DTSTART:20170203T220000
DTEND:20170204T033000
LOCATION:Helsinki [Finland]
GEO:60.157460000;24.955860000
DTSTAMP:20170203T220000Z
SUMMARY:Trip To Goa presents: E-Mantra Live
DESCRIPTION:Line Up: EARLY BIRD presale ticket packet (limited amount, FRI 3.2.
  Trip To Goa E-Mantra + FRI 7.4. Trip To Goa Ott) 30eur at Cyb…
URL:https://www.goabase.net/party/trip-to-goa-presents-e-mantra-live/92793
CATEGORIES:Psytrance Event
CLASS:PUBLIC
END:VEVENT

BEGIN:VEVENT
UID:f0bf6b04e0bdc18e0c6340f2b3bfca93
DTSTART:20160910T220000
DTEND:20160911T033000
LOCATION:Helsinki [Finland]
GEO:60.157420700;24.956069200
DTSTAMP:20160910T220000Z
SUMMARY:Trip To Goa presents: Solar Fields Live (Goa 9Y Anniversary)
DESCRIPTION:Line Up: Solar Fields Live (Sweden, Ultimae Records) Lergoi Volacheck
  Live Tim Duster (Back2Mad, Rye Smugglers) DJ Aegonox (Entro…
URL:https://www.goabase.net/party/trip-to-goa-presents-solar-fields-live-goa-9y-anniversary/90712
CATEGORIES:Psytrance Event
CLASS:PUBLIC
END:VEVENT

BEGIN:VEVENT
UID:e555db11fb942c8b3220c25b99ebdbcd
DTSTART:20160129T210000
DTEND:20160130T033000
LOCATION:Helsinki [Finland]
GEO:60.171321900;24.941457700
DTSTAMP:20160129T210000Z
SUMMARY:Trip To Goa presents: OTT LIVE
DESCRIPTION:Line Up: Ott Live (UK, Ottsonic), Fairchildren album release set
  Sarana Live (Ambient) Nebula Meltdown (Suntrip) Aegonox (Goa, En…
URL:https://www.goabase.net/party/trip-to-goa-presents-ott-live/87964
CATEGORIES:Psytrance Event
CLASS:PUBLIC
END:VEVENT

BEGIN:VEVENT
UID:25aa056ef01b151d0e99b16241d51da4
DTSTART:20150417T210000
DTEND:20150418T033000
LOCATION:Helsinki [Finland]
GEO:60.171322000;24.941458000
DTSTAMP:20150417T210000Z
SUMMARY:Goa 7Y Anniversary w. SPACE BUDDHA, ARTIFACT303
DESCRIPTION:Line Up: SPACE BUDDHA Live (Israel, Agitato) ARTIFACT303 Live
  (Romania, Suntrip) Recue Live (Audiobaum) Dreaml4nd Live (Entropy)…
URL:https://www.goabase.net/party/goa-7y-anniversary-w-space-buddha-artifact303/83727
CATEGORIES:Psytrance Event
CLASS:PUBLIC
END:VEVENT

BEGIN:VEVENT
UID:9f378d7d366d4ab4b02974e4a39b2452
DTSTART:20141025T220000
DTEND:20141026T033000
LOCATION:Helsinki [Finland]
GEO:60.171322000;24.941458000
DTSTAMP:20141025T220000Z
SUMMARY:Goa: Dreaml4nd - Dreamland album release party
DESCRIPTION:Line Up: Dreaml4nd (Dreaml4nd) Soladria (Peyotii) Profetia (Aural
  Connection) Aegonox (Agitato) Shishya (Sunstation)
URL:https://www.goabase.net/party/goa-dreaml4nd-dreamland-album-release-party/81713
CATEGORIES:Psytrance Event
CLASS:PUBLIC
END:VEVENT

BEGIN:VEVENT
UID:be121fd76e11d9b573149f6c2aad83e5
DTSTART:20140404T210000
DTEND:20140405T033000
LOCATION:Helsinki [Finland]
GEO:60.170195700;24.928475900
DTSTAMP:20140404T210000Z
SUMMARY:TRIP TO GOA w. Ott (Twisted), E-Mantra (Suntrip)
DESCRIPTION:Line Up: Ott (UK, Ottsonic, Twisted) E-Mantra (RO, Suntrip, Altar)
  Lergoi Volacheck (Goa) Tom Wanks Huuhaa Dreaml4nd (Goa)
URL:https://www.goabase.net/party/trip-to-goa-w-ott-twisted-e-mantra-suntrip/78175
CATEGORIES:Psytrance Event
CLASS:PUBLIC
END:VEVENT

BEGIN:VEVENT
UID:0e728187ab387649749d2ac310237fe5
DTSTART:20131011T210000
DTEND:20131012T033000
LOCATION:Helsinki [Finland]
GEO:60.170195700;24.928475900
DTSTAMP:20131011T210000Z
SUMMARY:Goa 6Y anniversary w. Talamasca
DESCRIPTION:Line Up: Talamasca (FRANCE, Dacru) Dreaml4nd (aka Aegonox) Troll
  Scientists
URL:https://www.goabase.net/party/goa-6y-anniversary-w-talamasca/75322
CATEGORIES:Psytrance Event
CLASS:PUBLIC
END:VEVENT

BEGIN:VEVENT
UID:02d3f1393ed3ac24f612af27497220e3
DTSTART:20130524T210000
DTEND:20130525T033000
LOCATION:Helsinki [Finland]
GEO:0.000000000;0.000000000
DTSTAMP:20130524T210000Z
SUMMARY:TRIP TO GOA
DESCRIPTION:Line Up: ENTHEOGENIC (FRA, Universal Symbiosis, Chillcode) Recue Live
  (Audiobaum) Lunar Vegetarian Live (Moon Koradji) Lergoi Vol…
URL:https://www.goabase.net/party/trip-to-goa/73206
CATEGORIES:Psytrance Event
CLASS:PUBLIC
END:VEVENT

BEGIN:VEVENT
UID:3ddf2cbaf385bcbe36dfd8b6549bc52c
DTSTART:20130301T210000
DTEND:20130302T033000
LOCATION:Helsinki [Finland]
GEO:60.170195700;24.928475900
DTSTAMP:20130301T210000Z
SUMMARY:Goa 5Y anniversary w. Cosmosis
DESCRIPTION:Line Up: Cosmosis (UK, CH) Texas Faggott (Exogenic) Vishnudata
  (Exogenic) Kirna (Moon Koradji) Tom Wanks (Borgoa) Ascoil Sun (Moo…
URL:https://www.goabase.net/party/goa-5y-anniversary-w-cosmosis/71730
CATEGORIES:Psytrance Event
CLASS:PUBLIC
END:VEVENT

BEGIN:VEVENT
UID:570062c5174e780e9db786d92294b238
DTSTART:20121123T210000
DTEND:20121124T033000
LOCATION:Helsinki [Finland]
GEO:60.738479661;24.778885009
DTSTAMP:20121123T210000Z
SUMMARY:Aura Of Goa
DESCRIPTION:Line Up: Ticon (SWEDEN, Iboga Records, Iboga Trance) Talpa (SERBIA,
  Sundance Records) The Riddler (SERBIA, TesseracTstudio) Tript…
URL:https://www.goabase.net/party/aura-of-goa/68972
CATEGORIES:Psytrance Event
CLASS:PUBLIC
END:VEVENT

END:VCALENDAR