BEGIN:VCALENDAR
VERSION:2.0
PRODID:goabase.net iCalendar 2026
X-WR-CALNAME:goabase.net - parties and people 
X-WR-TIMEZONE;VALUE=TEXT:Europe/Berlin
CALSCALE:GREGORIAN
BEGIN:VTIMEZONE
TZID:Europe/Berlin
X-LIC-LOCATION:Europe/Berlin
BEGIN:DAYLIGHT
TZOFFSETFROM:+0100
TZOFFSETTO:+0200
TZNAME:CEST
DTSTART:19700329T020000
RRULE:FREQ=YEARLY;INTERVAL=1;BYDAY=-1SU;BYMONTH=3
END:DAYLIGHT
BEGIN:STANDARD
TZOFFSETFROM:+0200
TZOFFSETTO:+0100
TZNAME:CET
DTSTART:19701025T030000
RRULE:FREQ=YEARLY;INTERVAL=1;BYDAY=-1SU;BYMONTH=10
END:STANDARD
END:VTIMEZONE

BEGIN:VEVENT
UID:55ec0fd8d22e4c089b134d9eadeb4a51
DTSTART:20140802T220000
DTEND:20140803T060000
LOCATION:Wien [Austria]
GEO:48.208466000;16.373091000
DTSTAMP:20140802T220000Z
SUMMARY:*LUCID DREAMS - SUMMERBASH*
DESCRIPTION:Line Up: ***Special Guest*** is ***UTU (Popol Vuh Rec./Luminati Re.)
  NL*** Lucid Dreams ALLSTARS ...!!! 2nd floor hosted by *Sou…
URL:https://www.goabase.net/party/lucid-dreams-summerbash/80339
CATEGORIES:Psytrance Event
CLASS:PUBLIC
END:VEVENT

BEGIN:VEVENT
UID:9d23b9098e8ade1124188867309a38d6
DTSTART:20110417T060000
DTEND:20110417T160000
LOCATION:Wien [Austria]
GEO:0.000000000;0.000000000
DTSTAMP:20110417T060000Z
SUMMARY:**free party*offical *Lucid Dreams* afterhour *free party**
DESCRIPTION:Line Up: ***Jointcorrector Tom*** *** the man with the golden hands***
  Wer nach einer langen Nacht, seine Wirbelsäule begradigen…
URL:https://www.goabase.net/party/free-partyoffical-lucid-dreams-afterhour-free-party/58212
CATEGORIES:Psytrance Event
CLASS:PUBLIC
END:VEVENT

BEGIN:VEVENT
UID:8fdf6dceb474d1906f102d86a015f7d7
DTSTART:20110220T060000
DTEND:20110220T160000
LOCATION:Wien [Austria]
GEO:0.000000000;0.000000000
DTSTAMP:20110220T060000Z
SUMMARY:Offical *WOW* Afterhour
DESCRIPTION:Line Up: The Jointcorrector Tom - the man with the golden hands Wer
  sich nach einer langen Nacht die Wirbelsäule wieder begradige…
URL:https://www.goabase.net/party/offical-wow-afterhour/57374
CATEGORIES:Psytrance Event
CLASS:PUBLIC
END:VEVENT

BEGIN:VEVENT
UID:24d5eea84c58d269f6ddd7adf1e6400e
DTSTART:20110115T060000
DTEND:20110115T160000
LOCATION:Wien [Austria]
GEO:0.000000000;0.000000000
DTSTAMP:20110115T060000Z
SUMMARY:Offical *Lucid Dreams* afterhour
DESCRIPTION:Line Up: Vielleicht Du! Da ja bekanntlich immer wieder Djs bei
  afterhours die Patschen strecken, kann es durchaus sein das ein Pl…
URL:https://www.goabase.net/party/offical-lucid-dreams-afterhour/57451
CATEGORIES:Psytrance Event
CLASS:PUBLIC
END:VEVENT

BEGIN:VEVENT
UID:7d4836f61aa80ac48aaf763a8369f51c
DTSTART:20071201T220000
DTEND:20071202T060000
LOCATION:Vienna [Austria]
GEO:0.000000000;0.000000000
DTSTAMP:20071201T220000Z
SUMMARY:Der letzte Drachenflug "French Connection"
DESCRIPTION:Line Up: half french people:::: line up:::: 00:00 bis 01:30 Gxxgnom,…
URL:https://www.goabase.net/party/der-letzte-drachenflug-french-connection/31305
CATEGORIES:Psytrance Event
CLASS:PUBLIC
END:VEVENT

BEGIN:VEVENT
UID:3ca70d5bf63c5d8e94b91a81daf96d86
DTSTART:20071103T230000
DTEND:20071104T060000
LOCATION:Vindobona [Austria]
GEO:0.000000000;0.000000000
DTSTAMP:20071103T230000Z
SUMMARY:Drachenflug presents: DESERT VORTEX LiVE!
DESCRIPTION:Line Up: +++FIRST LIVE GIG EVER+++ DESERT VORTEX -(movement) Sorry
  Leute, WinterDemon wurde aufgrund von plötzlich auftauch…
URL:https://www.goabase.net/party/drachenflug-presents-desert-vortex-live/31810
CATEGORIES:Psytrance Event
CLASS:PUBLIC
END:VEVENT

BEGIN:VEVENT
UID:ba895a77e8ff774e801ef5d345a6e251
DTSTART:20071006T230000
DTEND:20071007T060000
LOCATION:Vienna/Wien [Austria]
GEO:0.000000000;0.000000000
DTSTAMP:20071006T230000Z
SUMMARY:Drachenflug, the Revenge- Special Dj-set surprise!!!
DESCRIPTION:Line Up: LIVE PA and Dj Set from ACTIVE 8 - Moonstream rec. - SERBIA .
URL:https://www.goabase.net/party/drachenflug-the-revenge-special-dj-set-surprise/31809
CATEGORIES:Psytrance Event
CLASS:PUBLIC
END:VEVENT

BEGIN:VEVENT
UID:aa1512c40a2a112bc9737cfbecb703f4
DTSTART:20070106T220000
DTEND:20070107T060000
LOCATION:Wien [Austria]
GEO:0.000000000;0.000000000
DTSTAMP:20070106T220000Z
SUMMARY:Psychedelic Zoo-PSYCHOTIC MICRO Part 2
DESCRIPTION:Line Up: maybe!
URL:https://www.goabase.net/party/psychedelic-zoo-psychotic-micro-part-2/25644
CATEGORIES:Psytrance Event
CLASS:PUBLIC
END:VEVENT

BEGIN:VEVENT
UID:d1688a5eefbcf74c08c63df801cf4a94
DTSTART:20061208T220000
DTEND:20061209T060000
LOCATION:Wien [Austria]
GEO:0.000000000;0.000000000
DTSTAMP:20061208T220000Z
SUMMARY:CHAOS THERAPY LIVE- Psychedelic Zoo - Drachenflug
DESCRIPTION:Line Up: Chaos Therapy (Batusim.com/Real tribe) Für die, die nicht am
  laufenden sind, dass ist unser Zsuki (mittlerweile ist er j…
URL:https://www.goabase.net/party/chaos-therapy-live-psychedelic-zoo-drachenflug/22033
CATEGORIES:Psytrance Event
CLASS:PUBLIC
END:VEVENT

BEGIN:VEVENT
UID:c3bb72f1df6b0e0a22816214a54d0c53
DTSTART:20061103T220000
DTEND:20061104T060000
LOCATION:Wien [Austria]
GEO:0.000000000;0.000000000
DTSTAMP:20061103T220000Z
SUMMARY:IMIX FX LIVE-Psychedelic Zoo-Tribal Gathering-Drachenflug
DESCRIPTION:Line Up: Imix FX (Batusim.com) Das ist der, der am Spirit Base
  Festival von Donnerstag auf Freitag die Nacht gerockt hatt! Außerd…
URL:https://www.goabase.net/party/imix-fx-live-psychedelic-zoo-tribal-gathering-drachenflug/22032
CATEGORIES:Psytrance Event
CLASS:PUBLIC
END:VEVENT

BEGIN:VEVENT
UID:f4b59ffb3f6b95ff9ceda6aef7e52492
DTSTART:20061014T220000
DTEND:20061015T060000
LOCATION:Wien [Austria]
GEO:0.000000000;0.000000000
DTSTAMP:20061014T220000Z
SUMMARY:PATCH BAY LIVE (Brazil) at *Sunflowers*
DESCRIPTION:Line Up: Patch Bay (Reality Engine-Batusim-Brazil) Lagun (Sunshine
  Explosion/ Ketuh rec.-Austria) Illicit alias Sahaswarta (Sahas…
URL:https://www.goabase.net/party/patch-bay-live-brazil-at-sunflowers/22022
CATEGORIES:Psytrance Event
CLASS:PUBLIC
END:VEVENT

BEGIN:VEVENT
UID:45d006bff2d85b55857b5abb4e057c1d
DTSTART:20060902T220000
DTEND:20060903T060000
LOCATION:Wien [Austria]
GEO:0.000000000;0.000000000
DTSTAMP:20060902T220000Z
SUMMARY:Achtung letzter Drachenflug!!! Neue Location!!!
DESCRIPTION:
URL:https://www.goabase.net/party/achtung-letzter-drachenflug-neue-location/22031
CATEGORIES:Psytrance Event
CLASS:PUBLIC
END:VEVENT

BEGIN:VEVENT
UID:33162fa35cbaf2295f9f92db0ebf4948
DTSTART:20060414T220000
DTEND:20060415T060000
LOCATION:Wien [Austria]
GEO:0.000000000;0.000000000
DTSTAMP:20060414T220000Z
SUMMARY:Drachenflug
DESCRIPTION:Line Up: xxx?
URL:https://www.goabase.net/party/drachenflug/21171
CATEGORIES:Psytrance Event
CLASS:PUBLIC
END:VEVENT

BEGIN:VEVENT
UID:df1b2e1ccb2157d6f9848aeb3714a061
DTSTART:20060324T220000
DTEND:20060325T060000
LOCATION:Wien [Austria]
GEO:0.000000000;0.000000000
DTSTAMP:20060324T220000Z
SUMMARY:Drachenflug
DESCRIPTION:Line Up: xxx!
URL:https://www.goabase.net/party/drachenflug/21170
CATEGORIES:Psytrance Event
CLASS:PUBLIC
END:VEVENT

BEGIN:VEVENT
UID:2efe525a828d91e7fd067ac9f9b52d79
DTSTART:20060211T220000
DTEND:20060212T060000
LOCATION:Wien [Austria]
GEO:0.000000000;0.000000000
DTSTAMP:20060211T220000Z
SUMMARY:Drachenflug spezial !!!Rastaliens invasion!
DESCRIPTION:Line Up: RASTALIENS (Glowing Flame rec., BOOM rec., etc., etc.)
  -&quot;- sind Ralph Knobloch und Jürgen Kassel. Die 2 sind seit ü…
URL:https://www.goabase.net/party/drachenflug-spezial-rastaliens-invasion/21173
CATEGORIES:Psytrance Event
CLASS:PUBLIC
END:VEVENT

BEGIN:VEVENT
UID:94ac1ee5c9f265b4902bf5c59f6b70c9
DTSTART:20060128T220000
DTEND:20060129T060000
LOCATION:Wien [Austria]
GEO:0.000000000;0.000000000
DTSTAMP:20060128T220000Z
SUMMARY:Drachenflug
DESCRIPTION:Line Up: xxx
URL:https://www.goabase.net/party/drachenflug/21169
CATEGORIES:Psytrance Event
CLASS:PUBLIC
END:VEVENT

BEGIN:VEVENT
UID:b57c4e65849572dc457859c2a5ff0e01
DTSTART:20051210T220000
DTEND:20051211T060000
LOCATION:Wien [Austria]
GEO:0.000000000;0.000000000
DTSTAMP:20051210T220000Z
SUMMARY:Drachenflug
DESCRIPTION:Line Up: xxx
URL:https://www.goabase.net/party/drachenflug/18249
CATEGORIES:Psytrance Event
CLASS:PUBLIC
END:VEVENT

BEGIN:VEVENT
UID:4ff902f4ab482d891a05caf3a90cff56
DTSTART:20051112T220000
DTEND:20051113T060000
LOCATION:Wien [Austria]
GEO:0.000000000;0.000000000
DTSTAMP:20051112T220000Z
SUMMARY:Drachenflug
DESCRIPTION:Line Up: xxx
URL:https://www.goabase.net/party/drachenflug/18248
CATEGORIES:Psytrance Event
CLASS:PUBLIC
END:VEVENT

BEGIN:VEVENT
UID:12b58c465fae9a4bc6d2505dfc229df8
DTSTART:20051008T220000
DTEND:20051009T060000
LOCATION:Wien [Austria]
GEO:0.000000000;0.000000000
DTSTAMP:20051008T220000Z
SUMMARY:Drachenflug
DESCRIPTION:Line Up: xxx!
URL:https://www.goabase.net/party/drachenflug/18247
CATEGORIES:Psytrance Event
CLASS:PUBLIC
END:VEVENT

BEGIN:VEVENT
UID:d959ec47206253dd958d57385a54f9c3
DTSTART:20050611T220000
DTEND:20050612T060000
LOCATION:Wien [Austria]
GEO:0.000000000;0.000000000
DTSTAMP:20050611T220000Z
SUMMARY:Drachenflug
DESCRIPTION:Line Up: Verweise auf 9. Juli! THNX!!!
URL:https://www.goabase.net/party/drachenflug/17980
CATEGORIES:Psytrance Event
CLASS:PUBLIC
END:VEVENT

END:VCALENDAR