BEGIN:VCALENDAR
VERSION:2.0
PRODID:goabase.net iCalendar 2026
X-WR-CALNAME:goabase.net - parties and people 
X-WR-TIMEZONE;VALUE=TEXT:Europe/Berlin
CALSCALE:GREGORIAN
BEGIN:VTIMEZONE
TZID:Europe/Berlin
X-LIC-LOCATION:Europe/Berlin
BEGIN:DAYLIGHT
TZOFFSETFROM:+0100
TZOFFSETTO:+0200
TZNAME:CEST
DTSTART:19700329T020000
RRULE:FREQ=YEARLY;INTERVAL=1;BYDAY=-1SU;BYMONTH=3
END:DAYLIGHT
BEGIN:STANDARD
TZOFFSETFROM:+0200
TZOFFSETTO:+0100
TZNAME:CET
DTSTART:19701025T030000
RRULE:FREQ=YEARLY;INTERVAL=1;BYDAY=-1SU;BYMONTH=10
END:STANDARD
END:VTIMEZONE

BEGIN:VEVENT
UID:3c89f238248d51c743c9e6ab4950e62f
DTSTART:20260826T120000
DTEND:20260831T180000
LOCATION:Teuchern [Germany]
GEO:51.100000000;12.100000000
DTSTAMP:20260826T120000Z
SUMMARY:Kepotopival 2026
DESCRIPTION:Line Up: BIRKHAIN - TECHNO | HOUSE | TRANCE ALMOND • ANDI FEUERSTEIN •
  AYNA • BEARD • CAPTAIN KLABAUTER • CHANTI • CLE • DJ ULIA… Location:
  Kepotopia, Straße zur Voß, 43, 06682 Teuchern
URL:https://www.goabase.net/festival/kepotopival-2026/116697
CATEGORIES:Psytrance Event
CLASS:PUBLIC
END:VEVENT

BEGIN:VEVENT
UID:b8a3e48539af7ef9091fc574b192562d
DTSTART:20240828T120000
DTEND:20240902T120000
LOCATION:Kepotopia [Germany]
GEO:51.122180000;12.044230000
DTSTAMP:20240828T120000Z
SUMMARY:Kepotopival 2024
DESCRIPTION:Line Up: 🌿 Birkhain With Bambule and Glitzerglanz, two devoted
  collectives await you, igniting the musical heart of Kepotopia wit…
  Location: Kepotopia, , 06682 Kepotopia
URL:https://www.goabase.net/festival/kepotopival-2024/111825
CATEGORIES:Psytrance Event
CLASS:PUBLIC
END:VEVENT

BEGIN:VEVENT
UID:0b2523f707ab32709668827905a916bd
DTSTART:20230823T180000
DTEND:20230827T140000
LOCATION:Kepotopia [Germany]
GEO:51.122180000;12.044230000
DTSTAMP:20230823T180000Z
SUMMARY:Kepotopival 2023
DESCRIPTION:Line Up: Psytopia Floor ► Daksinamurti (live) ✪ Sangoma Records ►
  Eritas (live) ✪ Sangoma Records ► Bogaloo (live) ✪ Shackadelic-…
  Location: Kepotopia, , 06682 Kepotopia
URL:https://www.goabase.net/festival/kepotopival-2023/110166
CATEGORIES:Psytrance Event
CLASS:PUBLIC
END:VEVENT

BEGIN:VEVENT
UID:8872c0d320556ad16cec73e799f4fafd
DTSTART:20220824T180000
DTEND:20220828T140000
LOCATION:Kepotopia [Germany]
GEO:51.100000000;12.100000000
DTSTAMP:20220824T180000Z
SUMMARY:Kepotopival 2022
DESCRIPTION:Line Up: Psytopia Wir freuen uns mit Shackadelic Sounds und
  Nachtwandern in magische Welten zu driften.  ► Alien Dosage ✪ Creatur…
  Location: Kepotopia, , 06682 Kepotopia
URL:https://www.goabase.net/festival/kepotopival-2022/108557
CATEGORIES:Psytrance Event
CLASS:PUBLIC
END:VEVENT

BEGIN:VEVENT
UID:9fbf8c5c973c4c953269d0fb2a87ceb5
DTSTART:20210825T180000
DTEND:20210829T140000
LOCATION:Teuchern [Germany]
GEO:51.100000000;12.100000000
DTSTAMP:20210825T180000Z
SUMMARY:Kepotopival 2021
DESCRIPTION:
URL:https://www.goabase.net/festival/kepotopival-2021/107133
CATEGORIES:Psytrance Event
CLASS:PUBLIC
END:VEVENT

BEGIN:VEVENT
UID:42de50119a708bf70ae3f685a725a6a3
DTSTART:20190828T160000
DTEND:20190901T160000
LOCATION:Teuchern [Germany]
GEO:51.118549500;12.057625500
DTSTAMP:20190828T160000Z
SUMMARY:Kepotopia tanzt
DESCRIPTION:Line Up: ▪️ Aleks Avramovic 🎶 ▪️ Beetlejuice 🎶 ▪️ CR6 🎶 ▪️ Cymatik 🎶
  ▪️ E.T. 🎶 ▪️ Felix Frei 🎶 ▪️ Florian Eschey 🎶
URL:https://www.goabase.net/festival/kepotopia-tanzt/104538
CATEGORIES:Psytrance Event
CLASS:PUBLIC
END:VEVENT

END:VCALENDAR