BEGIN:VCALENDAR
VERSION:2.0
PRODID:goabase.net iCalendar 2026
X-WR-CALNAME:goabase.net - parties and people 
X-WR-TIMEZONE;VALUE=TEXT:Europe/Berlin
CALSCALE:GREGORIAN
BEGIN:VTIMEZONE
TZID:Europe/Berlin
X-LIC-LOCATION:Europe/Berlin
BEGIN:DAYLIGHT
TZOFFSETFROM:+0100
TZOFFSETTO:+0200
TZNAME:CEST
DTSTART:19700329T020000
RRULE:FREQ=YEARLY;INTERVAL=1;BYDAY=-1SU;BYMONTH=3
END:DAYLIGHT
BEGIN:STANDARD
TZOFFSETFROM:+0200
TZOFFSETTO:+0100
TZNAME:CET
DTSTART:19701025T030000
RRULE:FREQ=YEARLY;INTERVAL=1;BYDAY=-1SU;BYMONTH=10
END:STANDARD
END:VTIMEZONE

BEGIN:VEVENT
UID:597cdc1a774f063ec2d7869577655cdb
DTSTART:20210806T120000
DTEND:20210807T120000
LOCATION:Brussels [Belgium]
GEO:50.846557300;4.351697000
DTSTAMP:20210806T120000Z
SUMMARY:FREEDOM FESTIVAL
DESCRIPTION:Line Up: -= PSYSTAGE =- Lucid Mantra (Greentree Records) Ferratek
  (Warromaja Records) Ecleptix (Warromaja Records) Hypnoise (Maha…
URL:https://www.goabase.net/party/freedom-festival/107089
CATEGORIES:Psytrance Event
CLASS:PUBLIC
END:VEVENT

BEGIN:VEVENT
UID:c1bb0fdbd5f4208a4b95eb32eed43025
DTSTART:20210508T210000
DTEND:20210509T090000
LOCATION:freedom forest [Belgium]
GEO:32.100000000;34.800000000
DTSTAMP:20210508T210000Z
SUMMARY:freedom gathering in the forest
DESCRIPTION:Line Up: Reactyv (fullon) Ecleptix ((nightfullon/hitech) // Warromaja
  Records Ferratek (Hitech) // Warromaja Records Pj (nightful…
URL:https://www.goabase.net/party/freedom-gathering-in-the-forest/107144
CATEGORIES:Psytrance Event
CLASS:PUBLIC
END:VEVENT

END:VCALENDAR