BEGIN:VCALENDAR
VERSION:2.0
PRODID:goabase.net iCalendar 2026
X-WR-CALNAME:goabase.net - parties and people 
X-WR-TIMEZONE;VALUE=TEXT:Europe/Berlin
CALSCALE:GREGORIAN
BEGIN:VTIMEZONE
TZID:Europe/Berlin
X-LIC-LOCATION:Europe/Berlin
BEGIN:DAYLIGHT
TZOFFSETFROM:+0100
TZOFFSETTO:+0200
TZNAME:CEST
DTSTART:19700329T020000
RRULE:FREQ=YEARLY;INTERVAL=1;BYDAY=-1SU;BYMONTH=3
END:DAYLIGHT
BEGIN:STANDARD
TZOFFSETFROM:+0200
TZOFFSETTO:+0100
TZNAME:CET
DTSTART:19701025T030000
RRULE:FREQ=YEARLY;INTERVAL=1;BYDAY=-1SU;BYMONTH=10
END:STANDARD
END:VTIMEZONE

BEGIN:VEVENT
UID:1dba06e4f22f34451253492677f13307
DTSTART:20170810T160000
DTEND:20170814T090000
LOCATION:Boesdal [Denmark]
GEO:0.000000000;0.000000000
DTSTAMP:20170810T160000Z
SUMMARY:SenSun Festival 2017
DESCRIPTION:Line Up: AEROMATIK ARTFIX BONDEFAR BUFO CHILLINBERLIN DISCOSHAMAN EROT
  E-VIEW FILIP LANDIN FLOWJOB GOA JOY JAHBO LUND & RØNDE MÄ…
URL:https://www.goabase.net/festival/sensun-festival-2017/95740
CATEGORIES:Psytrance Event
CLASS:PUBLIC
END:VEVENT

END:VCALENDAR