BEGIN:VCALENDAR
VERSION:2.0
PRODID:goabase.net iCalendar 2026
X-WR-CALNAME:goabase.net - parties and people 
X-WR-TIMEZONE;VALUE=TEXT:Europe/Berlin
CALSCALE:GREGORIAN
BEGIN:VTIMEZONE
TZID:Europe/Berlin
X-LIC-LOCATION:Europe/Berlin
BEGIN:DAYLIGHT
TZOFFSETFROM:+0100
TZOFFSETTO:+0200
TZNAME:CEST
DTSTART:19700329T020000
RRULE:FREQ=YEARLY;INTERVAL=1;BYDAY=-1SU;BYMONTH=3
END:DAYLIGHT
BEGIN:STANDARD
TZOFFSETFROM:+0200
TZOFFSETTO:+0100
TZNAME:CET
DTSTART:19701025T030000
RRULE:FREQ=YEARLY;INTERVAL=1;BYDAY=-1SU;BYMONTH=10
END:STANDARD
END:VTIMEZONE

BEGIN:VEVENT
UID:25a8c325d49c86b721024dfd01fe8848
DTSTART:20170120T220000
DTEND:20170121T090000
LOCATION:Recklinghausen [Germany]
GEO:51.616019226;7.202211463
DTSTAMP:20170120T220000Z
SUMMARY:Chorea Lux AbraKathabraLXD&Friends im Räuber und Rebellen
DESCRIPTION:Line Up: Junge Helden laden ins Räuber und Rebellen. Wir dachten uns
  das nach dem Abschied unseres geliebten Cafe Dreiklangs eine…
URL:https://www.goabase.net/party/chorea-lux-abrakathabralxdfriends-im-raeuber-und-rebellen/92833
CATEGORIES:Psytrance Event
CLASS:PUBLIC
END:VEVENT

END:VCALENDAR