BEGIN:VCALENDAR
VERSION:2.0
PRODID:goabase.net iCalendar 2026
X-WR-CALNAME:goabase.net - parties and people 
X-WR-TIMEZONE;VALUE=TEXT:Europe/Berlin
CALSCALE:GREGORIAN
BEGIN:VTIMEZONE
TZID:Europe/Berlin
X-LIC-LOCATION:Europe/Berlin
BEGIN:DAYLIGHT
TZOFFSETFROM:+0100
TZOFFSETTO:+0200
TZNAME:CEST
DTSTART:19700329T020000
RRULE:FREQ=YEARLY;INTERVAL=1;BYDAY=-1SU;BYMONTH=3
END:DAYLIGHT
BEGIN:STANDARD
TZOFFSETFROM:+0200
TZOFFSETTO:+0100
TZNAME:CET
DTSTART:19701025T030000
RRULE:FREQ=YEARLY;INTERVAL=1;BYDAY=-1SU;BYMONTH=10
END:STANDARD
END:VTIMEZONE

BEGIN:VEVENT
UID:4e46ed8c3d3d372d2b60b25a0596eaaa
DTSTART:20180928T210000
DTEND:20180929T050000
LOCATION:Amriswil [Switzerland]
GEO:47.546833000;9.299467100
DTSTAMP:20180928T210000Z
SUMMARY:Rave of the End
DESCRIPTION:Line Up: ~«°°LINEUP°°»~ ♫ Twisp ♫ Furaha ( fat chord CH) ♫ Schneroptic
  Noise (Rümli Prod.) ♫ Psylotist (KF rec. & Orbit rec.)…
URL:https://www.goabase.net/party/rave-of-the-end/101136
CATEGORIES:Psytrance Event
CLASS:PUBLIC
END:VEVENT

BEGIN:VEVENT
UID:bdfce3ba89384b884f32e238027c9604
DTSTART:20180407T140000
DTEND:20180408T080000
LOCATION:Fischingen [Switzerland]
GEO:47.416700000;8.966670000
DTSTAMP:20180407T140000Z
SUMMARY:Inspiring Eye Of The Forest 18h
DESCRIPTION:Line Up: ॐ Line up ♫ Furaha ( fat chord CH) (prog) ♫ Van-Gogh (psy) ♫
  Lunarec (psy) ♫ ♫ Limbus m.soundcloud.com/limbu…
URL:https://www.goabase.net/party/inspiring-eye-of-the-forest-18h/99372
CATEGORIES:Psytrance Event
CLASS:PUBLIC
END:VEVENT

BEGIN:VEVENT
UID:d1f2d1700be606e165b1b648a0875b59
DTSTART:20180126T220000
DTEND:20180127T040000
LOCATION:Amriswil [Switzerland]
GEO:47.546819900;9.274780000
DTSTAMP:20180126T220000Z
SUMMARY:《Ubuntu》Cornel's Birthdaybbash》
DESCRIPTION:Line Up: Ubuntu - Ich bin weil Wir sind!! Nach diesem Motto werden wir
  Cornel's Geburtstag Feieren!! ॐ ~«°°LINEUP°°»~ ♫…
URL:https://www.goabase.net/party/ubuntucornels-birthdaybbash/98148
CATEGORIES:Psytrance Event
CLASS:PUBLIC
END:VEVENT

BEGIN:VEVENT
UID:a3f95fe2e505ec369f913037e59f10b2
DTSTART:20171110T220000
DTEND:20171111T050000
LOCATION:Amriswil [Switzerland]
GEO:47.546819900;9.274780000
DTSTAMP:20171110T220000Z
SUMMARY:Fly High II
DESCRIPTION:Line Up: Lange haben wir darauf gewartet euch unsere erste party der
  2ten Indoor Saison präsentieren zu können. Wir möchten in de…
URL:https://www.goabase.net/party/fly-high-ii/97148
CATEGORIES:Psytrance Event
CLASS:PUBLIC
END:VEVENT

BEGIN:VEVENT
UID:ca544cbc15a247c8cd329d9e39e7ac62
DTSTART:20170401T210000
DTEND:20170402T040000
LOCATION:Amriswil [Switzerland]
GEO:47.546819900;9.274780000
DTSTAMP:20170401T210000Z
SUMMARY:High as Fu'
DESCRIPTION:Line Up: Liebe Stampfgemeinde, Während dieser Party werden wir euch
  mit den rauschenden Bässen und wundervollen Melodien den Zust…
URL:https://www.goabase.net/party/high-as-fu/94576
CATEGORIES:Psytrance Event
CLASS:PUBLIC
END:VEVENT

BEGIN:VEVENT
UID:3c7b05b7fde9bd55e1e55b2f8407f77a
DTSTART:20170324T210000
DTEND:20170325T050000
LOCATION:Amriswil [Switzerland]
GEO:47.546993800;9.275053700
DTSTAMP:20170324T210000Z
SUMMARY:Twist
DESCRIPTION:Line Up: ๑۩ॐ۩๑LINE UP๑۩ॐ۩๑ ●ॐ▬ॐ▬ॐ● ॐ LOVEGUN ॐ ॐ LoveGun-Music ॐ
  ●ॐ▬ॐ▬ॐ● ॐFURAHAॐ ॐfat chords, Dir…
URL:https://www.goabase.net/party/twist/94363
CATEGORIES:Psytrance Event
CLASS:PUBLIC
END:VEVENT

END:VCALENDAR