BEGIN:VCALENDAR
VERSION:2.0
PRODID:goabase.net iCalendar 2026
X-WR-CALNAME:goabase.net - parties and people 
X-WR-TIMEZONE;VALUE=TEXT:Europe/Berlin
CALSCALE:GREGORIAN
BEGIN:VTIMEZONE
TZID:Europe/Berlin
X-LIC-LOCATION:Europe/Berlin
BEGIN:DAYLIGHT
TZOFFSETFROM:+0100
TZOFFSETTO:+0200
TZNAME:CEST
DTSTART:19700329T020000
RRULE:FREQ=YEARLY;INTERVAL=1;BYDAY=-1SU;BYMONTH=3
END:DAYLIGHT
BEGIN:STANDARD
TZOFFSETFROM:+0200
TZOFFSETTO:+0100
TZNAME:CET
DTSTART:19701025T030000
RRULE:FREQ=YEARLY;INTERVAL=1;BYDAY=-1SU;BYMONTH=10
END:STANDARD
END:VTIMEZONE

BEGIN:VEVENT
UID:5b8875dfdf474a4f5de44edef86e9931
DTSTART:20151224T230000
DTEND:20151225T090000
LOCATION:Kiel [Germany]
GEO:54.321461000;10.135022400
DTSTAMP:20151224T230000Z
SUMMARY:HIGHLIGE NACHT
DESCRIPTION:Line Up: Dark-Hightech & Psychedelic Flur DJ SKYLINER ( Crystallin
  Music - Giessen ) KOPFWERK ( Ravers - Frankfurt ) MIRUS (…
URL:https://www.goabase.net/party/highlige-nacht/86467
CATEGORIES:Psytrance Event
CLASS:PUBLIC
END:VEVENT

BEGIN:VEVENT
UID:f66c6075d2e473ab61bc26c6e85c4ee4
DTSTART:20151003T220000
DTEND:20151004T120000
LOCATION:Kiel [Germany]
GEO:54.321461000;10.135022400
DTSTAMP:20151003T220000Z
SUMMARY:STROMRELIGION
DESCRIPTION:Line Up: Verehrte Gemeinde, Sehr geehrter Widerstand Hier entsteht für
  Sie eine Psychedelic, Dark & Progressive Tanz und Tranceve…
URL:https://www.goabase.net/party/stromreligion/86465
CATEGORIES:Psytrance Event
CLASS:PUBLIC
END:VEVENT

BEGIN:VEVENT
UID:91d6e710bcec7ebc8f73a7b238d0908f
DTSTART:20150627T230000
DTEND:20150628T100000
LOCATION:Kiel [Germany]
GEO:54.322941000;10.135031000
DTSTAMP:20150627T230000Z
SUMMARY:Stromreligion - KiWo Kontrastprogramm
DESCRIPTION:Line Up: Die Stromreligion lädt zum Kieler Woche Kontrastprogramm...
  Die Stromreligion lädt zum allyeahlichen Kieler Woche Kontra…
URL:https://www.goabase.net/party/stromreligion-kiwo-kontrastprogramm/83470
CATEGORIES:Psytrance Event
CLASS:PUBLIC
END:VEVENT

BEGIN:VEVENT
UID:42cdfa4e0ed08cc5cda6b2d89cc126c8
DTSTART:20150404T230000
DTEND:20150405T100000
LOCATION:Kiel [Germany]
GEO:54.322941000;10.135031000
DTSTAMP:20150404T230000Z
SUMMARY:STROMRELIGION
DESCRIPTION:Line Up: Liebe Gemeinde Nun ist es tatsächlich soweit... Unsere Gebete
  würden erhört. Nach einem gefühlten Jahrzehnt an Wartezeit…
URL:https://www.goabase.net/party/stromreligion/62422
CATEGORIES:Psytrance Event
CLASS:PUBLIC
END:VEVENT

BEGIN:VEVENT
UID:301e128badfe31123c3dc3245285d170
DTSTART:20150220T230000
DTEND:20150221T090000
LOCATION:Kiel [Germany]
GEO:54.322941000;10.135031000
DTSTAMP:20150220T230000Z
SUMMARY:Goodbye Rathausbunker
DESCRIPTION:Line Up: Wir feiern ein letztes mal im Rathausbunker bevor unser neuer
  Bunker am 04. April endlich an den Start geht. Der Rathaus…
URL:https://www.goabase.net/party/goodbye-rathausbunker/83469
CATEGORIES:Psytrance Event
CLASS:PUBLIC
END:VEVENT

BEGIN:VEVENT
UID:9d2403a78e224f9ee325029b0c669fc6
DTSTART:20141224T230000
DTEND:20141225T090000
LOCATION:Kiel [Germany]
GEO:54.321607700;10.131730300
DTSTAMP:20141224T230000Z
SUMMARY:HIGHLIGE NACHT
DESCRIPTION:Line Up: Da sind wir wieder :] Pünktlich zu den Highnachtsfeiertagen
  geht die Stromreligion wieder mit euch auf Sendung! Wir bege…
URL:https://www.goabase.net/party/highlige-nacht/82803
CATEGORIES:Psytrance Event
CLASS:PUBLIC
END:VEVENT

BEGIN:VEVENT
UID:817c11904da0887b31b456f626a2904e
DTSTART:20120623T230000
DTEND:20120624T080000
LOCATION:Kiel Mitte [Germany]
GEO:54.322558662;10.129922053
DTSTAMP:20120623T230000Z
SUMMARY:Stromreligion / KiWo Kontrastprogramm
DESCRIPTION:
URL:https://www.goabase.net/party/stromreligion-kiwo-kontrastprogramm/67133
CATEGORIES:Psytrance Event
CLASS:PUBLIC
END:VEVENT

BEGIN:VEVENT
UID:c575715731a9be8951f3ddfc79775e5b
DTSTART:20111119T233000
DTEND:20111120T070000
LOCATION:Kiel [Germany]
GEO:54.321461000;10.135022400
DTSTAMP:20111119T233000Z
SUMMARY:Bionic Religion
DESCRIPTION:
URL:https://www.goabase.net/party/bionic-religion/63417
CATEGORIES:Psytrance Event
CLASS:PUBLIC
END:VEVENT

BEGIN:VEVENT
UID:073a55a07f26893f4b41127ca06ee558
DTSTART:20111111T230000
DTEND:20111112T110000
LOCATION:Kiel City [Germany]
GEO:54.321675300;10.137185800
DTSTAMP:20111111T230000Z
SUMMARY:STROMRELIGION
DESCRIPTION:Line Up: DROLLKOPPZ
URL:https://www.goabase.net/party/stromreligion/55760
CATEGORIES:Psytrance Event
CLASS:PUBLIC
END:VEVENT

BEGIN:VEVENT
UID:1333ca236742661d7dd60460750d29d9
DTSTART:20110916T230000
DTEND:20110917T110000
LOCATION:Kiel [Germany]
GEO:54.321461000;10.135022400
DTSTAMP:20110916T230000Z
SUMMARY:Stromreligion meets Urban Elements
DESCRIPTION:
URL:https://www.goabase.net/party/stromreligion-meets-urban-elements/59040
CATEGORIES:Psytrance Event
CLASS:PUBLIC
END:VEVENT

BEGIN:VEVENT
UID:059d86264d3c6fc783a9830929dd7431
DTSTART:20110701T210000
DTEND:20110702T120000
LOCATION:Kiel [Germany]
GEO:0.000000000;0.000000000
DTSTAMP:20110701T210000Z
SUMMARY:Through the Forest - Episode II
DESCRIPTION:
URL:https://www.goabase.net/party/through-the-forest-episode-ii/60835
CATEGORIES:Psytrance Event
CLASS:PUBLIC
END:VEVENT

BEGIN:VEVENT
UID:e61b6dea497f4aca5a34dad558377de6
DTSTART:20110624T230000
DTEND:20110625T090000
LOCATION:Kiel City [Germany]
GEO:54.321675300;10.137185800
DTSTAMP:20110624T230000Z
SUMMARY:Stromreligion welcomes Grenzfreequenz
DESCRIPTION:Line Up: 1st floor by Stromreligion: ProDanceKi (Stromreligion) Der
  Sohn (Stromreligion) Brainbow (Stromreligion) Kedellic (Strom…
URL:https://www.goabase.net/party/stromreligion-welcomes-grenzfreequenz/59181
CATEGORIES:Psytrance Event
CLASS:PUBLIC
END:VEVENT

BEGIN:VEVENT
UID:24e646a8b4396c96532d29f239020b79
DTSTART:20110618T210000
DTEND:20110619T140000
LOCATION:Kiel [Germany]
GEO:0.000000000;0.000000000
DTSTAMP:20110618T210000Z
SUMMARY:Through The Forest
DESCRIPTION:
URL:https://www.goabase.net/party/through-the-forest/59750
CATEGORIES:Psytrance Event
CLASS:PUBLIC
END:VEVENT

BEGIN:VEVENT
UID:a3688109e446a327f8c313d2aa3175ba
DTSTART:20110401T230000
DTEND:20110402T100000
LOCATION:Kiel [Germany]
GEO:54.322000000;10.132000000
DTSTAMP:20110401T230000Z
SUMMARY:Die große Stromreligion Schlager Parade
DESCRIPTION:Line Up: Dresscode: WORST! (so schräg und schrill wie möglich)
URL:https://www.goabase.net/party/die-grosse-stromreligion-schlager-parade/47828
CATEGORIES:Psytrance Event
CLASS:PUBLIC
END:VEVENT

BEGIN:VEVENT
UID:4ca0d4385e32fc4f8b8448440608daca
DTSTART:20110311T230000
DTEND:20110312T100000
LOCATION:Kiel [Germany]
GEO:54.321461000;10.135022400
DTSTAMP:20110311T230000Z
SUMMARY:FIEBERTRÄUME
DESCRIPTION:Line Up: ...BOMBAX... ( Free Radical Records | Urban Antidote Records
  | Germany ) . . ...AXONIC... ( Apurùami Records | Macky…
URL:https://www.goabase.net/party/fiebertraeume/47827
CATEGORIES:Psytrance Event
CLASS:PUBLIC
END:VEVENT

BEGIN:VEVENT
UID:e2a78f04a0d87b9a47256c791d4da2df
DTSTART:20110212T220000
DTEND:20110213T100000
LOCATION:Kiel [Germany]
GEO:54.323000000;10.135000000
DTSTAMP:20110212T220000Z
SUMMARY:AUDIORESONANZTHERAPIE
DESCRIPTION:Line Up: ...ALIEN DISCO... ( goa-trance.de ) | . . ...MR. PEDERSN... (
  Freunde der gepflegten Schallwelle ) . .
URL:https://www.goabase.net/party/audioresonanztherapie/47826
CATEGORIES:Psytrance Event
CLASS:PUBLIC
END:VEVENT

BEGIN:VEVENT
UID:af34d8341183054bb658580f45a1553f
DTSTART:20101224T230000
DTEND:20101225T090000
LOCATION:Kiel [Germany]
GEO:54.323000000;10.142000000
DTSTAMP:20101224T230000Z
SUMMARY:HIGHLIGE NACHT
DESCRIPTION:Line Up: ...::NOKTAMID::... ( Crotus Records | Germany )   . .
URL:https://www.goabase.net/party/highlige-nacht/50528
CATEGORIES:Psytrance Event
CLASS:PUBLIC
END:VEVENT

BEGIN:VEVENT
UID:10f83431fe83395618f3d1231a84012e
DTSTART:20101106T220000
DTEND:20101107T100000
LOCATION:Kiel [Germany]
GEO:54.323000000;10.135000000
DTSTAMP:20101106T220000Z
SUMMARY:TIME MANIPULATION // Disco Hooligans first time in Germany
DESCRIPTION:Line Up: & first time in Germany - Presenting their new Album! . .
  ...DISCO HOOLIGANS... ( Ektoplazm Rec. | Greece ) Style: Psy…
URL:https://www.goabase.net/party/time-manipulation-disco-hooligans-first-time-in-germany/47830
CATEGORIES:Psytrance Event
CLASS:PUBLIC
END:VEVENT

BEGIN:VEVENT
UID:daac7ddee2811e55f8e438798aa3d741
DTSTART:20101015T230000
DTEND:20101016T090000
LOCATION:Kiel City [Germany]
GEO:54.322000000;10.132000000
DTSTAMP:20101015T230000Z
SUMMARY:Two Worlds - Chapter II
DESCRIPTION:Line Up: wir alle :)
URL:https://www.goabase.net/party/two-worlds-chapter-ii/55503
CATEGORIES:Psytrance Event
CLASS:PUBLIC
END:VEVENT

BEGIN:VEVENT
UID:916f1fc7c9c78d30c6b8f29f9349a11d
DTSTART:20100807T200000
DTEND:20100808T140000
LOCATION:near Kiel [Germany]
GEO:54.348000000;10.174000000
DTSTAMP:20100807T200000Z
SUMMARY:Water, Wind and Sand O.A. 
DESCRIPTION:Line Up: Schiffe gucken :-)  . .
URL:https://www.goabase.net/party/water-wind-and-sand-oa/47710
CATEGORIES:Psytrance Event
CLASS:PUBLIC
END:VEVENT

END:VCALENDAR