BEGIN:VCALENDAR
VERSION:2.0
PRODID:goabase.net iCalendar 2026
X-WR-CALNAME:goabase.net - parties and people 
X-WR-TIMEZONE;VALUE=TEXT:Europe/Berlin
CALSCALE:GREGORIAN
BEGIN:VTIMEZONE
TZID:Europe/Berlin
X-LIC-LOCATION:Europe/Berlin
BEGIN:DAYLIGHT
TZOFFSETFROM:+0100
TZOFFSETTO:+0200
TZNAME:CEST
DTSTART:19700329T020000
RRULE:FREQ=YEARLY;INTERVAL=1;BYDAY=-1SU;BYMONTH=3
END:DAYLIGHT
BEGIN:STANDARD
TZOFFSETFROM:+0200
TZOFFSETTO:+0100
TZNAME:CET
DTSTART:19701025T030000
RRULE:FREQ=YEARLY;INTERVAL=1;BYDAY=-1SU;BYMONTH=10
END:STANDARD
END:VTIMEZONE

BEGIN:VEVENT
UID:6549f7383f5eaf500cc7232f9413ba96
DTSTART:20180302T170000
DTEND:20180303T160000
LOCATION:cusco [Peru]
GEO:-13.330269800;-72.163093600
DTSTAMP:20180302T170000Z
SUMMARY:QUSQO FULL MOON PARTY
DESCRIPTION:Line Up: LIVE'S - - DJ'S SET'S - - - VJ'S - -
URL:https://www.goabase.net/party/qusqo-full-moon-party/87941
CATEGORIES:Psytrance Event
CLASS:PUBLIC
END:VEVENT

BEGIN:VEVENT
UID:8420dd032d9b5bb7a336b619b0f2da09
DTSTART:20180131T170000
DTEND:20180201T160000
LOCATION:Cusco [Peru]
GEO:-13.330269800;-72.163093600
DTSTAMP:20180131T170000Z
SUMMARY:qusqo full moon party
DESCRIPTION:Line Up: LIVE'S - - DJ'S SET'S - - - VJ'S SETS - -
URL:https://www.goabase.net/party/qusqo-full-moon-party/87940
CATEGORIES:Psytrance Event
CLASS:PUBLIC
END:VEVENT

BEGIN:VEVENT
UID:be2e99dc5436a0da0a7337bef891f354
DTSTART:20170711T160000
DTEND:20170717T100000
LOCATION:cusco [Peru]
GEO:-13.330269800;-72.163093600
DTSTAMP:20170711T160000Z
SUMMARY:PACHAMAMA CONEXION FESTIVAL
DESCRIPTION:Line Up: TRIBAL RAYMI (Main stage) LINE UP : ~~~~~ LIVE&quot;S
  ACT&quot;S ~~~~ - HUANTAR PROJECT - Perú ~~~~~ LIVE&quot;S ~~~~…
URL:https://www.goabase.net/festival/pachamama-conexion-festival/87942
CATEGORIES:Psytrance Event
CLASS:PUBLIC
END:VEVENT

BEGIN:VEVENT
UID:050d0d15caf12fdb82eb6e4d1fe32880
DTSTART:20150612T200000
DTEND:20150613T090000
LOCATION:cusco [Peru]
GEO:-13.500000000;-72.000000000
DTSTAMP:20150612T200000Z
SUMMARY:TUPANANCHIS KAMA (after party pachamama conexion festival 2015 )
DESCRIPTION:Line Up: djs of  pachamama conexion 2015
URL:https://www.goabase.net/party/tupananchis-kama-after-party-pachamama-conexion-festival-2015/74861
CATEGORIES:Psytrance Event
CLASS:PUBLIC
END:VEVENT

BEGIN:VEVENT
UID:8d11758b49f8a0fe5a95b60db6245ba9
DTSTART:20150601T173000
DTEND:20150607T120000
LOCATION:cusco-peru [Peru]
GEO:-13.521234900;-71.971124400
DTSTAMP:20150601T173000Z
SUMMARY:PACHAMAMA CONEXION  FESTIVAL 2015
DESCRIPTION:Line Up: LINE UP: live acts ● Alien Commander (undervoice recs)
  Bolivia ● Abaduthy noj (Nahualgramaton recs) Guatemala ● Beatno…
URL:https://www.goabase.net/festival/pachamama-conexion-festival-2015/74561
CATEGORIES:Psytrance Event
CLASS:PUBLIC
END:VEVENT

BEGIN:VEVENT
UID:754e856bd31a3c4dbd6ebfd1ac900f11
DTSTART:20150418T200000
DTEND:20150419T080000
LOCATION:lima peru [Peru]
GEO:0.000000000;0.000000000
DTSTAMP:20150418T200000Z
SUMMARY:psytrancequsqo festival 2015 ( lima-party )
DESCRIPTION:Line Up: LINE UP: DJS MAKANI (shambala recs) brazil BEATNOSIS (
  underground studio ) peru PAT ZADIK (moonligth music ) peru PSYC…
URL:https://www.goabase.net/party/psytrancequsqo-festival-2015-lima-party/84586
CATEGORIES:Psytrance Event
CLASS:PUBLIC
END:VEVENT

BEGIN:VEVENT
UID:ff3a7cfb978419db514d8d5f83ea1cb8
DTSTART:20130801T133000
DTEND:20130802T120000
LOCATION:cusco [Peru]
GEO:0.000000000;0.000000000
DTSTAMP:20130801T133000Z
SUMMARY:tupananchis kama 2013 (after party pachamama hatun festival)
DESCRIPTION:Line Up: free line up (lives pachamama hatun festival )
URL:https://www.goabase.net/party/tupananchis-kama-2013-after-party-pachamama-hatun-festival/69411
CATEGORIES:Psytrance Event
CLASS:PUBLIC
END:VEVENT

BEGIN:VEVENT
UID:c1f54cf429722c20a1c2767851a32505
DTSTART:20130722T140000
DTEND:20130723T120000
LOCATION:Pisac-Cusco [Peru]
GEO:0.000000000;0.000000000
DTSTAMP:20130722T140000Z
SUMMARY:RITUAL FULL MOON (last day pachamama hatun festival 2013)
DESCRIPTION:Line Up: SPECIAL DAY / RITUAL DAY / LAST DAY
URL:https://www.goabase.net/party/ritual-full-moon-last-day-pachamama-hatun-festival-2013/73306
CATEGORIES:Psytrance Event
CLASS:PUBLIC
END:VEVENT

BEGIN:VEVENT
UID:90676f1d5f2f01605de9dacc952b652a
DTSTART:20130718T170000
DTEND:20130723T120000
LOCATION:cusco [Peru]
GEO:0.000000000;0.000000000
DTSTAMP:20130718T170000Z
SUMMARY:pachamama hatun festival  2013
DESCRIPTION:Line Up: -ufo proyect-speed sounds rec-brasil -yin yang-undervoice
  rec-bolivia -arcano-speed sound-mexico -andean-andean tribe re…
URL:https://www.goabase.net/festival/pachamama-hatun-festival-2013/69410
CATEGORIES:Psytrance Event
CLASS:PUBLIC
END:VEVENT

BEGIN:VEVENT
UID:46e8f5dadfe2185c57479aaf0d9bb70f
DTSTART:20130713T150000
DTEND:20130714T120000
LOCATION:cusco [Peru]
GEO:0.000000000;0.000000000
DTSTAMP:20130713T150000Z
SUMMARY:PSYCOTRONIKA (pre party pachamama hatun festival 2013)
DESCRIPTION:Line Up: washuma-psyperu-cusco
URL:https://www.goabase.net/party/psycotronika-pre-party-pachamama-hatun-festival-2013/69412
CATEGORIES:Psytrance Event
CLASS:PUBLIC
END:VEVENT

BEGIN:VEVENT
UID:47577b8f363791f8426855a383a63bef
DTSTART:20130620T120000
DTEND:20130621T130000
LOCATION:Pisac -Valle Sagrado De Los… [Peru]
GEO:0.000000000;0.000000000
DTSTAMP:20130620T120000Z
SUMMARY:INTIWATANA   free - festival  (danza tribal al solsticio)
DESCRIPTION:
URL:https://www.goabase.net/party/intiwatana-free-festival-danza-tribal-al-solsticio/63772
CATEGORIES:Psytrance Event
CLASS:PUBLIC
END:VEVENT

BEGIN:VEVENT
UID:c81fc06e691ac2ecfaf72d86c13cc894
DTSTART:20121215T130000
DTEND:20121227T120000
LOCATION:pisac- valle sagrado delos… [Peru]
GEO:0.000000000;0.000000000
DTSTAMP:20121215T130000Z
SUMMARY:INCA-TEK   ecosistem festival 
DESCRIPTION:
URL:https://www.goabase.net/festival/inca-tek-ecosistem-festival/69935
CATEGORIES:Psytrance Event
CLASS:PUBLIC
END:VEVENT

BEGIN:VEVENT
UID:3ce7b06c12f7d5bc3872145d0f04fb16
DTSTART:20120808T110000
DTEND:20120809T110000
LOCATION:Cusco [Peru]
GEO:0.000000000;0.000000000
DTSTAMP:20120808T110000Z
SUMMARY:TUPANANCHISKAMA (after party -pachamama hatun festival 2012)
DESCRIPTION:Line Up: DJ,S BANDAS Y SOLISTAS
URL:https://www.goabase.net/party/tupananchiskama-after-party-pachamama-hatun-festival-2012/63773
CATEGORIES:Psytrance Event
CLASS:PUBLIC
END:VEVENT

BEGIN:VEVENT
UID:38cac09a23bc50991f7c165359d4f382
DTSTART:20120729T130000
DTEND:20120803T170000
LOCATION:cusco [Peru]
GEO:0.000000000;0.000000000
DTSTAMP:20120729T130000Z
SUMMARY:PACHAMAMA HATUN FESTIVAL 2012  cambio ciclico/tiempo de arte
DESCRIPTION:Line Up: 1.TRIBAL RAYMI - IGUANA (parvati records) ALEMANIA Naked
  Tourist (connecting the Tribes) - BEATNOSIS / PERU - UGGY BUGGY…
URL:https://www.goabase.net/festival/pachamama-hatun-festival-2012-cambio-ciclicotiempo-de-arte/63769
CATEGORIES:Psytrance Event
CLASS:PUBLIC
END:VEVENT

BEGIN:VEVENT
UID:7c0f92cf4cad0c9c5925e418a77252bf
DTSTART:20120114T110000
DTEND:20120115T100000
LOCATION:lima [Peru]
GEO:0.000000000;0.000000000
DTSTAMP:20120114T110000Z
SUMMARY:TRIBAL RAYMI 
DESCRIPTION:
URL:https://www.goabase.net/party/tribal-raymi/63775
CATEGORIES:Psytrance Event
CLASS:PUBLIC
END:VEVENT

BEGIN:VEVENT
UID:7465a40e7789ab76cd7f2a9c146b03b2
DTSTART:20111217T140000
DTEND:20111218T080000
LOCATION:limaaaaaaaaaaaaaaaaaa [Peru]
GEO:0.000000000;0.000000000
DTSTAMP:20111217T140000Z
SUMMARY:TRIBAL RAYMI solsticio cosmidelico
DESCRIPTION:Line Up: beatnosis / progressive trance -triptamina records peru
URL:https://www.goabase.net/party/tribal-raymi-solsticio-cosmidelico/63770
CATEGORIES:Psytrance Event
CLASS:PUBLIC
END:VEVENT

BEGIN:VEVENT
UID:815b656ec08991084ca8f9de0e1a33e5
DTSTART:20110810T120000
DTEND:20110811T040000
LOCATION:cusco [Peru]
GEO:0.000000000;0.000000000
DTSTAMP:20110810T120000Z
SUMMARY:tupananchis kama
DESCRIPTION:
URL:https://www.goabase.net/party/tupananchis-kama/61509
CATEGORIES:Psytrance Event
CLASS:PUBLIC
END:VEVENT

BEGIN:VEVENT
UID:50ec6ce20c281401d36a0bd94950f0cb
DTSTART:20110806T130000
DTEND:20110807T130000
LOCATION:Valle Sagrado de Los inkas… [Peru]
GEO:0.000000000;0.000000000
DTSTAMP:20110806T130000Z
SUMMARY:*-TUPANANCHISKAMA (After Pachamama Hatun Festival) -*
DESCRIPTION:
URL:https://www.goabase.net/party/tupananchiskama-after-pachamama-hatun-festival/59774
CATEGORIES:Psytrance Event
CLASS:PUBLIC
END:VEVENT

BEGIN:VEVENT
UID:5613c3cb62fa7e4e502a860e06287d35
DTSTART:20110729T120000
DTEND:20110802T183000
LOCATION:Valle Sagrado de los Inkas… [Peru]
GEO:-13.419000000;-72.033000000
DTSTAMP:20110729T120000Z
SUMMARY:* - Pachamama Hatun Festival - *
DESCRIPTION:Line Up: Talleres de Aprendisaje, Shows de fuego, Percusion en vivo,
  Variette de Circo, Teatro, Shows de Improvisacion y Talentos…
URL:https://www.goabase.net/festival/pachamama-hatun-festival/59761
CATEGORIES:Psytrance Event
CLASS:PUBLIC
END:VEVENT

END:VCALENDAR