BEGIN:VCALENDAR
VERSION:2.0
PRODID:goabase.net iCalendar 2026
X-WR-CALNAME:goabase.net - parties and people 
X-WR-TIMEZONE;VALUE=TEXT:Europe/Berlin
CALSCALE:GREGORIAN
BEGIN:VTIMEZONE
TZID:Europe/Berlin
X-LIC-LOCATION:Europe/Berlin
BEGIN:DAYLIGHT
TZOFFSETFROM:+0100
TZOFFSETTO:+0200
TZNAME:CEST
DTSTART:19700329T020000
RRULE:FREQ=YEARLY;INTERVAL=1;BYDAY=-1SU;BYMONTH=3
END:DAYLIGHT
BEGIN:STANDARD
TZOFFSETFROM:+0200
TZOFFSETTO:+0100
TZNAME:CET
DTSTART:19701025T030000
RRULE:FREQ=YEARLY;INTERVAL=1;BYDAY=-1SU;BYMONTH=10
END:STANDARD
END:VTIMEZONE

BEGIN:VEVENT
UID:085b3e8d7f076d9ad68c24da0444dd8a
DTSTART:20170721T120000
DTEND:20170723T180000
LOCATION:Neustrelitz [Germany]
GEO:53.332129670;13.127261490
DTSTAMP:20170721T120000Z
SUMMARY:Natürlich Irre Festival 2017
DESCRIPTION:Line Up: ELEKTROTHERAPEUTSCHE AKTION: ► Rey & Kjavik (Katermukke,
  RKJVK, Frankfurt) ► Reichelt & Raycoux (Random Noise) ► the…
URL:https://www.goabase.net/party/natuerlich-irre-festival-2017/95653
CATEGORIES:Psytrance Event
CLASS:PUBLIC
END:VEVENT

END:VCALENDAR