BEGIN:VCALENDAR
VERSION:2.0
PRODID:goabase.net iCalendar 2026
X-WR-CALNAME:goabase.net - parties and people 
X-WR-TIMEZONE;VALUE=TEXT:Europe/Berlin
CALSCALE:GREGORIAN
BEGIN:VTIMEZONE
TZID:Europe/Berlin
X-LIC-LOCATION:Europe/Berlin
BEGIN:DAYLIGHT
TZOFFSETFROM:+0100
TZOFFSETTO:+0200
TZNAME:CEST
DTSTART:19700329T020000
RRULE:FREQ=YEARLY;INTERVAL=1;BYDAY=-1SU;BYMONTH=3
END:DAYLIGHT
BEGIN:STANDARD
TZOFFSETFROM:+0200
TZOFFSETTO:+0100
TZNAME:CET
DTSTART:19701025T030000
RRULE:FREQ=YEARLY;INTERVAL=1;BYDAY=-1SU;BYMONTH=10
END:STANDARD
END:VTIMEZONE

BEGIN:VEVENT
UID:ba9d4df1c12c3187418b3fe123865261
DTSTART:20140315T220000
DTEND:20140316T100000
LOCATION:Zürich [Switzerland]
GEO:0.000000000;0.000000000
DTSTAMP:20140315T220000Z
SUMMARY:Magic Galaxy - 7 int. Live Acts
DESCRIPTION:Line Up: ☆ ★☆ ★☆ ★☆ 7 LIVE ACTS ★☆ ★☆ ★☆ - - - - - First Time In Swiss
  - - - - - ► Filt (Parasomnia / Melting Runes) Denmark - -…
URL:https://www.goabase.net/party/magic-galaxy-7-int-live-acts/78552
CATEGORIES:Psytrance Event
CLASS:PUBLIC
END:VEVENT

BEGIN:VEVENT
UID:d0a219ae195a51c0e06ffadaf62b1827
DTSTART:20140201T220000
DTEND:20140202T100000
LOCATION:Bülach [Switzerland]
GEO:0.000000000;0.000000000
DTSTAMP:20140201T220000Z
SUMMARY:Magic Moon - Die erste Reise
DESCRIPTION:Line Up: ►SHIVA CHANDRA [SPIN TWIST - DE] ►NITRO & GYCERINE [PSR MUSIC
  - DE] ►8TH SIN [PROG ON SYNDICATE - BRASIL] ►TOXIC UNIVERS…
URL:https://www.goabase.net/party/magic-moon-die-erste-reise/77728
CATEGORIES:Psytrance Event
CLASS:PUBLIC
END:VEVENT

BEGIN:VEVENT
UID:3f0a78e4b92a84ed05b1847b118725cc
DTSTART:20130531T220000
DTEND:20130601T050000
LOCATION:Zürich [Switzerland]
GEO:0.000000000;0.000000000
DTSTAMP:20130531T220000Z
SUMMARY:A Magic Moon - FREE ENTRY @ Rude Club
DESCRIPTION:
URL:https://www.goabase.net/party/a-magic-moon-free-entry-rude-club/73639
CATEGORIES:Psytrance Event
CLASS:PUBLIC
END:VEVENT

BEGIN:VEVENT
UID:c1f36b6864a1151e65949b3c9c6fb98a
DTSTART:20130518T230000
DTEND:20130519T100000
LOCATION:Zürich [Switzerland]
GEO:0.000000000;0.000000000
DTSTAMP:20130518T230000Z
SUMMARY:Magic Moon w/ Berg (Blue Tunes Rec) @ Rude Club ZH
DESCRIPTION:Line Up: ►BERG (ISR - LIVE) ----- BLUE TUNES REC ►NAKATA S (SWISS -
  LIVE) ---…
URL:https://www.goabase.net/party/magic-moon-w-berg-blue-tunes-rec-rude-club-zh/73347
CATEGORIES:Psytrance Event
CLASS:PUBLIC
END:VEVENT

BEGIN:VEVENT
UID:08788912e9547f6becda9a9d221a9451
DTSTART:20130302T230000
DTEND:20130303T080000
LOCATION:Zürich [Switzerland]
GEO:0.000000000;0.000000000
DTSTAMP:20130302T230000Z
SUMMARY:Magic Moon | Coming Soon Live | Alte Kaserne ZH
DESCRIPTION:Line Up: ►COMING SOON (ISR - LIVE) ----- SPIN TWIST RECORDS - ISR ►
  COMPLEX CUBE (SWISS - LIVE) -----…
URL:https://www.goabase.net/party/magic-moon-coming-soon-live-alte-kaserne-zh/72000
CATEGORIES:Psytrance Event
CLASS:PUBLIC
END:VEVENT

BEGIN:VEVENT
UID:f40a71100e64956ba37274966e35dd59
DTSTART:20130216T230000
DTEND:20130217T100000
LOCATION:Zürich, Alte Kaserne [Switzerland]
GEO:0.000000000;0.000000000
DTSTAMP:20130216T230000Z
SUMMARY:Magic Moon ( Freedom Fighters & Symbolic )
DESCRIPTION:Line Up: ► FREEDOM FIGHTERS (ISR) LIVE --- HOMmega ISRAEL ► SYMBOLIC
  (ISR) LIVE ----…
URL:https://www.goabase.net/party/magic-moon-freedom-fighters-symbolic/70379
CATEGORIES:Psytrance Event
CLASS:PUBLIC
END:VEVENT

BEGIN:VEVENT
UID:1f7b2b2ea20c391d3ed1b70310bee275
DTSTART:20121208T233000
DTEND:20121209T080000
LOCATION:Zürich - Alte Kaserne [Switzerland]
GEO:0.000000000;0.000000000
DTSTAMP:20121208T233000Z
SUMMARY:Magic Moon - 6 Live Acts @ Alte Kaserne
DESCRIPTION:Line Up: &#9658- AEROSPACE (ISR) LIVE --- DIGITAL NATURE ISRAEL
  &#9658- ECHOTEK (ISR) LIVE -----…
URL:https://www.goabase.net/party/magic-moon-6-live-acts-alte-kaserne/70084
CATEGORIES:Psytrance Event
CLASS:PUBLIC
END:VEVENT

BEGIN:VEVENT
UID:40953d09408747ad8a75ea0a2a3faf54
DTSTART:20121110T230000
DTEND:20121111T070000
LOCATION:Zürich [Switzerland]
GEO:0.000000000;0.000000000
DTSTAMP:20121110T230000Z
SUMMARY:MAGIC MOON mit SHIVA CHANDRA (DE) und FIRE-STARTER (ISR)
DESCRIPTION:Line Up: &#9658- SHIVA CHANDRA (DE) LIVE --- SPINTWIST RECORDS HAMBURG
  &#9658- FIRE-STARTER (IS…
URL:https://www.goabase.net/party/magic-moon-mit-shiva-chandra-de-und-fire-starter-isr/69352
CATEGORIES:Psytrance Event
CLASS:PUBLIC
END:VEVENT

BEGIN:VEVENT
UID:f10c6ee81ee4914a37a0b8889f50d0e9
DTSTART:20120302T220000
DTEND:20120303T080000
LOCATION:Zürich-Altstetten [Switzerland]
GEO:0.000000000;0.000000000
DTSTAMP:20120302T220000Z
SUMMARY:District 1 with *JISER LIVE*
DESCRIPTION:Line Up: Jiser (Spin Twist Records) Mexiko
URL:https://www.goabase.net/party/district-1-with-jiser-live/65312
CATEGORIES:Psytrance Event
CLASS:PUBLIC
END:VEVENT

END:VCALENDAR