BEGIN:VCALENDAR
VERSION:2.0
PRODID:goabase.net iCalendar 2026
X-WR-CALNAME:goabase.net - parties and people 
X-WR-TIMEZONE;VALUE=TEXT:Europe/Berlin
CALSCALE:GREGORIAN
BEGIN:VTIMEZONE
TZID:Europe/Berlin
X-LIC-LOCATION:Europe/Berlin
BEGIN:DAYLIGHT
TZOFFSETFROM:+0100
TZOFFSETTO:+0200
TZNAME:CEST
DTSTART:19700329T020000
RRULE:FREQ=YEARLY;INTERVAL=1;BYDAY=-1SU;BYMONTH=3
END:DAYLIGHT
BEGIN:STANDARD
TZOFFSETFROM:+0200
TZOFFSETTO:+0100
TZNAME:CET
DTSTART:19701025T030000
RRULE:FREQ=YEARLY;INTERVAL=1;BYDAY=-1SU;BYMONTH=10
END:STANDARD
END:VTIMEZONE

BEGIN:VEVENT
UID:aa283002dcb07e045eb90bef97c860d3
DTSTART:20260509T233000
DTEND:20260510T100000
LOCATION:Santo Tirso [Portugal]
GEO:41.342570000;-8.477460000
DTSTAMP:20260509T233000Z
SUMMARY:The Flying Circus Of Unreal Frequencies
DESCRIPTION:Line Up: HEADLINER: ETNICA 🇮🇹 [LIVE] Max Lanfranconi, pioneiro
  absoluto do Goa Trance desde 1993 e uma lenda viva da cena mundial…
  Location: Pedra do Couto, R. Santo André, 4780-222 Santo Tirso,
  4780-222 Santo Tirso
URL:https://www.goabase.net/party/the-flying-circus-of-unreal-frequencies/117450
CATEGORIES:Psytrance Event
CLASS:PUBLIC
END:VEVENT

END:VCALENDAR