BEGIN:VCALENDAR
VERSION:2.0
PRODID:goabase.net iCalendar 2026
X-WR-CALNAME:goabase.net - parties and people - partytimer from alpha
X-WR-TIMEZONE;VALUE=TEXT:Europe/Berlin
CALSCALE:GREGORIAN
BEGIN:VTIMEZONE
TZID:Europe/Berlin
X-LIC-LOCATION:Europe/Berlin
BEGIN:DAYLIGHT
TZOFFSETFROM:+0100
TZOFFSETTO:+0200
TZNAME:CEST
DTSTART:19700329T020000
RRULE:FREQ=YEARLY;INTERVAL=1;BYDAY=-1SU;BYMONTH=3
END:DAYLIGHT
BEGIN:STANDARD
TZOFFSETFROM:+0200
TZOFFSETTO:+0100
TZNAME:CET
DTSTART:19701025T030000
RRULE:FREQ=YEARLY;INTERVAL=1;BYDAY=-1SU;BYMONTH=10
END:STANDARD
END:VTIMEZONE
BEGIN:VEVENT
UID:d1317ca73d3f6eebb81a91bd9550ae1a
DTSTART:20260424T220000
DTEND:20260425T060000
LOCATION:Wien [Austria]
GEO:48.200000000;16.400000000
DTSTAMP:20260424T220000Z
SUMMARY:Endless Insanity Part I • TZU-JAN, ILA NOVA, KAPJE DOPJE
DESCRIPTION:Line Up: • Musik • TZU-JAN - 3H LIVE Sacred Sound / Kerveros Rec. ILA
  NOVA - 3H LIVE Post Modern Music / Divinorum Rec. / Enygma… Location:
  Weberknecht, Lerchenfelder Gürtel 47-49, 1160 Wien
URL:https://www.goabase.net/party/endless-insanity-part-i-tzu-jan-ila-nova-kapje-dopje/117304
CATEGORIES:Psytrance Event
CLASS:PUBLIC
END:VEVENT
BEGIN:VEVENT
UID:7b29b92bc07eb0bfbe72f680479723ff
DTSTART:20260426T200000
DTEND:20260426T230000
LOCATION:Hamburg [Germany]
GEO:53.600000000;10.000000000
DTSTAMP:20260426T200000Z
SUMMARY:alpha.s crazy sounds: forest - darkpsy - psycore - hitech
DESCRIPTION:Line Up: GIVE THE PEOPLE, WHAT THEY NEED - GOOD MUSIC ! ***** program
  📡 alpha.… Location: alpha.s flat studios, , 22419 Hamburg
URL:https://www.goabase.net/party/alphas-crazy-sounds-forest-darkpsy-psycore-hitech/117325
CATEGORIES:Psytrance Event
CLASS:PUBLIC
END:VEVENT
BEGIN:VEVENT
UID:f3ec39fe8a814ee0c9316b5529863a64
DTSTART:20260430T200000
DTEND:20260430T230000
LOCATION:Hamburg [Germany]
GEO:53.600000000;10.000000000
DTSTAMP:20260430T200000Z
SUMMARY:alpha.s crazy sounds: hitech show
DESCRIPTION:Line Up: GIVE THE PEOPLE, WHAT THEY NEED - GOOD MUSIC ! *****
  Location: alpha.s flat studios, , 22419 Hamburg
URL:https://www.goabase.net/party/alphas-crazy-sounds-hitech-show/117321
CATEGORIES:Psytrance Event
CLASS:PUBLIC
END:VEVENT
BEGIN:VEVENT
UID:cb59de205ebb458df0848a93014e1a02
DTSTART:20260501T120000
DTEND:20260501T233000
LOCATION:Vienna Baby [Austria]
GEO:48.200000000;16.400000000
DTSTAMP:20260501T120000Z
SUMMARY:1.Mai Free Open Air
DESCRIPTION:Line Up: T.B.A Location: VCBC, , 1220 Vienna Baby
URL:https://www.goabase.net/party/1mai-free-open-air/115717
CATEGORIES:Psytrance Event
CLASS:PUBLIC
END:VEVENT
BEGIN:VEVENT
UID:6c12f2f0ae9f0a4ae35bd3a77336afd1
DTSTART:20260501T230000
DTEND:20260502T060000
LOCATION:Wien [Austria]
GEO:48.200000000;16.400000000
DTSTAMP:20260501T230000Z
SUMMARY:PIRATES AT THE DANUBE - 1.Mai Afterparty w/ KALA, KLANGMASSAKER and more
DESCRIPTION:Line Up: 🌊 PIRATES AT THE DANUBE 🌊 🏴‍☠ KALA 🏴‍☠ KLANGMASSAKER 🏴‍☠
  ALPHA 🏴‍☠ 🏴‍☠ SABSUNSHINE 🏴‍☠ CAMSIS 🏴‍☠ 🏴‍☠ INSANO 🏴‍☠PINOCIO…
  Location: Flex, Augartenbrücke 1, 1010 Wien
URL:https://www.goabase.net/party/pirates-at-the-danube-1mai-afterparty-w-kala-klangmassaker-and-more/116486
CATEGORIES:Psytrance Event
CLASS:PUBLIC
END:VEVENT
BEGIN:VEVENT
UID:1731c34d20ff8a0b5275fb432c2cdd39
DTSTART:20260503T200000
DTEND:20260503T230000
LOCATION:Hamburg [Germany]
GEO:53.600000000;10.000000000
DTSTAMP:20260503T200000Z
SUMMARY:alpha.s crazy sounds: hitech show
DESCRIPTION:Line Up: GIVE THE PEOPLE, WHAT THEY NEED - GOOD MUSIC ! *****
  Location: alpha.s flat studios, , 22419 Hamburg
URL:https://www.goabase.net/party/alphas-crazy-sounds-hitech-show/117464
CATEGORIES:Psytrance Event
CLASS:PUBLIC
END:VEVENT
BEGIN:VEVENT
UID:a0bfb55880283c9515642c73bae6c5fd
DTSTART:20260507T200000
DTEND:20260507T230000
LOCATION:Hamburg [Germany]
GEO:53.600000000;10.000000000
DTSTAMP:20260507T200000Z
SUMMARY:alpha.s crazy sounds:
DESCRIPTION:Line Up: GIVE THE PEOPLE, WHAT THEY NEED - GOOD MUSIC ! *****
  Location: alpha.s flat studios, , 22419 Hamburg
URL:https://www.goabase.net/party/alphas-crazy-sounds/117456
CATEGORIES:Psytrance Event
CLASS:PUBLIC
END:VEVENT
BEGIN:VEVENT
UID:92e4616c644ff8c7fd56aa133c92f7d5
DTSTART:20260508T230000
DTEND:20260509T080000
LOCATION:Hamburg [Germany]
GEO:53.600000000;10.000000000
DTSTAMP:20260508T230000Z
SUMMARY:Psychedelic Summer Trip Proggy Night
DESCRIPTION:Line Up: Psy4Fly Semprah Dr. Uff Searching Peace Psytrax Fidelias
  Location: Juice Club, Stresemannstraße 204, 22769 Hamburg
URL:https://www.goabase.net/party/psychedelic-summer-trip-proggy-night/117452
CATEGORIES:Psytrance Event
CLASS:PUBLIC
END:VEVENT
BEGIN:VEVENT
UID:1f45ec07f368f1164e8b4686416b48b9
DTSTART:20260509T220000
DTEND:20260510T070000
LOCATION:hamburg [Germany]
GEO:53.600000000;10.000000000
DTSTAMP:20260509T220000Z
SUMMARY:Confusion of Darkness II
DESCRIPTION:Line Up: Darkpsy/Darkcore by Void Sanctuary NAKBA Live Kaius Bactus
  Vaas Alpha Location: Rote Flora, Achidi-John-Platz 1, 20357 hamburg
URL:https://www.goabase.net/party/confusion-of-darkness-ii/117337
CATEGORIES:Psytrance Event
CLASS:PUBLIC
END:VEVENT
BEGIN:VEVENT
UID:2b77d5220141414eb600afbb75cc8f9e
DTSTART:20260510T200000
DTEND:20260510T230000
LOCATION:Hamburg [Germany]
GEO:53.600000000;10.000000000
DTSTAMP:20260510T200000Z
SUMMARY:alpha.s crazy sounds:
DESCRIPTION:Line Up: GIVE THE PEOPLE, WHAT THEY NEED - GOOD MUSIC ! ***** program
  ▶️ 23:00… Location: alpha.s flat studios, , 22419 Hamburg
URL:https://www.goabase.net/party/alphas-crazy-sounds/117460
CATEGORIES:Psytrance Event
CLASS:PUBLIC
END:VEVENT
BEGIN:VEVENT
UID:d4ba2f0083c2659a4444a3f77fcdfb1a
DTSTART:20260514T200000
DTEND:20260514T230000
LOCATION:Hamburg [Germany]
GEO:53.600000000;10.000000000
DTSTAMP:20260514T200000Z
SUMMARY:alpha.s crazy sounds:
DESCRIPTION:Line Up: GIVE THE PEOPLE, WHAT THEY NEED - GOOD MUSIC ! *****
  Location: alpha.s flat studios, , 22419 Hamburg
URL:https://www.goabase.net/party/alphas-crazy-sounds/117457
CATEGORIES:Psytrance Event
CLASS:PUBLIC
END:VEVENT
BEGIN:VEVENT
UID:cd2bf364bea82b8c395dcc73f47b2e44
DTSTART:20260517T200000
DTEND:20260517T230000
LOCATION:Hamburg [Germany]
GEO:53.600000000;10.000000000
DTSTAMP:20260517T200000Z
SUMMARY:alpha.s crazy sounds:
DESCRIPTION:Line Up: GIVE THE PEOPLE, WHAT THEY NEED - GOOD MUSIC ! ***** program
  ▶️ 23:00… Location: alpha.s flat studios, , 22419 Hamburg
URL:https://www.goabase.net/party/alphas-crazy-sounds/117461
CATEGORIES:Psytrance Event
CLASS:PUBLIC
END:VEVENT
BEGIN:VEVENT
UID:d56a9c6a1c943447b964085aabe4e62b
DTSTART:20260521T200000
DTEND:20260521T230000
LOCATION:Hamburg [Germany]
GEO:53.600000000;10.000000000
DTSTAMP:20260521T200000Z
SUMMARY:alpha.s crazy sounds:
DESCRIPTION:Line Up: GIVE THE PEOPLE, WHAT THEY NEED - GOOD MUSIC ! *****
  Location: alpha.s flat studios, , 22419 Hamburg
URL:https://www.goabase.net/party/alphas-crazy-sounds/117458
CATEGORIES:Psytrance Event
CLASS:PUBLIC
END:VEVENT
BEGIN:VEVENT
UID:aacf67073541ba194d3be8bba777b183
DTSTART:20260524T200000
DTEND:20260524T230000
LOCATION:Hamburg [Germany]
GEO:53.600000000;10.000000000
DTSTAMP:20260524T200000Z
SUMMARY:alpha.s crazy sounds:
DESCRIPTION:Line Up: GIVE THE PEOPLE, WHAT THEY NEED - GOOD MUSIC ! ***** program
  ▶️ 23:00… Location: alpha.s flat studios, , 22419 Hamburg
URL:https://www.goabase.net/party/alphas-crazy-sounds/117462
CATEGORIES:Psytrance Event
CLASS:PUBLIC
END:VEVENT
BEGIN:VEVENT
UID:14e05a9fd8469b87a4b74f349cd4159b
DTSTART:20260528T200000
DTEND:20260528T230000
LOCATION:Hamburg [Germany]
GEO:53.600000000;10.000000000
DTSTAMP:20260528T200000Z
SUMMARY:alpha.s crazy sounds:
DESCRIPTION:Line Up: GIVE THE PEOPLE, WHAT THEY NEED - GOOD MUSIC ! *****
  Location: alpha.s flat studios, , 22419 Hamburg
URL:https://www.goabase.net/party/alphas-crazy-sounds/117459
CATEGORIES:Psytrance Event
CLASS:PUBLIC
END:VEVENT
BEGIN:VEVENT
UID:2ac50987a7468c999d0485255b911be8
DTSTART:20260531T200000
DTEND:20260531T230000
LOCATION:Hamburg [Germany]
GEO:53.600000000;10.000000000
DTSTAMP:20260531T200000Z
SUMMARY:alpha.s crazy sounds:
DESCRIPTION:Line Up: GIVE THE PEOPLE, WHAT THEY NEED - GOOD MUSIC ! ***** program
  ▶️ 23:00… Location: alpha.s flat studios, , 22419 Hamburg
URL:https://www.goabase.net/party/alphas-crazy-sounds/117463
CATEGORIES:Psytrance Event
CLASS:PUBLIC
END:VEVENT
BEGIN:VEVENT
UID:b03085ab61d0cd78f59cf63f81c09ff8
DTSTART:20260605T180000
DTEND:20260607T150000
LOCATION:Madrid [Spain]
GEO:40.400000000;-3.700000000
DTSTAMP:20260605T180000Z
SUMMARY:KUMBHALA FESTIVAL
DESCRIPTION:Line Up: COMMING SOON Location: COLMENAR VIEJO, ,  Madrid
URL:https://www.goabase.net/festival/kumbhala-festival/115984
CATEGORIES:Psytrance Event
CLASS:PUBLIC
END:VEVENT
BEGIN:VEVENT
UID:234065f1d5ddeefd75fc3fd65cb5b155
DTSTART:20260703T220000
DTEND:20260705T220000
LOCATION:neuruppin [Germany]
GEO:52.400000000;9.700000000
DTSTAMP:20260703T220000Z
SUMMARY:Shut up & Dance
DESCRIPTION:Line Up: live: Spacepunks (catawampus rec) Fractalien (catawampus rec
  shut up & dance) more t.b.a. Dj.s : Antikriz (Horrordelic R…
URL:https://www.goabase.net/party/shut-up-dance/116568
CATEGORIES:Psytrance Event
CLASS:PUBLIC
END:VEVENT
BEGIN:VEVENT
UID:7b3de181f7037ce2c66e25603181c82e
DTSTART:20260714T120000
DTEND:20260720T120000
LOCATION:Tuscania [Italy]
GEO:42.400000000;11.900000000
DTSTAMP:20260714T120000Z
SUMMARY:7 Chakras Festival 2026 - The Unfolding Spiral
DESCRIPTION:Location: Tuscania, Italy, Strada Vetrallese, Tuscania, Lazio, Italy,
  01017 Tuscania
URL:https://www.goabase.net/festival/7-chakras-festival-2026-the-unfolding-spiral/115802
CATEGORIES:Psytrance Event
CLASS:PUBLIC
END:VEVENT
BEGIN:VEVENT
UID:41a92f9001595347fbc20be32351af36
DTSTART:20260716T150000
DTEND:20260720T180000
LOCATION:Wales [United Kingdom]
GEO:53.340610000;-1.281620000
DTSTAMP:20260716T150000Z
SUMMARY:Magikana Festival 2026 ~ Conscious Psy Festival of Visionary Music & Arts
DESCRIPTION:Line Up: *** WIZARD’S PYRAMID STAGE *** PsyTrance & PsyProg: Fullon ~
  BushProg ~ DarkPsy ~ DarkProg ~ Forest * Electrypnose (CH-E… Location:
  Magikana Mountain, , SY25 Wales
URL:https://www.goabase.net/festival/magikana-festival-2026-conscious-psy-festival-of-visionary-music-arts/116277
CATEGORIES:Psytrance Event
CLASS:PUBLIC
END:VEVENT
BEGIN:VEVENT
UID:02e8b5efb2c6a745ee32b55c5a4abf13
DTSTART:20260716T220000
DTEND:20260720T120000
LOCATION:Bourgogne [France]
GEO:49.349620000;4.071110000
DTSTAMP:20260716T220000Z
SUMMARY:Nataraja Psychedelic Gathering 2026 | 10 YEARS
DESCRIPTION:Line Up: TBA Location: Domats, , 89150 Bourgogne
URL:https://www.goabase.net/festival/nataraja-psychedelic-gathering-2026-10-years/116240
CATEGORIES:Psytrance Event
CLASS:PUBLIC
END:VEVENT
BEGIN:VEVENT
UID:4f972cd60b6007fd65a8445b1fbbdf50
DTSTART:20260724T170000
DTEND:20260726T170000
LOCATION:Nasbinals [France]
GEO:0.000000000;0.000000000
DTSTAMP:20260724T170000Z
SUMMARY:Fraktal Forest Festival 2026
DESCRIPTION:Line Up: Mainstage Korner Vision Dark Lavoine - Erebos records Sekoya
  - Erebos records Tool Assisted Monkey - Funky Freaks Rec… Location: La
  grange du Déroc, , 48260 Nasbinals
URL:https://www.goabase.net/festival/fraktal-forest-festival-2026/116359
CATEGORIES:Psytrance Event
CLASS:PUBLIC
END:VEVENT
BEGIN:VEVENT
UID:0804d92ba2f2bb8db327c8d6d8c69d70
DTSTART:20260803T090000
DTEND:20260809T190000
LOCATION:Village Ilino [Serbia]
GEO:43.797450000;21.946760000
DTSTAMP:20260803T090000Z
SUMMARY:Pyramid Festival 2026 – SOVRA Edition
DESCRIPTION:Location: Village Ilino, , 19370 Village Ilino
URL:https://www.goabase.net/festival/pyramid-festival-2026-sovra-edition/116250
CATEGORIES:Psytrance Event
CLASS:PUBLIC
END:VEVENT
BEGIN:VEVENT
UID:c6d2d045dce3a282706b6388e58ff1ee
DTSTART:20260810T220000
DTEND:20260814T120000
LOCATION:Aragón [Spain]
GEO:38.890370000;-77.031960000
DTSTAMP:20260810T220000Z
SUMMARY:Sizigia Eclipse Gathering 2026
DESCRIPTION:Line Up: - ORIGEN STAGE - (Psychedelic Trance) 1200 MIC by Riktam 3LMT
  ACE VENTURA AMETRINA AMPLIFY B2B HYPNOISE ANNY ANOEBIS ARJ… Location:
  Embalse de la Sotonera, Ctra. Camping, 4, 22283 Alcalá de Gurrea,
  Huesca, Spain, 22283 Aragón
URL:https://www.goabase.net/festival/sizigia-eclipse-gathering-2026/115726
CATEGORIES:Psytrance Event
CLASS:PUBLIC
END:VEVENT
BEGIN:VEVENT
UID:a64d2a2d71785237b81ccf8430fd770f
DTSTART:20260811T130000
DTEND:20260814T180000
LOCATION:Vinuesa [Spain]
GEO:12.400000000;-86.900000000
DTSTAMP:20260811T130000Z
SUMMARY:Iberia Eclipse (Total Solar Eclipse)
DESCRIPTION:Line Up: To be announced soon
URL:https://www.goabase.net/festival/iberia-eclipse-total-solar-eclipse/115627
CATEGORIES:Psytrance Event
CLASS:PUBLIC
END:VEVENT
BEGIN:VEVENT
UID:8338fc032296fbbc2fcd9ebe31b307a6
DTSTART:20260814T180000
DTEND:20260816T120000
LOCATION:Kröpelin [Germany]
GEO:54.000000000;11.800000000
DTSTAMP:20260814T180000Z
SUMMARY:KomaBar Openair 2026
DESCRIPTION:Line Up: ✪ Main-Stage (Progressive-/Psytrance/FullOn)🕉 ►Atacama (Iono
  Music) ► Be´Cube (Studio21) ► Bobby b2b Pahumeros (Savva… Location:
  KomaBar, Landweg 5A, 18236 Kröpelin
URL:https://www.goabase.net/festival/komabar-openair-2026/116934
CATEGORIES:Psytrance Event
CLASS:PUBLIC
END:VEVENT
BEGIN:VEVENT
UID:b8cd694cfd48806f51a7e8a33960308b
DTSTART:20261220T000000
DTEND:20261221T000000
LOCATION:Hannover [Germany]
GEO:52.400000000;9.700000000
DTSTAMP:20261220T000000Z
SUMMARY:shut up & dance 24 hrs wintersolstice
DESCRIPTION:Line Up: residents & more
URL:https://www.goabase.net/party/shut-up-dance-24-hrs-wintersolstice/116695
CATEGORIES:Psytrance Event
CLASS:PUBLIC
END:VEVENT
END:VCALENDAR