BEGIN:VCALENDAR
VERSION:2.0
PRODID:goabase.net iCalendar 2026
X-WR-CALNAME:goabase.net - parties and people 
X-WR-TIMEZONE;VALUE=TEXT:Europe/Berlin
CALSCALE:GREGORIAN
BEGIN:VTIMEZONE
TZID:Europe/Berlin
X-LIC-LOCATION:Europe/Berlin
BEGIN:DAYLIGHT
TZOFFSETFROM:+0100
TZOFFSETTO:+0200
TZNAME:CEST
DTSTART:19700329T020000
RRULE:FREQ=YEARLY;INTERVAL=1;BYDAY=-1SU;BYMONTH=3
END:DAYLIGHT
BEGIN:STANDARD
TZOFFSETFROM:+0200
TZOFFSETTO:+0100
TZNAME:CET
DTSTART:19701025T030000
RRULE:FREQ=YEARLY;INTERVAL=1;BYDAY=-1SU;BYMONTH=10
END:STANDARD
END:VTIMEZONE

BEGIN:VEVENT
UID:3b7a1367f610aa086e1b9526bd11fa15
DTSTART:20260424T220000
DTEND:20260425T053000
LOCATION:München [Germany]
GEO:47.000000000;7.500000000
DTSTAMP:20260424T220000Z
SUMMARY:Psychedelicate Spring Encounters 2026
DESCRIPTION:Line-up: ❁ Lineup ❁ ॐ bu.K (Stashmu Records) ॐ ॐ Chinchilla (NYXTRIPS)
  ॐ ॐ morphing mantra (Psychedelicate) ॐ ॐ 1off2 (Psyched… Lieu: You
  Loft, Landsberger Strasse 163 (beim Bauhaus), 80687 München
URL:https://www.goabase.net/fr/party/psychedelicate-spring-encounters-2026/117029
CATEGORIES:Psytrance Event
CLASS:PUBLIC
END:VEVENT

BEGIN:VEVENT
UID:ee54d392222857f5465b896e7175464c
DTSTART:20260424T220000
DTEND:20260425T050000
LOCATION:Prague [Czech Republic]
GEO:50.100000000;14.400000000
DTSTAMP:20260424T220000Z
SUMMARY:Raverzz present: Psychedelic Chronicles w/IKØN
DESCRIPTION:Line-up: IKØN, TOD, Ondrej Psyla, Vertigo, Matheus Lieu: Chapeau Rouge
  Prague, Jakubská 2, 11000 Prague
URL:https://www.goabase.net/fr/party/raverzz-present-psychedelic-chronicles-wikon/117179
CATEGORIES:Psytrance Event
CLASS:PUBLIC
END:VEVENT

BEGIN:VEVENT
UID:d1317ca73d3f6eebb81a91bd9550ae1a
DTSTART:20260424T220000
DTEND:20260425T060000
LOCATION:Wien [Austria]
GEO:48.200000000;16.400000000
DTSTAMP:20260424T220000Z
SUMMARY:Endless Insanity Part I • TZU-JAN, ILA NOVA, KAPJE DOPJE
DESCRIPTION:Line-up: • Musik • TZU-JAN - 3H LIVE Sacred Sound / Kerveros Rec. ILA
  NOVA - 3H LIVE Post Modern Music / Divinorum Rec. / Enygma… Lieu:
  Weberknecht, Lerchenfelder Gürtel 47-49, 1160 Wien
URL:https://www.goabase.net/fr/party/endless-insanity-part-i-tzu-jan-ila-nova-kapje-dopje/117304
CATEGORIES:Psytrance Event
CLASS:PUBLIC
END:VEVENT

BEGIN:VEVENT
UID:3da71db300e42a4112cfbd7f7a078a66
DTSTART:20260424T220000
DTEND:20260425T120000
LOCATION:Berlin [Germany]
GEO:52.500000000;13.400000000
DTSTAMP:20260424T220000Z
SUMMARY:Truck Rave the Planet/Goanautika, Ostfunk
DESCRIPTION:Line-up: Klopfgeister vs Eartha Harris SIMINA GRIGORIU DANIELA HENSEL
  ALLEGRA LEEROY BENNI MOON Diana May Daniel Boon Basstronaut… Lieu: Rave
  the Planet, Straße des 17 Juni, 10557 Berlin
URL:https://www.goabase.net/fr/party/truck-rave-the-planetgoanautika-ostfunk/117439
CATEGORIES:Psytrance Event
CLASS:PUBLIC
END:VEVENT

BEGIN:VEVENT
UID:57fa42ee299028b080bf46e249097d45
DTSTART:20260424T230000
DTEND:20260425T080000
LOCATION:Hamburg [Germany]
GEO:53.600000000;10.000000000
DTSTAMP:20260424T230000Z
SUMMARY:Eins Psy Drei
DESCRIPTION:Line-up: Raven, Marshall Optix, Darbouka, Acid Monky, ChillmaHilmar
  und Blue Libellule Lieu: Juice Club, Stresemannstraße 204, 22769
  Hamburg
URL:https://www.goabase.net/fr/party/eins-psy-drei/117194
CATEGORIES:Psytrance Event
CLASS:PUBLIC
END:VEVENT

BEGIN:VEVENT
UID:49b5ad087816982fee4cd170fb80f37e
DTSTART:20260424T230000
DTEND:20260425T063000
LOCATION:Tokyo [Japan]
GEO:35.700000000;139.800000000
DTSTAMP:20260424T230000Z
SUMMARY:Crystal Flow Vol.８ - Organized by AO
DESCRIPTION:Line-up: Line Up -Live: AO (Trance Guitar / Koenji Cave) DJとGuitar
  (nobu+AO) O1-N -DJ's ム (キカイズ) Takehiro (magi9/Koenji Cave) Rou… Lieu:
  DJ's Bar Cave, 4-23-5 Koenjiminami, Suginami-ku, Tokyo, 1660003 Tokyo
URL:https://www.goabase.net/fr/party/crystal-flow-vol-organized-by-ao/117234
CATEGORIES:Psytrance Event
CLASS:PUBLIC
END:VEVENT

BEGIN:VEVENT
UID:826b68c7be8f0057dda9e7425316875d
DTSTART:20260425T220000
DTEND:20260426T050000
LOCATION:Radolfzell am Bodensee [Germany]
GEO:47.700000000;9.000000000
DTSTAMP:20260425T220000Z
SUMMARY:NYXTRIPS FREQUENCIES LIVE
DESCRIPTION:Line-up: Vier DJs des FLINTA* Psytrance Netzwerks NYXTRIPS - Namen und
  Timetable vor Ort 🤫 Psytrance, Full On, Night Psy 👽 Lieu: s'Bokle,
  Robert-Gerwig-Straße 12, 78315 Radolfzell am Bodensee
URL:https://www.goabase.net/fr/party/nyxtrips-frequencies-live/116748
CATEGORIES:Psytrance Event
CLASS:PUBLIC
END:VEVENT

BEGIN:VEVENT
UID:b4e6e92df8a52a20e5881a12af2b3676
DTSTART:20260425T230000
DTEND:20260426T120000
LOCATION:Hattingen [Germany]
GEO:51.400000000;7.200000000
DTSTAMP:20260425T230000Z
SUMMARY:COSMIC TEMPLE Sundance’s Birthday featuring OCTOGOAT LIVE
DESCRIPTION:Line-up: OCTOGOAT (LIVE) SUNDANCE NEBOIŠA AUDIONAUT SURIDAY M15CHK1ND
  DECO CONCEPT: TAUSENDSASA SPEC
URL:https://www.goabase.net/fr/party/cosmic-temple-sundances-birthday-featuring-octogoat-live/116866
CATEGORIES:Psytrance Event
CLASS:PUBLIC
END:VEVENT

BEGIN:VEVENT
UID:67f6dfd07e25eb8f802cf06538b39bea
DTSTART:20260425T230000
DTEND:20260426T070000
LOCATION:Tokyo [Japan]
GEO:35.700000000;139.800000000
DTSTAMP:20260425T230000Z
SUMMARY:Koenji Cave & HANABI presents ∴ TEMPEST ∴ Vol. 20
DESCRIPTION:Line-up: ◇ Line up ◇ ◇ Main Floor ◇ -Live: JIMI GREEN (Looney Moon
  Records) VAION (Sonitum Records) ㅤ -DJs: CHACK (OUROBOROS MU… Lieu:
  DJ's Bar Cave, 4-23-5 Koenjiminami, Suginami-ku, Tokyo, 1660003 Tokyo
URL:https://www.goabase.net/fr/party/koenji-cave-hanabi-presents-tempest-vol-20/117235
CATEGORIES:Psytrance Event
CLASS:PUBLIC
END:VEVENT

BEGIN:VEVENT
UID:ad1fb6bf6fad9a8a127a29f649a77419
DTSTART:20260429T180000
DTEND:20260429T230000
LOCATION:Zurich [Switzerland]
GEO:47.400000000;8.500000000
DTSTAMP:20260429T180000Z
SUMMARY:7 Vibes Journey in Zurich ::: Helvetia
DESCRIPTION:Lieu: Hive, Geroldstrasse 5, 8005 Zurich
URL:https://www.goabase.net/fr/party/7-vibes-journey-in-zurich-helvetia/117358
CATEGORIES:Psytrance Event
CLASS:PUBLIC
END:VEVENT

BEGIN:VEVENT
UID:dafcec84a6abdda2351af8aafd7aa4ea
DTSTART:20260501T160000
DTEND:20260502T060000
LOCATION:Bratislava [Slovakia]
GEO:48.200000000;17.100000000
DTSTAMP:20260501T160000Z
SUMMARY:PSYDECK-PsyMay, Fullmoon edition
DESCRIPTION:Line-up: Live acts: JUJU PLANET DUB Djs: Amarela /WomandBass /
  Colombia Kary / Psyverse.sk Magnetique / Cosmic Dance, G-Soniqe Hy…
  Lieu: SUB DECK, Tyršovo nábrežie, 85101 Bratislava
URL:https://www.goabase.net/fr/party/psydeck-psymay-fullmoon-edition/117373
CATEGORIES:Psytrance Event
CLASS:PUBLIC
END:VEVENT

BEGIN:VEVENT
UID:b688cf201b7c3e5620b747d333c17aa4
DTSTART:20260502T210000
DTEND:20260503T060000
LOCATION:Berikon [Switzerland]
GEO:47.400000000;8.400000000
DTSTAMP:20260502T210000Z
SUMMARY:STALDE-RAVE
DESCRIPTION:Line-up: BLAX LMNS TAYCA NICONOMICO Lieu: Stalden Bar,
  Friedlisbergstrasse 9, 8965 Berikon
URL:https://www.goabase.net/fr/party/stalde-rave/116949
CATEGORIES:Psytrance Event
CLASS:PUBLIC
END:VEVENT

BEGIN:VEVENT
UID:1fdd07061dddc87e07a3bf43e5ac7511
DTSTART:20260502T220000
DTEND:20260503T080000
LOCATION:salento [Italy]
GEO:40.200000000;15.200000000
DTSTAMP:20260502T220000Z
SUMMARY:PSYSALENTO - OA
DESCRIPTION:Line-up: Ci prepariamo a scrivere un nuovo capitolo di pura energia
  psichedelica. In questo angolo di Salento, tra gli ulivi e a…
URL:https://www.goabase.net/fr/party/psysalento-oa/117413
CATEGORIES:Psytrance Event
CLASS:PUBLIC
END:VEVENT

BEGIN:VEVENT
UID:ed5861858cf9a0b1fc39f41efae9ee57
DTSTART:20260502T230000
DTEND:20260503T120000
LOCATION:Zürich [Switzerland]
GEO:47.400000000;8.500000000
DTSTAMP:20260502T230000Z
SUMMARY:Arcturians Productions Presents Fractal Awareness
DESCRIPTION:Line-up: 🌌 Arcturians Productions Presents Fractal Awareness 🌌 The
  concept of this gathering is rooted in the feeling that nothin… Lieu:
  VIOR Club, Löwenstrasse 2, 8001 Zürich, Switzerland, 8001 Zürich
URL:https://www.goabase.net/fr/party/arcturians-productions-presents-fractal-awareness/116855
CATEGORIES:Psytrance Event
CLASS:PUBLIC
END:VEVENT

BEGIN:VEVENT
UID:ce8489a487a4bb35802b0f6ec9f9f025
DTSTART:20260508T220000
DTEND:20260509T060000
LOCATION:Reutlingen [Germany]
GEO:48.500000000;9.200000000
DTSTAMP:20260508T220000Z
SUMMARY:Spirit Mandala
DESCRIPTION:Line-up: 22:00 Impulsound 23:30 Enano 01:00 Misaya 03:00 Ajana 04:30
  Devon-X Lieu: Nachtfabrik, Emil-Adolff-Straße 14, Reutlingen
URL:https://www.goabase.net/fr/party/spirit-mandala/117272
CATEGORIES:Psytrance Event
CLASS:PUBLIC
END:VEVENT

BEGIN:VEVENT
UID:992fafe601655798a319afb67b479d6e
DTSTART:20260508T220000
DTEND:20260509T080000
LOCATION:Köln [Germany]
GEO:50.900000000;7.000000000
DTSTAMP:20260508T220000Z
SUMMARY:Rave51 - Psychedelic Experience
DESCRIPTION:Line-up: 🔊Lineup » Psychedelic | Progressive | Psytrance Neurologic
  (Ajourney / Listen & Enjoy) Astralica (Nebula / Anderswelt, S… Lieu:
  KunstWerk e.V., Deutz-Mülheimer Straße 115, 51063 Köln
URL:https://www.goabase.net/fr/party/rave51-psychedelic-experience/117444
CATEGORIES:Psytrance Event
CLASS:PUBLIC
END:VEVENT

BEGIN:VEVENT
UID:43b8eda65f093ad2748d8c9921102b26
DTSTART:20260516T100000
DTEND:20260517T000000
LOCATION:Prignano sulla Secchia (MO) [Italy]
GEO:0.000000000;0.000000000
DTSTAMP:20260516T100000Z
SUMMARY:RITUAL
DESCRIPTION:Line-up: Line up dalle 10 a mezzanotte! Line up from 10 A.M. to
  midnight! Nostalgia Underground (Busker Live Guitar) MATTIA DELLA…
  Lieu: Rupe del Pescale, Modena, Via Sassuolo 3° Tronco, 6291, 41048
  Prignano sulla Secchia M…, 41048 Prignano sulla Secchia (MO)
URL:https://www.goabase.net/fr/party/ritual/117362
CATEGORIES:Psytrance Event
CLASS:PUBLIC
END:VEVENT

BEGIN:VEVENT
UID:0fa2395a3dd016634f02aae93b6d670a
DTSTART:20260516T120000
DTEND:20260517T150000
LOCATION:Tokyo [Japan]
GEO:35.760443200;139.206864100
DTSTAMP:20260516T120000Z
SUMMARY:Koenji Cave X Matsuri Digital Presents - Open Air 2026 ~ Sense of Unity ~ -
DESCRIPTION:Line-up: ◉ Line Up ◉ International Act: PRANA DJ Domino ㅤ -Live:
  HENTAI CAMERA MAN💛 JIKOOHA (Matsuri Digital / Panorama Rec… Lieu: Ooba
  Camp Village, 東京都西多摩郡日の出町大久野3741, 190-0181 Tokyo
URL:https://www.goabase.net/fr/party/koenji-cave-x-matsuri-digital-presents-open-air-2026-sense-of-unity/116278
CATEGORIES:Psytrance Event
CLASS:PUBLIC
END:VEVENT

BEGIN:VEVENT
UID:25464036783366c01bd7a485a8fb6dd3
DTSTART:20260516T220000
DTEND:20260517T040000
LOCATION:Itzehoe [Germany]
GEO:53.900000000;9.500000000
DTSTAMP:20260516T220000Z
SUMMARY:PsyGOAdelicious Melodies 7
DESCRIPTION:Line-up: Nico23&John Marco M-Ron Deep Trace Lieu: Lauschbar, Kleine
  Paaschburg 2, 25524 Itzehoe
URL:https://www.goabase.net/fr/party/psygoadelicious-melodies-7/116842
CATEGORIES:Psytrance Event
CLASS:PUBLIC
END:VEVENT

BEGIN:VEVENT
UID:f91e6801d003f2737bd5f8c1bacb3720
DTSTART:20260516T220000
DTEND:20260517T080000
LOCATION:Berlin [Germany]
GEO:52.500000000;13.400000000
DTSTAMP:20260516T220000Z
SUMMARY:MODEM Teaser Berlin powered by xXETEXx & TRYP FUNKHAUS
DESCRIPTION:Line-up: ▷ 𝗧𝗛𝗘 𝗛𝗜𝗩𝗘 ◁ JAHBO live Parvati Records UMBER VAMBER live
  PatGap Music CROM live Enygma Music DJOANNA Waldfrieden |… Lieu:
  Funkhaus Berlin, Nalepastraße 18, 12459 Berlin
URL:https://www.goabase.net/fr/party/modem-teaser-berlin-powered-by-xxetexx-tryp-funkhaus/117265
CATEGORIES:Psytrance Event
CLASS:PUBLIC
END:VEVENT

END:VCALENDAR