BEGIN:VCALENDAR
VERSION:2.0
PRODID:goabase.net iCalendar 2026
X-WR-CALNAME:goabase.net - parties and people 
X-WR-TIMEZONE;VALUE=TEXT:Europe/Berlin
CALSCALE:GREGORIAN
BEGIN:VTIMEZONE
TZID:Europe/Berlin
X-LIC-LOCATION:Europe/Berlin
BEGIN:DAYLIGHT
TZOFFSETFROM:+0100
TZOFFSETTO:+0200
TZNAME:CEST
DTSTART:19700329T020000
RRULE:FREQ=YEARLY;INTERVAL=1;BYDAY=-1SU;BYMONTH=3
END:DAYLIGHT
BEGIN:STANDARD
TZOFFSETFROM:+0200
TZOFFSETTO:+0100
TZNAME:CET
DTSTART:19701025T030000
RRULE:FREQ=YEARLY;INTERVAL=1;BYDAY=-1SU;BYMONTH=10
END:STANDARD
END:VTIMEZONE

BEGIN:VEVENT
UID:b19d8398db51a3cf3bcdb443844b30a1
DTSTART:20150808T150000
DTEND:20150809T070000
LOCATION:Barcelona [Spain]
GEO:41.387020100;2.170043900
DTSTAMP:20150808T150000Z
SUMMARY:SATYA YUGA MUSIC FESTIVAL
DESCRIPTION:Line-up: SKAZI (CHEMICAL CREW) ISRAEL GMS -GROWLING MAD SCIENTISTS
  (SPUN RECORDS) SPAIN ANANDA SHAKE (UTOPIA RECORDS) ISRAEL P…
URL:https://www.goabase.net/fr/party/satya-yuga-music-festival/85576
CATEGORIES:Psytrance Event
CLASS:PUBLIC
END:VEVENT

END:VCALENDAR