BEGIN:VCALENDAR
VERSION:2.0
PRODID:goabase.net iCalendar 2026
X-WR-CALNAME:goabase.net - parties and people 
X-WR-TIMEZONE;VALUE=TEXT:Europe/Berlin
CALSCALE:GREGORIAN
BEGIN:VTIMEZONE
TZID:Europe/Berlin
X-LIC-LOCATION:Europe/Berlin
BEGIN:DAYLIGHT
TZOFFSETFROM:+0100
TZOFFSETTO:+0200
TZNAME:CEST
DTSTART:19700329T020000
RRULE:FREQ=YEARLY;INTERVAL=1;BYDAY=-1SU;BYMONTH=3
END:DAYLIGHT
BEGIN:STANDARD
TZOFFSETFROM:+0200
TZOFFSETTO:+0100
TZNAME:CET
DTSTART:19701025T030000
RRULE:FREQ=YEARLY;INTERVAL=1;BYDAY=-1SU;BYMONTH=10
END:STANDARD
END:VTIMEZONE

BEGIN:VEVENT
UID:ea5344ef28cbe68bac9cbbd9481addac
DTSTART:20191122T220000
DTEND:20191123T060000
LOCATION:Oradea [Romania]
GEO:47.066670000;21.933330000
DTSTAMP:20191122T220000Z
SUMMARY:Psy of Good Hope
DESCRIPTION:Line-up: The explorers: QUANTUM PROGRESS - Budapest / Hungary Thal -
  SolarSeedsTransylvania Apollo - NMS Crew EjnTar - NMS Cr…
URL:https://www.goabase.net/fr/party/psy-of-good-hope/105201
CATEGORIES:Psytrance Event
CLASS:PUBLIC
END:VEVENT

BEGIN:VEVENT
UID:842a5c85c6dc9e66e3b45f8a792b6914
DTSTART:20190322T220000
DTEND:20190323T060000
LOCATION:Oradea [Romania]
GEO:47.065872200;21.933006300
DTSTAMP:20190322T220000Z
SUMMARY:FullMoonShadows Vol.2
DESCRIPTION:Line-up: SwaidAlien TheMistProductionDebrecen / HU Digital Android
  TheMistProductionDebrecen / HU Apollo N.M.S. crew / Oradea Ejn…
URL:https://www.goabase.net/fr/party/fullmoonshadows-vol2/103199
CATEGORIES:Psytrance Event
CLASS:PUBLIC
END:VEVENT

BEGIN:VEVENT
UID:4e9e12a3158e27400e1261c147eced59
DTSTART:20150131T210000
DTEND:20150201T070000
LOCATION:Oradea [Romania]
GEO:47.065872000;21.933006000
DTSTAMP:20150131T210000Z
SUMMARY:GoaSession
DESCRIPTION:Line-up: ¬PSYLEV [AradUrbanCulture/RO] ¬UANTA [AetherProject/SK]
  ¬GRAMATON [Oradea/RO] ¬GALLYSHAY [ClujNapoca/RO] ¬ELEPSY […
URL:https://www.goabase.net/fr/party/goasession/83201
CATEGORIES:Psytrance Event
CLASS:PUBLIC
END:VEVENT

END:VCALENDAR