BEGIN:VCALENDAR
VERSION:2.0
PRODID:goabase.net iCalendar 2026
X-WR-CALNAME:goabase.net - parties and people 
X-WR-TIMEZONE;VALUE=TEXT:Europe/Berlin
CALSCALE:GREGORIAN
BEGIN:VTIMEZONE
TZID:Europe/Berlin
X-LIC-LOCATION:Europe/Berlin
BEGIN:DAYLIGHT
TZOFFSETFROM:+0100
TZOFFSETTO:+0200
TZNAME:CEST
DTSTART:19700329T020000
RRULE:FREQ=YEARLY;INTERVAL=1;BYDAY=-1SU;BYMONTH=3
END:DAYLIGHT
BEGIN:STANDARD
TZOFFSETFROM:+0200
TZOFFSETTO:+0100
TZNAME:CET
DTSTART:19701025T030000
RRULE:FREQ=YEARLY;INTERVAL=1;BYDAY=-1SU;BYMONTH=10
END:STANDARD
END:VTIMEZONE

BEGIN:VEVENT
UID:576f2be8bc013799f38fe3b23f5af97e
DTSTART:20120302T220000
DTEND:20120303T120000
LOCATION:Ebersberg [Germany]
GEO:0.000000000;0.000000000
DTSTAMP:20120302T220000Z
SUMMARY:Digital Sound Club by GENETIC UNDERGROUND
DESCRIPTION:Line-up: Jac.One (GENETIC UNDERGROUND) Milli Milhouse (GENETIC
  UNDERGROUND) + special guest: Klirr-Factory
URL:https://www.goabase.net/fr/party/digital-sound-club-by-genetic-underground/64844
CATEGORIES:Psytrance Event
CLASS:PUBLIC
END:VEVENT

BEGIN:VEVENT
UID:342c6e51ee43b21e9908cc97cf5c9cb4
DTSTART:20100925T140000
DTEND:20100926T020000
LOCATION:Internet Live Stream [Germany]
GEO:0.000000000;0.000000000
DTSTAMP:20100925T140000Z
SUMMARY:PSY SENSATION
DESCRIPTION:
URL:https://www.goabase.net/fr/party/psy-sensation/54891
CATEGORIES:Psytrance Event
CLASS:PUBLIC
END:VEVENT

END:VCALENDAR