BEGIN:VCALENDAR
VERSION:2.0
PRODID:goabase.net iCalendar 2026
X-WR-CALNAME:goabase.net - parties and people 
X-WR-TIMEZONE;VALUE=TEXT:Europe/Berlin
CALSCALE:GREGORIAN
BEGIN:VTIMEZONE
TZID:Europe/Berlin
X-LIC-LOCATION:Europe/Berlin
BEGIN:DAYLIGHT
TZOFFSETFROM:+0100
TZOFFSETTO:+0200
TZNAME:CEST
DTSTART:19700329T020000
RRULE:FREQ=YEARLY;INTERVAL=1;BYDAY=-1SU;BYMONTH=3
END:DAYLIGHT
BEGIN:STANDARD
TZOFFSETFROM:+0200
TZOFFSETTO:+0100
TZNAME:CET
DTSTART:19701025T030000
RRULE:FREQ=YEARLY;INTERVAL=1;BYDAY=-1SU;BYMONTH=10
END:STANDARD
END:VTIMEZONE

BEGIN:VEVENT
UID:9ac71019ef50813d0bcbc5a914a16b86
DTSTART:20260612T220000
DTEND:20260613T080000
LOCATION:leuven [Belgium]
GEO:50.900000000;4.700000000
DTSTAMP:20260612T220000Z
SUMMARY:Tanita's Early B-day Rave 🦋🐸🦋
DESCRIPTION:Line-up: Tanita's Early B-day Rave 🦋🐸🦋 Aangezien midden zomer te warm
  is voor een feest binnen, nodig ik jullie graag uit om same…
URL:https://www.goabase.net/fr/party/tanitas-early-b-day-rave/117209
CATEGORIES:Psytrance Event
CLASS:PUBLIC
END:VEVENT

BEGIN:VEVENT
UID:10488247d98de98e6e87b5d9ef287e10
DTSTART:20260509T200000
DTEND:20260510T070000
LOCATION:Oost-Vlaanderen [Belgium]
GEO:0.000000000;0.000000000
DTSTAMP:20260509T200000Z
SUMMARY:⏣▼⏣▼⏣ SuOmIfReAkAnDeLlE ReBiRtH ⏣▼⏣▼⏣
DESCRIPTION:Line-up: With Passion and Love we bring you a Psychedelic SUOMI
  NIGHT!!! The First 25 ppl at the party will receive the Golden CD…
URL:https://www.goabase.net/fr/party/suomifreakandelle-rebirth/116844
CATEGORIES:Psytrance Event
CLASS:PUBLIC
END:VEVENT

BEGIN:VEVENT
UID:b14d17ed5f428c87db19da96e3568163
DTSTART:20260116T220000
DTEND:20260117T080000
LOCATION:leuven [Belgium]
GEO:50.900000000;4.700000000
DTSTAMP:20260116T220000Z
SUMMARY:njits-psychedelic-b-day
DESCRIPTION:Line-up: PSYCHONAUTS: # ENTRE-NOUS # (Dark) F.U.B.A.R/Lost Theory &
  Rumba # PINO ON ACID # (Acid Acidcore Tribalcore Tek) # AIN…
URL:https://www.goabase.net/fr/party/njits-psychedelic-b-day/116295
CATEGORIES:Psytrance Event
CLASS:PUBLIC
END:VEVENT

BEGIN:VEVENT
UID:7c869b060adb7ed04a9cc14c0ab536c8
DTSTART:20140510T200000
DTEND:20140511T140000
LOCATION:belgium [Belgium]
GEO:0.000000000;0.000000000
DTSTAMP:20140510T200000Z
SUMMARY:ૐ SuOmIfReAkAnDeLLe!! ૐ ThE sEqUeL ૐ texas faggot, salakavala, pavel svimba
DESCRIPTION:Line-up: ♥ TEXAS FAGGOTT (Exogenic Records) FINLAND Texas Faggott is
  the format of Tim Thick and Pentti Slayer. These guys have…
URL:https://www.goabase.net/fr/party/suomifreakandelle-the-sequel-texas-faggot-salakavala-pavel-svimba/77764
CATEGORIES:Psytrance Event
CLASS:PUBLIC
END:VEVENT

BEGIN:VEVENT
UID:0f1d980afb834843387fd289e3addd5a
DTSTART:20140125T200000
DTEND:20140126T120000
LOCATION:veerle laakdal [Belgium]
GEO:0.000000000;0.000000000
DTSTAMP:20140125T200000Z
SUMMARY:Njits B-day party supported by SuOmIfReAkAnDeLLe presents:
DESCRIPTION:
URL:https://www.goabase.net/fr/party/njits-b-day-party-supported-by-suomifreakandelle-presents/76677
CATEGORIES:Psytrance Event
CLASS:PUBLIC
END:VEVENT

BEGIN:VEVENT
UID:44e33655ca2a07f4f75c829c258f0004
DTSTART:20131012T210000
DTEND:20131013T090000
LOCATION:belgium [Belgium]
GEO:0.000000000;0.000000000
DTSTAMP:20131012T210000Z
SUMMARY:ૐ SUOMIFREAKANDELLE ૐ 12/10/13 finnish invasian!!!
DESCRIPTION:Line-up: ૐ ENJOY A FREAKY NIGHT OF SUOMI POWER ૐ !!!!! THE FINNISH
  SUOMI MASTERS !!!!! ૐ TEKNISET ૐ (Freakdance Records) FIN…
URL:https://www.goabase.net/fr/party/suomifreakandelle-121013-finnish-invasian/73558
CATEGORIES:Psytrance Event
CLASS:PUBLIC
END:VEVENT

BEGIN:VEVENT
UID:1e8e2e6401fbd508d91452408381ec35
DTSTART:20130510T210000
DTEND:20130511T100000
LOCATION:vlaams brabant [Belgium]
GEO:0.000000000;0.000000000
DTSTAMP:20130510T210000Z
SUMMARY:ૐ Njits delayed B-day party!! ૐ
DESCRIPTION:
URL:https://www.goabase.net/fr/party/njits-delayed-b-day-party/71834
CATEGORIES:Psytrance Event
CLASS:PUBLIC
END:VEVENT

BEGIN:VEVENT
UID:6fbdc1d843d69d5098eed92ff91e325d
DTSTART:20100115T220000
DTEND:20100116T100000
LOCATION:leuven-antwerp... [Belgium]
GEO:0.000000000;0.000000000
DTSTAMP:20100115T220000Z
SUMMARY:dark mit den welzo
DESCRIPTION:Line-up: Syntrax Error (Darkidark) !!semi-live!!
URL:https://www.goabase.net/fr/party/dark-mit-den-welzo/49561
CATEGORIES:Psytrance Event
CLASS:PUBLIC
END:VEVENT

BEGIN:VEVENT
UID:5991ba90c793b468b2f16a4b76b88545
DTSTART:20090516T210000
DTEND:20090517T100000
LOCATION:vlaams-brabant [Belgium]
GEO:0.000000000;0.000000000
DTSTAMP:20090516T210000Z
SUMMARY:l'heure de la danse
DESCRIPTION:
URL:https://www.goabase.net/fr/party/lheure-de-la-danse/46285
CATEGORIES:Psytrance Event
CLASS:PUBLIC
END:VEVENT

BEGIN:VEVENT
UID:f44ab94301624712948168b145d71b87
DTSTART:20070512T220000
DTEND:20070513T220000
LOCATION:waasland [Belgium]
GEO:0.000000000;0.000000000
DTSTAMP:20070512T220000Z
SUMMARY:24hrs non stop!!! benefiet HELP MAYA!!!
DESCRIPTION:Line-up: DARK ECO (lysergic-asilum) BeMo Vs KeRe (lysergic-asilum)
URL:https://www.goabase.net/fr/party/24hrs-non-stop-benefiet-help-maya/29137
CATEGORIES:Psytrance Event
CLASS:PUBLIC
END:VEVENT

END:VCALENDAR