BEGIN:VCALENDAR
VERSION:2.0
PRODID:goabase.net iCalendar 2026
X-WR-CALNAME:goabase.net - parties and people 
X-WR-TIMEZONE;VALUE=TEXT:Europe/Berlin
CALSCALE:GREGORIAN
BEGIN:VTIMEZONE
TZID:Europe/Berlin
X-LIC-LOCATION:Europe/Berlin
BEGIN:DAYLIGHT
TZOFFSETFROM:+0100
TZOFFSETTO:+0200
TZNAME:CEST
DTSTART:19700329T020000
RRULE:FREQ=YEARLY;INTERVAL=1;BYDAY=-1SU;BYMONTH=3
END:DAYLIGHT
BEGIN:STANDARD
TZOFFSETFROM:+0200
TZOFFSETTO:+0100
TZNAME:CET
DTSTART:19701025T030000
RRULE:FREQ=YEARLY;INTERVAL=1;BYDAY=-1SU;BYMONTH=10
END:STANDARD
END:VTIMEZONE

BEGIN:VEVENT
UID:556bb1b8846b7b33711fec495cc7b34f
DTSTART:20031220T220000
DTEND:20031221T163000
LOCATION:Maceda - Ovar [Portugal]
GEO:0.000000000;0.000000000
DTSTAMP:20031220T220000Z
SUMMARY:SOUNDGROUND 20 DEZEMBRO
DESCRIPTION:
URL:https://www.goabase.net/fr/party/soundground-20-dezembro/12169
CATEGORIES:Psytrance Event
CLASS:PUBLIC
END:VEVENT

BEGIN:VEVENT
UID:4754a0462487c806a72e45c6aa00d9f0
DTSTART:20030912T223000
DTEND:20030914T223000
LOCATION:Praia Fluvial do Coiço - Po… [Portugal]
GEO:0.000000000;0.000000000
DTSTAMP:20030912T223000Z
SUMMARY:UNU trance festival - 12/14 September - Portugal
DESCRIPTION:Line-up: dia12 Earthling ibiza Sub6 isr Menog pt Paranormal Attack pt
  Shrink pt dia 13 Onix vs Ptx isr. Suria pt Absolum fr. Yahe…
URL:https://www.goabase.net/fr/festival/unu-trance-festival-1214-september-portugal/11287
CATEGORIES:Psytrance Event
CLASS:PUBLIC
END:VEVENT

BEGIN:VEVENT
UID:4c634c6ef421a7d8cafbe574362f6279
DTSTART:20030726T233000
DTEND:20030727T150000
LOCATION:A confirmar [Portugal]
GEO:0.000000000;0.000000000
DTSTAMP:20030726T233000Z
SUMMARY:Boom rec.  & yanomani
DESCRIPTION:
URL:https://www.goabase.net/fr/party/boom-rec-yanomani/10670
CATEGORIES:Psytrance Event
CLASS:PUBLIC
END:VEVENT

BEGIN:VEVENT
UID:5e0247ba25f29fb270eca22e9ac798c4
DTSTART:20030726T223000
DTEND:20030727T173000
LOCATION:Lagoa de Mira - Mira - Coim… [Portugal]
GEO:0.000000000;0.000000000
DTSTAMP:20030726T223000Z
SUMMARY:26 July  Boom rec.  & yanomani present :
DESCRIPTION:Line-up: FRACTALGLIDER-Boom rec. / Aus. RASTALIENS-Boom rec. / Ger.
  SURIA-Good mood/Pt.
URL:https://www.goabase.net/fr/party/26-july-boom-rec-yanomani-present/10928
CATEGORIES:Psytrance Event
CLASS:PUBLIC
END:VEVENT

BEGIN:VEVENT
UID:e500930c1a8ff85d0d36a1140a0591e3
DTSTART:20030517T010000
DTEND:20030518T153000
LOCATION:Porto da Raiva – Oliveira d… [Portugal]
GEO:0.000000000;0.000000000
DTSTAMP:20030517T010000Z
SUMMARY:SONANTIAS
DESCRIPTION:Line-up: ALIEN PROJECT Tip world / Isr. PSYCRAFT Hommega / Isr.
  PSY-DROP Agitato / Isr. SHULMAN Shaffel / Isr. MUSH`N-DEEP
URL:https://www.goabase.net/fr/festival/sonantias/10300
CATEGORIES:Psytrance Event
CLASS:PUBLIC
END:VEVENT

BEGIN:VEVENT
UID:678de435b3ce6e5665bf12e8ac943856
DTSTART:20030322T233000
DTEND:20030323T150000
LOCATION:Parque Fluvial de Porto Vár… [Portugal]
GEO:0.000000000;0.000000000
DTSTAMP:20030322T233000Z
SUMMARY::::::::::::::::::::::::::Primordial Sounds::::::::::::::::::
DESCRIPTION:Line-up: SKAZI (Shaffel rec.)isr CYBER CARTEL (Agitato rec.)isr
  INTERGALACTIC (Bionics rec.)isr AUDIALIZE MUSH`N-DEEP
URL:https://www.goabase.net/fr/party/primordial-sounds/9826
CATEGORIES:Psytrance Event
CLASS:PUBLIC
END:VEVENT

END:VCALENDAR