BEGIN:VCALENDAR
VERSION:2.0
PRODID:goabase.net iCalendar 2026
X-WR-CALNAME:goabase.net - parties and people 
X-WR-TIMEZONE;VALUE=TEXT:Europe/Berlin
CALSCALE:GREGORIAN
BEGIN:VTIMEZONE
TZID:Europe/Berlin
X-LIC-LOCATION:Europe/Berlin
BEGIN:DAYLIGHT
TZOFFSETFROM:+0100
TZOFFSETTO:+0200
TZNAME:CEST
DTSTART:19700329T020000
RRULE:FREQ=YEARLY;INTERVAL=1;BYDAY=-1SU;BYMONTH=3
END:DAYLIGHT
BEGIN:STANDARD
TZOFFSETFROM:+0200
TZOFFSETTO:+0100
TZNAME:CET
DTSTART:19701025T030000
RRULE:FREQ=YEARLY;INTERVAL=1;BYDAY=-1SU;BYMONTH=10
END:STANDARD
END:VTIMEZONE

BEGIN:VEVENT
UID:97f8c36fb538bebed27672f498b790da
DTSTART:20180421T220000
DTEND:20180422T080000
LOCATION:Würzburg [Germany]
GEO:49.797570000;9.946070000
DTSTAMP:20180421T220000Z
SUMMARY:PEACE@Würzburg - People Educate Against Criminal Establishment
DESCRIPTION:Line-up: ----- Main Stage ----- ✪ Goa & Psytrance ✪ Proggy ✪ Forest &
  DarkPsy - Wit Spirit & Mrs. Mittens…
URL:https://www.goabase.net/fr/party/peacewuerzburg-people-educate-against-criminal-establishment/99484
CATEGORIES:Psytrance Event
CLASS:PUBLIC
END:VEVENT

BEGIN:VEVENT
UID:ff17a4bdf53b3fa9bc3d064e686f6b78
DTSTART:20160504T220000
DTEND:20160505T130000
LOCATION:Würzburg [Germany]
GEO:49.792450000;9.932966200
DTSTAMP:20160504T220000Z
SUMMARY:Zappeldrang! - Jubiläumsfeier
DESCRIPTION:Line-up: ===== Line-Up ===== - El Duderino (Zappeldrang!) - ZypreXa
  (Zappeldrang!) - monotony (Kollektiv Nachtaktiv, FLT) -…
URL:https://www.goabase.net/fr/party/zappeldrang-jubilaeumsfeier/89588
CATEGORIES:Psytrance Event
CLASS:PUBLIC
END:VEVENT

BEGIN:VEVENT
UID:b438a7203e84d9c61dfa088006af5e59
DTSTART:20060204T220000
DTEND:20060205T050000
LOCATION:Plattling [Germany]
GEO:0.000000000;0.000000000
DTSTAMP:20060204T220000Z
SUMMARY:Goa u. Psychedelic Trance Event
DESCRIPTION:
URL:https://www.goabase.net/fr/party/goa-u-psychedelic-trance-event/22863
CATEGORIES:Psytrance Event
CLASS:PUBLIC
END:VEVENT

END:VCALENDAR