BEGIN:VCALENDAR
VERSION:2.0
PRODID:goabase.net iCalendar 2026
X-WR-CALNAME:goabase.net - parties and people 
X-WR-TIMEZONE;VALUE=TEXT:Europe/Berlin
CALSCALE:GREGORIAN
BEGIN:VTIMEZONE
TZID:Europe/Berlin
X-LIC-LOCATION:Europe/Berlin
BEGIN:DAYLIGHT
TZOFFSETFROM:+0100
TZOFFSETTO:+0200
TZNAME:CEST
DTSTART:19700329T020000
RRULE:FREQ=YEARLY;INTERVAL=1;BYDAY=-1SU;BYMONTH=3
END:DAYLIGHT
BEGIN:STANDARD
TZOFFSETFROM:+0200
TZOFFSETTO:+0100
TZNAME:CET
DTSTART:19701025T030000
RRULE:FREQ=YEARLY;INTERVAL=1;BYDAY=-1SU;BYMONTH=10
END:STANDARD
END:VTIMEZONE

BEGIN:VEVENT
UID:4cf791420ac31a0431254fcac6c66f3b
DTSTART:20190426T120000
DTEND:20190429T090000
LOCATION:La Roca de la Sierra [Spain]
GEO:39.110918900;-6.689955900
DTSTAMP:20190426T120000Z
SUMMARY:Udumbara 2019
DESCRIPTION:Line-up: MAINFLOOR: +ARKANA (Bovaee / Cthulhu) -BERTUS (Udumbara
  Project) -BLOT (Maharetta Recs.) Live&Dj set -BUBBLES MUSIC (Bov…
URL:https://www.goabase.net/fr/festival/udumbara-2019/103142
CATEGORIES:Psytrance Event
CLASS:PUBLIC
END:VEVENT

BEGIN:VEVENT
UID:0e60a84a416bc7afdc2d279346a76e30
DTSTART:20160422T120000
DTEND:20160425T080000
LOCATION:La Roca de la Sierra [Spain]
GEO:39.110918900;-6.689955900
DTSTAMP:20160422T120000Z
SUMMARY:ॐ.•º°KONFUSSION 2016°º•.ॐ "Sacred Geometry"
DESCRIPTION:Line-up: .-MAINFLOOR: -Ahura (Ahura Music) -Awwen (GloOm Music) LIVE!
  Spain -Basslion (Gloom Music) -Bungle (Konfussion Tribe) Sp…
URL:https://www.goabase.net/fr/party/konfussion-2016-sacred-geometry/86783
CATEGORIES:Psytrance Event
CLASS:PUBLIC
END:VEVENT

BEGIN:VEVENT
UID:2ac62ad7950c51648dc65895399a9aa4
DTSTART:20160122T233000
DTEND:20160123T053000
LOCATION:Badajoz [Spain]
GEO:38.876468700;-6.973365800
DTSTAMP:20160122T233000Z
SUMMARY:Psychedelic Zirk-Us
DESCRIPTION:Line-up: -SUPERSPUNK [Triplock] (Konfussion Tribe/Gloom Music) -PI
  ROAD (Odning Rec) -MARKORE (Zirk-Us Club)
URL:https://www.goabase.net/fr/party/psychedelic-zirk-us/88225
CATEGORIES:Psytrance Event
CLASS:PUBLIC
END:VEVENT

BEGIN:VEVENT
UID:5347750a088d59351ab0faaf120ac1ca
DTSTART:20151023T233000
DTEND:20151024T060000
LOCATION:Badajoz [Spain]
GEO:38.876468700;-6.973365800
DTSTAMP:20151023T233000Z
SUMMARY:Psychedelic Zirk-Us
DESCRIPTION:Line-up: -MARKORE (Zirk-Us Club) -ALIENBUDHA (Freek On) -PI ROAD
  (Odninc Rec) -SUPERSPUNK (Konfussion Tribe, Gloom Music)
URL:https://www.goabase.net/fr/party/psychedelic-zirk-us/86863
CATEGORIES:Psytrance Event
CLASS:PUBLIC
END:VEVENT

BEGIN:VEVENT
UID:3802a0b47e4d4bca274d1ca91a47669c
DTSTART:20150424T120000
DTEND:20150427T230000
LOCATION:Badajoz [Spain]
GEO:38.876469000;-6.973366000
DTSTAMP:20150424T120000Z
SUMMARY:ॐ.•º°KONFUSSION 2015°º•.ॐ "Free Alternative & Psychedelic Gathering" Ultraviolet
DESCRIPTION:Line-up: MAINFLOOR: -Acidbox (Fullmongui/Maharetta Records) LIVE!
  Spain -Alex Rhino (Cthulhu Tribe) Spain -Alpha Indi (Konfussion…
URL:https://www.goabase.net/fr/festival/konfussion-2015-free-alternative-psychedelic-gathering-ultraviolet/81891
CATEGORIES:Psytrance Event
CLASS:PUBLIC
END:VEVENT

BEGIN:VEVENT
UID:82939a195b584043a6a653a6d9d31354
DTSTART:20141212T220000
DTEND:20141214T220000
LOCATION:Badajoz [Spain]
GEO:38.876469000;-6.973366000
DTSTAMP:20141212T220000Z
SUMMARY:ॐ.•º°1ª FIESTA-PRESENTACION DE KONFUSSION 2015°º•.ॐ
DESCRIPTION:Line-up: -Bungle Tanz (Konfussion Tribe) -Alpha Indi (Konfussion
  Tribe) -SuPeRsPuNk dj. [Triplock] (Konfussion Tribe/GloOm Music)…
URL:https://www.goabase.net/fr/party/1-fiesta-presentacion-de-konfussion-2015/82694
CATEGORIES:Psytrance Event
CLASS:PUBLIC
END:VEVENT

BEGIN:VEVENT
UID:7e250a14fdca2c80124a1d691d59d18f
DTSTART:20141010T203000
DTEND:20141012T090000
LOCATION:Badajoz [Spain]
GEO:38.876469000;-6.973366000
DTSTAMP:20141010T203000Z
SUMMARY:Changa
DESCRIPTION:Line-up: -Superspunk -Pi Road -Mr. Low -Markore -Txaman -Divinorum
URL:https://www.goabase.net/fr/party/changa/81591
CATEGORIES:Psytrance Event
CLASS:PUBLIC
END:VEVENT

BEGIN:VEVENT
UID:4ae8209ef1b46af21254cf2f174d78ea
DTSTART:20140425T120000
DTEND:20140427T120000
LOCATION:La Roca de la Sierra/Badajo… [Spain]
GEO:0.000000000;0.000000000
DTSTAMP:20140425T120000Z
SUMMARY:KONFUSSION
DESCRIPTION:
URL:https://www.goabase.net/fr/festival/konfussion/78377
CATEGORIES:Psytrance Event
CLASS:PUBLIC
END:VEVENT

BEGIN:VEVENT
UID:03b509aeae2d8935b450d70f42965b48
DTSTART:20130201T233000
DTEND:20130202T060000
LOCATION:Badajoz [Spain]
GEO:0.000000000;0.000000000
DTSTAMP:20130201T233000Z
SUMMARY:PSYCHEDELIC NIGHTS IN ZIRK-US
DESCRIPTION:
URL:https://www.goabase.net/fr/party/psychedelic-nights-in-zirk-us/71226
CATEGORIES:Psytrance Event
CLASS:PUBLIC
END:VEVENT

BEGIN:VEVENT
UID:176cb49822e6561a593ccc2e6f32abc0
DTSTART:20100725T040000
DTEND:20100725T200000
LOCATION:Badajoz [Spain]
GEO:0.000000000;0.000000000
DTSTAMP:20100725T040000Z
SUMMARY:EXTREMALLETA FREE PARTY
DESCRIPTION:
URL:https://www.goabase.net/fr/party/extremalleta-free-party/54532
CATEGORIES:Psytrance Event
CLASS:PUBLIC
END:VEVENT

BEGIN:VEVENT
UID:1b5ab36cae151536b0495a9cd153c40f
DTSTART:20100724T233000
DTEND:20100724T233000
LOCATION:Badajoz [Spain]
GEO:0.000000000;0.000000000
DTSTAMP:20100724T233000Z
SUMMARY:PSYCHEDELIC NIGHTS
DESCRIPTION:
URL:https://www.goabase.net/fr/party/psychedelic-nights/54581
CATEGORIES:Psytrance Event
CLASS:PUBLIC
END:VEVENT

BEGIN:VEVENT
UID:6883e21203da4f504e81df8cf0c6df2f
DTSTART:20100313T120000
DTEND:20100314T120000
LOCATION:Badajoz [Spain]
GEO:0.000000000;0.000000000
DTSTAMP:20100313T120000Z
SUMMARY:NO MORE MINIMAL Round II   Drum'n'Trance
DESCRIPTION:Line-up: NEURON [MouzkitoTribe/Madhause Rec.] ...and more
URL:https://www.goabase.net/fr/party/no-more-minimal-round-ii-drumntrance/51603
CATEGORIES:Psytrance Event
CLASS:PUBLIC
END:VEVENT

BEGIN:VEVENT
UID:7e51d969dfb170639bb5b771f74517d6
DTSTART:20100214T060000
DTEND:20100214T180000
LOCATION:Badajoz [Spain]
GEO:38.855000000;-6.999000000
DTSTAMP:20100214T060000Z
SUMMARY:RETRO CARNIVAL 2010
DESCRIPTION:Line-up: TNN (The Neuronal Network) JAMES ROD & XAR LEE FUNK
  (Audiotactil Rec.)
URL:https://www.goabase.net/fr/party/retro-carnival-2010/51322
CATEGORIES:Psytrance Event
CLASS:PUBLIC
END:VEVENT

BEGIN:VEVENT
UID:cf8bf2f864da70312769c53f71c9e8df
DTSTART:20091010T220000
DTEND:20091011T150000
LOCATION:Badajoz [Spain]
GEO:0.000000000;0.000000000
DTSTAMP:20091010T220000Z
SUMMARY:FREE PARTY
DESCRIPTION:Line-up: LOS RESTOS DEL LOKAL  y mas conziertos!
URL:https://www.goabase.net/fr/party/free-party/48704
CATEGORIES:Psytrance Event
CLASS:PUBLIC
END:VEVENT

BEGIN:VEVENT
UID:e7bae06eef2af370f87ebf87dec39134
DTSTART:20060629T220000
DTEND:20060630T080000
LOCATION:Badajoz [Spain]
GEO:0.000000000;0.000000000
DTSTAMP:20060629T220000Z
SUMMARY:San Juan 06
DESCRIPTION:
URL:https://www.goabase.net/fr/party/san-juan-06/25430
CATEGORIES:Psytrance Event
CLASS:PUBLIC
END:VEVENT

END:VCALENDAR