BEGIN:VCALENDAR
VERSION:2.0
PRODID:goabase.net iCalendar 2026
X-WR-CALNAME:goabase.net - parties and people 
X-WR-TIMEZONE;VALUE=TEXT:Europe/Berlin
CALSCALE:GREGORIAN
BEGIN:VTIMEZONE
TZID:Europe/Berlin
X-LIC-LOCATION:Europe/Berlin
BEGIN:DAYLIGHT
TZOFFSETFROM:+0100
TZOFFSETTO:+0200
TZNAME:CEST
DTSTART:19700329T020000
RRULE:FREQ=YEARLY;INTERVAL=1;BYDAY=-1SU;BYMONTH=3
END:DAYLIGHT
BEGIN:STANDARD
TZOFFSETFROM:+0200
TZOFFSETTO:+0100
TZNAME:CET
DTSTART:19701025T030000
RRULE:FREQ=YEARLY;INTERVAL=1;BYDAY=-1SU;BYMONTH=10
END:STANDARD
END:VTIMEZONE

BEGIN:VEVENT
UID:70b73d459cf684a014da891ff61b4781
DTSTART:20190216T120000
DTEND:20190217T180000
LOCATION:Ibagué [Colombia]
GEO:4.412288700;-75.221797200
DTSTAMP:20190216T120000Z
SUMMARY:Ibanasca Psy Rave
DESCRIPTION:Line-up: SARA DOPSTAR (Canada / Colombia) IONO MUSIC / ALUNA - PRO
  Sara Dopstar DANIEL BLANCO (Tailandia / Colombia) UNDERGROUND…
URL:https://www.goabase.net/fr/party/ibanasca-psy-rave/102413
CATEGORIES:Psytrance Event
CLASS:PUBLIC
END:VEVENT

BEGIN:VEVENT
UID:f491c5cfab4887b2a3133d0d19bc5aaa
DTSTART:20180818T140000
DTEND:20180820T180000
LOCATION:Ibagué [Colombia]
GEO:4.443548700;-75.241132100
DTSTAMP:20180818T140000Z
SUMMARY:IBANASCA PSY FESTIVAL
DESCRIPTION:Line-up: ::::: PABLO ANON ::::: (AUS) Techno Trance - Psytrance
  Komplex Sounds (KSX) | Critical Artists | RazMusic | HighDreams P…
URL:https://www.goabase.net/fr/party/ibanasca-psy-festival/99751
CATEGORIES:Psytrance Event
CLASS:PUBLIC
END:VEVENT

BEGIN:VEVENT
UID:db82fcb99c738d96bfb1f8c6e07be0ff
DTSTART:20161001T220000
DTEND:20161002T120000
LOCATION:Ibagué [Colombia]
GEO:4.443548700;-75.241132100
DTSTAMP:20161001T220000Z
SUMMARY:Ibanasca Psy Rave
DESCRIPTION:Line-up: KELUK SARA DOPSTAR PINEAL ANAHATA BEN MR. H1D3 L.E.S. DROPS
  CAMILA CONCHA PSYDROG TOASTED PITCH FELIPE AVILA
URL:https://www.goabase.net/fr/party/ibanasca-psy-rave/91276
CATEGORIES:Psytrance Event
CLASS:PUBLIC
END:VEVENT

END:VCALENDAR