BEGIN:VCALENDAR
VERSION:2.0
PRODID:goabase.net iCalendar 2026
X-WR-CALNAME:goabase.net - parties and people 
X-WR-TIMEZONE;VALUE=TEXT:Europe/Berlin
CALSCALE:GREGORIAN
BEGIN:VTIMEZONE
TZID:Europe/Berlin
X-LIC-LOCATION:Europe/Berlin
BEGIN:DAYLIGHT
TZOFFSETFROM:+0100
TZOFFSETTO:+0200
TZNAME:CEST
DTSTART:19700329T020000
RRULE:FREQ=YEARLY;INTERVAL=1;BYDAY=-1SU;BYMONTH=3
END:DAYLIGHT
BEGIN:STANDARD
TZOFFSETFROM:+0200
TZOFFSETTO:+0100
TZNAME:CET
DTSTART:19701025T030000
RRULE:FREQ=YEARLY;INTERVAL=1;BYDAY=-1SU;BYMONTH=10
END:STANDARD
END:VTIMEZONE

BEGIN:VEVENT
UID:11ca0e4cb5b005bc8813d765f47bdd31
DTSTART:20190201T170000
DTEND:20190204T020000
LOCATION:Chiang Mai [Thailand]
GEO:18.760915935;98.874034882
DTSTAMP:20190201T170000Z
SUMMARY:Jai Thep Festival 2019
DESCRIPTION:Line-up: Jai Thep Festival is pleased to support local and upcoming
  bands and DJs :) Want to come and check out what's happening…
URL:https://www.goabase.net/fr/festival/jai-thep-festival-2019/101937
CATEGORIES:Psytrance Event
CLASS:PUBLIC
END:VEVENT

BEGIN:VEVENT
UID:3a8391ef3436f131c2ee6ee2fac87d79
DTSTART:20180202T120000
DTEND:20180204T020000
LOCATION:Chiangmai [Thailand]
GEO:18.760915935;98.874034882
DTSTAMP:20180202T120000Z
SUMMARY:Jai Thep Festival 2018
DESCRIPTION:Line-up: Hello All Jaitheppers !! We feel sooooo GREAT to be back
  again !! LINEUP: 1200 Micrograms (DJ Set), Alex Cruz, Broken No…
URL:https://www.goabase.net/fr/festival/jai-thep-festival-2018/98399
CATEGORIES:Psytrance Event
CLASS:PUBLIC
END:VEVENT

END:VCALENDAR