BEGIN:VCALENDAR
VERSION:2.0
PRODID:goabase.net iCalendar 2026
X-WR-CALNAME:goabase.net - parties and people 
X-WR-TIMEZONE;VALUE=TEXT:Europe/Berlin
CALSCALE:GREGORIAN
BEGIN:VTIMEZONE
TZID:Europe/Berlin
X-LIC-LOCATION:Europe/Berlin
BEGIN:DAYLIGHT
TZOFFSETFROM:+0100
TZOFFSETTO:+0200
TZNAME:CEST
DTSTART:19700329T020000
RRULE:FREQ=YEARLY;INTERVAL=1;BYDAY=-1SU;BYMONTH=3
END:DAYLIGHT
BEGIN:STANDARD
TZOFFSETFROM:+0200
TZOFFSETTO:+0100
TZNAME:CET
DTSTART:19701025T030000
RRULE:FREQ=YEARLY;INTERVAL=1;BYDAY=-1SU;BYMONTH=10
END:STANDARD
END:VTIMEZONE

BEGIN:VEVENT
UID:39b05471c860bf7c42506c07e7c01633
DTSTART:20090717T233000
DTEND:20090718T070000
LOCATION:cangas [Spain]
GEO:0.000000000;0.000000000
DTSTAMP:20090717T233000Z
SUMMARY:ELECTRA TRANCE SESSION
DESCRIPTION:Line-up: -----
URL:https://www.goabase.net/fr/party/electra-trance-session/47292
CATEGORIES:Psytrance Event
CLASS:PUBLIC
END:VEVENT

BEGIN:VEVENT
UID:22f158656bf4a6cf34ff75bc2053e33d
DTSTART:20090620T220000
DTEND:20090621T120000
LOCATION:Bulach [Switzerland]
GEO:0.000000000;0.000000000
DTSTAMP:20090620T220000Z
SUMMARY:Pimp My Soul
DESCRIPTION:Line-up: .:: Live on Stage ::. Astrix isr Hommega rec Ultravoice isr
  compact-records Quantize isr Iboga Records Midimal ch Ech…
URL:https://www.goabase.net/fr/party/pimp-my-soul/46460
CATEGORIES:Psytrance Event
CLASS:PUBLIC
END:VEVENT

BEGIN:VEVENT
UID:4dbec884737b9439cb5e6791c19152eb
DTSTART:20090307T233000
DTEND:20090308T130000
LOCATION:Viana Do castelo [Portugal]
GEO:0.000000000;0.000000000
DTSTAMP:20090307T233000Z
SUMMARY:THE BEGINNING
DESCRIPTION:Line-up: SURIA (Hyper gate rec./Crystal Matrix) D. MANIAC (Namaha
  rec./Swing m.a) MYSTIKAL_VIBES (Respecta Pt.) ELEKTROMIND (Re…
URL:https://www.goabase.net/fr/party/the-beginning/43719
CATEGORIES:Psytrance Event
CLASS:PUBLIC
END:VEVENT

BEGIN:VEVENT
UID:2d2dbcb3db9302b0eb1c62490b0cffef
DTSTART:20090223T233000
DTEND:20090224T110000
LOCATION:Furadouro/Ovar [Portugal]
GEO:0.000000000;0.000000000
DTSTAMP:20090223T233000Z
SUMMARY:PSY CARNIVAL SUBSOLO/FENIX
DESCRIPTION:Line-up: Rawar-(2to6 records/lycantrop ) Divine Stones (Urban
  antidote/Workstation rec) Intekshine- (Workstation) Playtek- (Re…
URL:https://www.goabase.net/fr/party/psy-carnival-subsolofenix/43710
CATEGORIES:Psytrance Event
CLASS:PUBLIC
END:VEVENT

BEGIN:VEVENT
UID:c0b50242eab204f27f67b25d0b2b2848
DTSTART:20080808T233000
DTEND:20080809T080000
LOCATION:Cangas (PONTEVEDRA) [Spain]
GEO:0.000000000;0.000000000
DTSTAMP:20080808T233000Z
SUMMARY:TRANCE IN GALIZA ELECTRO XOVE
DESCRIPTION:Line-up: ...
URL:https://www.goabase.net/fr/party/trance-in-galiza-electro-xove/40179
CATEGORIES:Psytrance Event
CLASS:PUBLIC
END:VEVENT

BEGIN:VEVENT
UID:ff39951459a790b3777512c7b24d84ad
DTSTART:20080613T233000
DTEND:20080614T070000
LOCATION:Porto [Portugal]
GEO:0.000000000;0.000000000
DTSTAMP:20080613T233000Z
SUMMARY:GMS (spun records) tour
DESCRIPTION:
URL:https://www.goabase.net/fr/party/gms-spun-records-tour/39202
CATEGORIES:Psytrance Event
CLASS:PUBLIC
END:VEVENT

BEGIN:VEVENT
UID:82a158f1c3608cea68c987f9ec7421b6
DTSTART:20080510T233000
DTEND:20080511T083000
LOCATION:Lisboa [Portugal]
GEO:0.000000000;0.000000000
DTSTAMP:20080510T233000Z
SUMMARY:MIND CONTROL "IMPACT TOUR"
DESCRIPTION:Line-up: Talamasca (MIND CONTROL records - França) XSI - (MIND CONTROL
  records - França) Talamasca Back2Back XSI - (MIND CONTROL…
URL:https://www.goabase.net/fr/party/mind-control-impact-tour/38589
CATEGORIES:Psytrance Event
CLASS:PUBLIC
END:VEVENT

BEGIN:VEVENT
UID:34038ba3ad913bf87b452e8fb90a0c10
DTSTART:20080509T010000
DTEND:20080510T073000
LOCATION:Porto [Portugal]
GEO:0.000000000;0.000000000
DTSTAMP:20080509T010000Z
SUMMARY:09 May MIND CONTROL "IMPACT TOUR"  OPORTO CITY
DESCRIPTION:Line-up: Talamasca - (Mind Control records - França) XSI - (Mind
  Control records - França) Talamasca back2back XSI - (Mind Contro…
URL:https://www.goabase.net/fr/party/09-may-mind-control-impact-tour-oporto-city/38590
CATEGORIES:Psytrance Event
CLASS:PUBLIC
END:VEVENT

BEGIN:VEVENT
UID:664f47c49bc8d08eac0ac0792a93d503
DTSTART:20080329T233000
DTEND:20080330T080000
LOCATION:Furadouro /Ovar [Portugal]
GEO:0.000000000;0.000000000
DTSTAMP:20080329T233000Z
SUMMARY:Guy Salama@HOMmega first time in Portugal Subsolo club
DESCRIPTION:
URL:https://www.goabase.net/fr/party/guy-salamahommega-first-time-in-portugal-subsolo-club/37197
CATEGORIES:Psytrance Event
CLASS:PUBLIC
END:VEVENT

BEGIN:VEVENT
UID:c93101396592a46bccbd604020244fa4
DTSTART:20080315T233000
DTEND:20080316T073000
LOCATION:Porto [Portugal]
GEO:0.000000000;0.000000000
DTSTAMP:20080315T233000Z
SUMMARY:DIGITAL ORACLE apresenta: VOID "Live concert"
DESCRIPTION:Line-up: Void (Chemical Crew/ israel)
URL:https://www.goabase.net/fr/party/digital-oracle-apresenta-void-live-concert/36514
CATEGORIES:Psytrance Event
CLASS:PUBLIC
END:VEVENT

BEGIN:VEVENT
UID:e70fbc4313a66af13d3efa5cf918990b
DTSTART:20080314T233000
DTEND:20080315T073000
LOCATION:Lisboa [Portugal]
GEO:0.000000000;0.000000000
DTSTAMP:20080314T233000Z
SUMMARY:DIGITAL ORACLE apresenta: VOID "Live concert"
DESCRIPTION:Line-up: VOID (Chemical Crew/ israel)- live concert
URL:https://www.goabase.net/fr/party/digital-oracle-apresenta-void-live-concert/36515
CATEGORIES:Psytrance Event
CLASS:PUBLIC
END:VEVENT

BEGIN:VEVENT
UID:a9f83d216ec2c088341c99a80ca723c8
DTSTART:20080204T233000
DTEND:20080205T080000
LOCATION:Vila do Conde [Portugal]
GEO:0.000000000;0.000000000
DTSTAMP:20080204T233000Z
SUMMARY:"CARNIVAL VIBRATIONS" party@Azenha D.zameiro(Vila do Conde)
DESCRIPTION:Line-up: -Tryon (Hypergate Rec. / Mind Funk) -Kinho( Oxygen
  Rec/Hypergate Rec.) (from spectra project)
URL:https://www.goabase.net/fr/party/carnival-vibrations-partyazenha-dzameirovila-do-conde/36605
CATEGORIES:Psytrance Event
CLASS:PUBLIC
END:VEVENT

BEGIN:VEVENT
UID:e8d5330cfc52c388585657a4834c83bf
DTSTART:20071215T233000
DTEND:20071216T100000
LOCATION:Rendufinho // Póvoa de Lanh… [Portugal]
GEO:0.000000000;0.000000000
DTSTAMP:20071215T233000Z
SUMMARY:Back To The Roots
DESCRIPTION:Line-up: High Pulse (SinRecords) (pt.)Fantasy Army (Union Records)
  (pt.)Myrah (Psyart/Genetic Dreams/Swing/Workstation)
URL:https://www.goabase.net/fr/party/back-to-the-roots/34997
CATEGORIES:Psytrance Event
CLASS:PUBLIC
END:VEVENT

BEGIN:VEVENT
UID:f60bffe438598f1fda909bfbf077139b
DTSTART:20071117T233000
DTEND:20071118T073000
LOCATION:Porto [Portugal]
GEO:0.000000000;0.000000000
DTSTAMP:20071117T233000Z
SUMMARY:UTOPIA ON the Road
DESCRIPTION:Line-up: VIBE TRIBE (Utopia records /Israel) Freedom Fighters (Utopia
  records /Israel)
URL:https://www.goabase.net/fr/party/utopia-on-the-road/34962
CATEGORIES:Psytrance Event
CLASS:PUBLIC
END:VEVENT

BEGIN:VEVENT
UID:0d4ea4ad3c29344fd0a660e8ccb3ae62
DTSTART:20071116T233000
DTEND:20071117T080000
LOCATION:Lisboa [Portugal]
GEO:0.000000000;0.000000000
DTSTAMP:20071116T233000Z
SUMMARY:UTOPIA ON the Road
DESCRIPTION:Line-up: Vibe Tribe (Utopia records /israel) Freedom Fighters (Utopia
  records /israel & Portugal)
URL:https://www.goabase.net/fr/party/utopia-on-the-road/34963
CATEGORIES:Psytrance Event
CLASS:PUBLIC
END:VEVENT

BEGIN:VEVENT
UID:deeb6478e11ed8025af8e09d48513f45
DTSTART:20070608T233000
DTEND:20070609T080000
LOCATION:Moãna /Pontevedra [Spain]
GEO:0.000000000;0.000000000
DTSTAMP:20070608T233000Z
SUMMARY:Salitre@club trance session
DESCRIPTION:
URL:https://www.goabase.net/fr/party/salitreclub-trance-session/31813
CATEGORIES:Psytrance Event
CLASS:PUBLIC
END:VEVENT

BEGIN:VEVENT
UID:fc7553e6039b6b8327d6ae0d89744182
DTSTART:20070526T233000
DTEND:20070527T120000
LOCATION:Paris [France]
GEO:0.000000000;0.000000000
DTSTAMP:20070526T233000Z
SUMMARY:26/05/07 KARMASUTRAnce (Spiritual Concept) Paris Out Door
DESCRIPTION:Line-up: - Polaris (Neurobiotic Rds) - Phonic request (Mahogany Rds) -
  Shagma (Mind Control Rds)
URL:https://www.goabase.net/fr/party/260507-karmasutrance-spiritual-concept-paris-out-door/31824
CATEGORIES:Psytrance Event
CLASS:PUBLIC
END:VEVENT

BEGIN:VEVENT
UID:c4846b2a09b56ce132ecc9926291cd97
DTSTART:20070406T233000
DTEND:20070407T073000
LOCATION:Moanã - Ponte vedra [Spain]
GEO:0.000000000;0.000000000
DTSTAMP:20070406T233000Z
SUMMARY:V/A Skylab release party in spain (Pontevedra)
DESCRIPTION:Line-up: ---
URL:https://www.goabase.net/fr/party/va-skylab-release-party-in-spain-pontevedra/30095
CATEGORIES:Psytrance Event
CLASS:PUBLIC
END:VEVENT

BEGIN:VEVENT
UID:13c9d4bba5343559e964ff8ec633c579
DTSTART:20070331T223000
DTEND:20070401T063000
LOCATION:Zürich [Switzerland]
GEO:0.000000000;0.000000000
DTSTAMP:20070331T223000Z
SUMMARY:V/a Skylab (Quest4Goa records) release party in switzerland
DESCRIPTION:Line-up: -----
URL:https://www.goabase.net/fr/party/va-skylab-quest4goa-records-release-party-in-switzerland/30065
CATEGORIES:Psytrance Event
CLASS:PUBLIC
END:VEVENT

BEGIN:VEVENT
UID:852b7d48ee9e6c91140ae8319ee848da
DTSTART:20070126T233000
DTEND:20070127T070000
LOCATION:Porto [Portugal]
GEO:0.000000000;0.000000000
DTSTAMP:20070126T233000Z
SUMMARY:Trance session
DESCRIPTION:
URL:https://www.goabase.net/fr/party/trance-session/29121
CATEGORIES:Psytrance Event
CLASS:PUBLIC
END:VEVENT

END:VCALENDAR