BEGIN:VCALENDAR
VERSION:2.0
PRODID:goabase.net iCalendar 2026
X-WR-CALNAME:goabase.net - parties and people 
X-WR-TIMEZONE;VALUE=TEXT:Europe/Berlin
CALSCALE:GREGORIAN
BEGIN:VTIMEZONE
TZID:Europe/Berlin
X-LIC-LOCATION:Europe/Berlin
BEGIN:DAYLIGHT
TZOFFSETFROM:+0100
TZOFFSETTO:+0200
TZNAME:CEST
DTSTART:19700329T020000
RRULE:FREQ=YEARLY;INTERVAL=1;BYDAY=-1SU;BYMONTH=3
END:DAYLIGHT
BEGIN:STANDARD
TZOFFSETFROM:+0200
TZOFFSETTO:+0100
TZNAME:CET
DTSTART:19701025T030000
RRULE:FREQ=YEARLY;INTERVAL=1;BYDAY=-1SU;BYMONTH=10
END:STANDARD
END:VTIMEZONE

BEGIN:VEVENT
UID:4cea287b6b3ae77b4f8d3bda12fe0134
DTSTART:20050108T220000
DTEND:20050109T180000
LOCATION:Köln/Porz [Germany]
GEO:0.000000000;0.000000000
DTSTAMP:20050108T220000Z
SUMMARY:3ó Schallfabrik Köln - 2003 - C-Vibration - Zeljkas Birthday
DESCRIPTION:
URL:https://www.goabase.net/fr/party/3o-schallfabrik-koeln-2003-c-vibration-zeljkas-birthday/16725
CATEGORIES:Psytrance Event
CLASS:PUBLIC
END:VEVENT

BEGIN:VEVENT
UID:02f0a930667d2eb282de17eeec34613c
DTSTART:20031213T000000
DTEND:20031220T000000
LOCATION:Bernau bei Berlin [Germany]
GEO:0.000000000;0.000000000
DTSTAMP:20031213T000000Z
SUMMARY:birthday in the kunsthaus
DESCRIPTION:Line-up: schwankende geburtstagsfeiernde im feierwahn
URL:https://www.goabase.net/fr/party/birthday-in-the-kunsthaus/12165
CATEGORIES:Psytrance Event
CLASS:PUBLIC
END:VEVENT

END:VCALENDAR