BEGIN:VCALENDAR
VERSION:2.0
PRODID:goabase.net iCalendar 2026
X-WR-CALNAME:goabase.net - parties and people 
X-WR-TIMEZONE;VALUE=TEXT:Europe/Berlin
CALSCALE:GREGORIAN
BEGIN:VTIMEZONE
TZID:Europe/Berlin
X-LIC-LOCATION:Europe/Berlin
BEGIN:DAYLIGHT
TZOFFSETFROM:+0100
TZOFFSETTO:+0200
TZNAME:CEST
DTSTART:19700329T020000
RRULE:FREQ=YEARLY;INTERVAL=1;BYDAY=-1SU;BYMONTH=3
END:DAYLIGHT
BEGIN:STANDARD
TZOFFSETFROM:+0200
TZOFFSETTO:+0100
TZNAME:CET
DTSTART:19701025T030000
RRULE:FREQ=YEARLY;INTERVAL=1;BYDAY=-1SU;BYMONTH=10
END:STANDARD
END:VTIMEZONE

BEGIN:VEVENT
UID:0d84aefc4f8fe7281cf5aa9694b53e6c
DTSTART:20090606T233000
DTEND:20090607T153000
LOCATION:Malaga [Spain]
GEO:0.000000000;0.000000000
DTSTAMP:20090606T233000Z
SUMMARY:Skizodelic Birthcodelia
DESCRIPTION:Line-up: The DarK FaCe   ( DroPland/ UFO CorP) (bcn)
URL:https://www.goabase.net/fr/party/skizodelic-birthcodelia/46046
CATEGORIES:Psytrance Event
CLASS:PUBLIC
END:VEVENT

BEGIN:VEVENT
UID:d7726b99e7b86e0b91b2bc7db0298633
DTSTART:20090214T220000
DTEND:20090215T153000
LOCATION:MaLaGa montes de malaga [Spain]
GEO:0.000000000;0.000000000
DTSTAMP:20090214T220000Z
SUMMARY:SkIzOdEliC mInD and AdE´s birthday
DESCRIPTION:
URL:https://www.goabase.net/fr/party/skizodelic-mind-and-ades-birthday/43894
CATEGORIES:Psytrance Event
CLASS:PUBLIC
END:VEVENT

BEGIN:VEVENT
UID:c603623edd98d686d294dd2e4be80997
DTSTART:20081220T220000
DTEND:20081221T153000
LOCATION:Malaga [Spain]
GEO:0.000000000;0.000000000
DTSTAMP:20081220T220000Z
SUMMARY:sKiZoDeLiC mInD solsticio invierno
DESCRIPTION:
URL:https://www.goabase.net/fr/party/skizodelic-mind-solsticio-invierno/42716
CATEGORIES:Psytrance Event
CLASS:PUBLIC
END:VEVENT

BEGIN:VEVENT
UID:74e9ce19c97585dcd5db165d397b011b
DTSTART:20080607T220000
DTEND:20080608T150000
LOCATION:malaga [Spain]
GEO:0.000000000;0.000000000
DTSTAMP:20080607T220000Z
SUMMARY:Mandragora Returns and  xupix´s birthday
DESCRIPTION:
URL:https://www.goabase.net/fr/party/mandragora-returns-and-xupixs-birthday/38728
CATEGORIES:Psytrance Event
CLASS:PUBLIC
END:VEVENT

END:VCALENDAR