BEGIN:VCALENDAR
VERSION:2.0
PRODID:goabase.net iCalendar 2026
X-WR-CALNAME:goabase.net - parties and people 
X-WR-TIMEZONE;VALUE=TEXT:Europe/Berlin
CALSCALE:GREGORIAN
BEGIN:VTIMEZONE
TZID:Europe/Berlin
X-LIC-LOCATION:Europe/Berlin
BEGIN:DAYLIGHT
TZOFFSETFROM:+0100
TZOFFSETTO:+0200
TZNAME:CEST
DTSTART:19700329T020000
RRULE:FREQ=YEARLY;INTERVAL=1;BYDAY=-1SU;BYMONTH=3
END:DAYLIGHT
BEGIN:STANDARD
TZOFFSETFROM:+0200
TZOFFSETTO:+0100
TZNAME:CET
DTSTART:19701025T030000
RRULE:FREQ=YEARLY;INTERVAL=1;BYDAY=-1SU;BYMONTH=10
END:STANDARD
END:VTIMEZONE

BEGIN:VEVENT
UID:36f4b268b2ad16850889863ad07e16e0
DTSTART:20181201T180000
DTEND:20181202T030000
LOCATION:Villa Canales [Guatemala]
GEO:14.483333000;-90.533333000
DTSTAMP:20181201T180000Z
SUMMARY:CONVIVIO PSICODELICO
DESCRIPTION:Line-up: ARCEK - Kamino Records - Mex. KROMAGON - Zenon Records - Usa.
  FUTURO - Parvati records - Mex. FRONTERAS - Midnite Climax…
URL:https://www.goabase.net/fr/party/convivio-psicodelico/101247
CATEGORIES:Psytrance Event
CLASS:PUBLIC
END:VEVENT

BEGIN:VEVENT
UID:99a323b884a279981fb6e942623eefeb
DTSTART:20180818T010000
DTEND:20180819T020000
LOCATION:Guatemala-Stadt [Guatemala]
GEO:14.641788900;-90.513223900
DTSTAMP:20180818T010000Z
SUMMARY:Isotropic Sounds Records Label Party by Green Beat
DESCRIPTION:Line-up: •Abducted Brain CR •Crooked Mind CR •SEV CR •Sound Alchemist
  CR •Xhamanik Ritual CR •Gukumatz GUA •Xochipilli GUA •Djeri…
URL:https://www.goabase.net/fr/party/isotropic-sounds-records-label-party-by-green-beat/100805
CATEGORIES:Psytrance Event
CLASS:PUBLIC
END:VEVENT

BEGIN:VEVENT
UID:4202a33e2bae45e655180d231f6843dd
DTSTART:20171216T080000
DTEND:20171217T150000
LOCATION:Villa Canales [Guatemala]
GEO:14.483333000;-90.533333000
DTSTAMP:20171216T080000Z
SUMMARY:Psyconvivio 2017
DESCRIPTION:Line-up: La mejor época del año se celebra UNIDOS con la tradición que
  ya todos conocemos, nuestro
URL:https://www.goabase.net/fr/party/psyconvivio-2017/98003
CATEGORIES:Psytrance Event
CLASS:PUBLIC
END:VEVENT

END:VCALENDAR