BEGIN:VCALENDAR
VERSION:2.0
PRODID:goabase.net iCalendar 2026
X-WR-CALNAME:goabase.net - parties and people 
X-WR-TIMEZONE;VALUE=TEXT:Europe/Berlin
CALSCALE:GREGORIAN
BEGIN:VTIMEZONE
TZID:Europe/Berlin
X-LIC-LOCATION:Europe/Berlin
BEGIN:DAYLIGHT
TZOFFSETFROM:+0100
TZOFFSETTO:+0200
TZNAME:CEST
DTSTART:19700329T020000
RRULE:FREQ=YEARLY;INTERVAL=1;BYDAY=-1SU;BYMONTH=3
END:DAYLIGHT
BEGIN:STANDARD
TZOFFSETFROM:+0200
TZOFFSETTO:+0100
TZNAME:CET
DTSTART:19701025T030000
RRULE:FREQ=YEARLY;INTERVAL=1;BYDAY=-1SU;BYMONTH=10
END:STANDARD
END:VTIMEZONE

BEGIN:VEVENT
UID:8338fc032296fbbc2fcd9ebe31b307a6
DTSTART:20260814T180000
DTEND:20260816T120000
LOCATION:Kröpelin [Germany]
GEO:54.000000000;11.800000000
DTSTAMP:20260814T180000Z
SUMMARY:KomaBar Openair 2026
DESCRIPTION:Line-up: ✪ Main-Stage (Progressive-/Psytrance/FullOn)🕉 ►Atacama (Iono
  Music) ► Be´Cube (Studio21) ► Bobby b2b Pahumeros (Savva… Lieu:
  KomaBar, Landweg 5A, 18236 Kröpelin
URL:https://www.goabase.net/fr/festival/komabar-openair-2026/116934
CATEGORIES:Psytrance Event
CLASS:PUBLIC
END:VEVENT

BEGIN:VEVENT
UID:2c8f8d7ab4287ccae15d1376a3ae547e
DTSTART:20250815T180000
DTEND:20250817T120000
LOCATION:Kröpelin [Germany]
GEO:54.000000000;11.800000000
DTSTAMP:20250815T180000Z
SUMMARY:KomaBar Openair 2025
DESCRIPTION:Line-up: ✪ Main-Stage (Progressive-/Psytrance/FullOn)🕉 ► Aamun Koi
  (Hybrid Live) [Knock Knock Berlin] ► Alienn (Live) 🇵🇹 [Global… Lieu:
  KomaBar, Landweg 5A, 18236 Kröpelin
URL:https://www.goabase.net/fr/festival/komabar-openair-2025/115366
CATEGORIES:Psytrance Event
CLASS:PUBLIC
END:VEVENT

END:VCALENDAR