BEGIN:VCALENDAR
VERSION:2.0
PRODID:goabase.net iCalendar 2026
X-WR-CALNAME:goabase.net - parties and people 
X-WR-TIMEZONE;VALUE=TEXT:Europe/Berlin
CALSCALE:GREGORIAN
BEGIN:VTIMEZONE
TZID:Europe/Berlin
X-LIC-LOCATION:Europe/Berlin
BEGIN:DAYLIGHT
TZOFFSETFROM:+0100
TZOFFSETTO:+0200
TZNAME:CEST
DTSTART:19700329T020000
RRULE:FREQ=YEARLY;INTERVAL=1;BYDAY=-1SU;BYMONTH=3
END:DAYLIGHT
BEGIN:STANDARD
TZOFFSETFROM:+0200
TZOFFSETTO:+0100
TZNAME:CET
DTSTART:19701025T030000
RRULE:FREQ=YEARLY;INTERVAL=1;BYDAY=-1SU;BYMONTH=10
END:STANDARD
END:VTIMEZONE

BEGIN:VEVENT
UID:40dc112787f3587d88ffd79475191096
DTSTART:20190323T220000
DTEND:20190324T090000
LOCATION:Balsthal [Switzerland]
GEO:47.314037300;7.694776100
DTSTAMP:20190323T220000Z
SUMMARY:The Darkest Hour w/ Virtuanoise, Fobi, Supadupa and many more..
DESCRIPTION:Line-up: ✾ VIRTUANOISE ✾ (ITA) ♠ LIVE ♠ ♦ Freak Records ♦ ♪ ⓕ ✾ FOBI ✾
  (MKD) ♠ LIVE ♠ ♦ Green Wizards Records ♦ ♪ ⓕ ✾ SUPADUP…
URL:https://www.goabase.net/fr/party/the-darkest-hour-w-virtuanoise-fobi-supadupa-and-many-more/102546
CATEGORIES:Psytrance Event
CLASS:PUBLIC
END:VEVENT

BEGIN:VEVENT
UID:d436c3ea4e159699c2a2a8e18e21cdba
DTSTART:20171202T220000
DTEND:20171203T100000
LOCATION:Wetzikon [Switzerland]
GEO:47.323303361;8.787081768
DTSTAMP:20171202T220000Z
SUMMARY:۩۞۩ SpaceLand ۩۞۩
DESCRIPTION:Line-up: Stell dir vor, dich hat gerade ein Raumschiff zu einem Flug
  durchs Weltall abgeholt. Die Reise geht zu einem neu entdeck…
URL:https://www.goabase.net/fr/party/spaceland/96838
CATEGORIES:Psytrance Event
CLASS:PUBLIC
END:VEVENT

BEGIN:VEVENT
UID:36fd15052090760f3ef8728774d5c9db
DTSTART:20170701T120000
DTEND:20170702T080000
LOCATION:Bubikon [Switzerland]
GEO:47.268292300;8.819161300
DTSTAMP:20170701T120000Z
SUMMARY:۩۞۩ Heilige Bimbam ۩۞۩
DESCRIPTION:Line-up: &lt-3 HEILIGE BIMBAM &lt-3 Am 1. Juli laden wir euch herzlich
  zu unser legalen Geburtstagsfeier ein. Mehrere internation…
URL:https://www.goabase.net/fr/party/heilige-bimbam/95530
CATEGORIES:Psytrance Event
CLASS:PUBLIC
END:VEVENT

BEGIN:VEVENT
UID:2de81473882ef719c3fe7c565e17a4b2
DTSTART:20170604T080000
DTEND:20170605T090000
LOCATION:Freienbach [Switzerland]
GEO:47.199510701;8.796229362
DTSTAMP:20170604T080000Z
SUMMARY:۩۞۩ Magic Forest - 8 ۩۞۩ 25h In&Outdoor
DESCRIPTION:Line-up: ۩۞۩ Magic Forest - 8 ۩۞۩ 25h In & Outdoor by PsyTribe Nach
  dem bezauberndem Rave in der Höhle begeben wir uns wider zurü…
URL:https://www.goabase.net/fr/party/magic-forest-8-25h-inoutdoor/95771
CATEGORIES:Psytrance Event
CLASS:PUBLIC
END:VEVENT

BEGIN:VEVENT
UID:9fdc37e91c5c1f3b8aa3f4145ca0bf93
DTSTART:20170519T220000
DTEND:20170520T080000
LOCATION:Wetzikon [Switzerland]
GEO:47.323361849;8.787122582
DTSTAMP:20170519T220000Z
SUMMARY:Ƹ̵̡ӝ̵̨̄ʒ Hitech im Würfel Ƹ̵̡ӝ̵̨̄ʒ
DESCRIPTION:Line-up: ° ‘°º•Ƹ̵̡Ӝ̵̨̄Ʒ PsyTribe & KF Rec. Ƹ̵̡Ӝ̵̨̄Ʒ•º°‘° Nach einer
  kurzen Pause starten wir in die nächste Runde unser Partyseri…
URL:https://www.goabase.net/fr/party/hitech-im-wuerfel/95531
CATEGORIES:Psytrance Event
CLASS:PUBLIC
END:VEVENT

BEGIN:VEVENT
UID:177c5ef50d4a9812678da0cef3195bbd
DTSTART:20170422T220000
DTEND:20170423T090000
LOCATION:Wetzikon [Switzerland]
GEO:47.323361849;8.787122582
DTSTAMP:20170422T220000Z
SUMMARY:۩۞۩ Dark Night 7 - Indoor Edition ۩۞
DESCRIPTION:Line-up: � Main by PsyTribe CH & Side by Underground Feelingz � Dark
  Night 7 Indoor Edition ♥ - Bday-Bash of Jan Ruoss - Sound Ma…
URL:https://www.goabase.net/fr/party/dark-night-7-indoor-edition/94133
CATEGORIES:Psytrance Event
CLASS:PUBLIC
END:VEVENT

BEGIN:VEVENT
UID:e1817b260a140f6e6843297870a34c5d
DTSTART:20170325T210000
DTEND:20170326T100000
LOCATION:Wetzikon (ZH) [Switzerland]
GEO:47.323358300;8.784504500
DTSTAMP:20170325T210000Z
SUMMARY:☢ NIGHT TRIBE ☢ w/ Psykovsky, Ogoun, DarkWhisper, Megalopsy amm.
DESCRIPTION:Line-up: █▓▒░ LIVE ACTS ░▒▓█ ☢ PSYKOVSKY (RUS) 10h Full Power - Ritual
  Vertigo Records ☢ DARK WHISPER (ITA) 3h Power - Set Al…
URL:https://www.goabase.net/fr/party/night-tribe-w-psykovsky-ogoun-darkwhisper-megalopsy-amm/91968
CATEGORIES:Psytrance Event
CLASS:PUBLIC
END:VEVENT

BEGIN:VEVENT
UID:89b147183df0629f811a8e490343ada3
DTSTART:20170303T220000
DTEND:20170304T080000
LOCATION:Wetzikon [Switzerland]
GEO:47.323361849;8.787122582
DTSTAMP:20170303T220000Z
SUMMARY:Ƹ̵̡ӝ̵̨̄ʒ Forest Night Ƹ̵̡ӝ̵̨̄ʒ
DESCRIPTION:Line-up: ° ‘°º•Ƹ̵̡Ӝ̵̨̄Ʒ PsyTribe meets KF Ƹ̵̡Ӝ̵̨̄Ʒ•º°‘ Würflete im
  Würfel &lt-3 - KF & PsyTribe Label-Night - Soundsystem by Void…
URL:https://www.goabase.net/fr/party/forest-night/94132
CATEGORIES:Psytrance Event
CLASS:PUBLIC
END:VEVENT

BEGIN:VEVENT
UID:3b2e7645ef5071390aa07e4880d8e3cd
DTSTART:20170204T220000
DTEND:20170205T100000
LOCATION:Wetzikon [Switzerland]
GEO:47.323361849;8.787122582
DTSTAMP:20170204T220000Z
SUMMARY:Ƹ̵̡ӝ̵̨̄ʒ Hitech im Würfel Ƹ̵̡ӝ̵̨̄ʒ (18+)
DESCRIPTION:Line-up: ° ‘°º•Ƹ̵̡Ӝ̵̨̄Ʒ PsyTribe meets KF Ƹ̵̡Ӝ̵̨̄Ʒ•º°‘ - KF & PsyTribe
  Label-Night - Soundsystem by Void - Lasershow / LED-Wall -…
URL:https://www.goabase.net/fr/party/hitech-im-wuerfel-18/93073
CATEGORIES:Psytrance Event
CLASS:PUBLIC
END:VEVENT

BEGIN:VEVENT
UID:dd3597d6632c414318d371416b505242
DTSTART:20170203T220000
DTEND:20170203T220000
LOCATION:Wetzikon (ZH) [Switzerland]
GEO:47.317228800;8.790205700
DTSTAMP:20170203T220000Z
SUMMARY:Wake Up
DESCRIPTION:Line-up: Info:
URL:https://www.goabase.net/fr/party/wake-up/93074
CATEGORIES:Psytrance Event
CLASS:PUBLIC
END:VEVENT

BEGIN:VEVENT
UID:c76c115e62156c2be3a92ffe2fdb50b2
DTSTART:20161210T220000
DTEND:20161211T100000
LOCATION:Wetzikon (ZH) [Switzerland]
GEO:47.317228800;8.790205700
DTSTAMP:20161210T220000Z
SUMMARY:Hitech im Würfel
DESCRIPTION:Line-up: █▓▒░ LIVE ░▒▓█ -NARXZ- KonzeptFabrikk
  Rec.www.facebook.com/Narxz █▓▒░ DJ's ░▒▓█ -PSYDISTRICT- PsyTribe CH-
  BLAX-…
URL:https://www.goabase.net/fr/party/hitech-im-wuerfel/92130
CATEGORIES:Psytrance Event
CLASS:PUBLIC
END:VEVENT

BEGIN:VEVENT
UID:79181b081d35d05e398705f5c25c2081
DTSTART:20161203T220000
DTEND:20161204T100000
LOCATION:Wetzikon (ZH) [Switzerland]
GEO:47.317228800;8.790205700
DTSTAMP:20161203T220000Z
SUMMARY:Free Magic &lt-3 Free Entry
DESCRIPTION:Line-up: ॐ ✭ Projekt X 2.1 ✭ � ⧫ V.I.R.U.S ⧫ ♫ ॐ ✭ KasicK ✭ � ◭
  KonzeptFabrikk ◮ ⓕ ॐ ✭ Novotix ✭ � (DE) ◭ KonzeptFabrikk ◮ ♫ ⓕ…
URL:https://www.goabase.net/fr/party/free-magic-lt-3-free-entry/92119
CATEGORIES:Psytrance Event
CLASS:PUBLIC
END:VEVENT

BEGIN:VEVENT
UID:c59c569a60bb8f583145a837964757dc
DTSTART:20161015T210000
DTEND:20161016T100000
LOCATION:Wetzikon [Switzerland]
GEO:47.322510700;8.799880700
DTSTAMP:20161015T210000Z
SUMMARY:Infecteds &lt--&gt- w/ Virtuanoise & many more
DESCRIPTION:Line-up: Mainfloor: - Virtuanoise Live / IT Noise Poison Records -
  Futurum Sonat Live / AT Psycana Records / Freigeist - Narx…
URL:https://www.goabase.net/fr/party/infecteds-lt-gt-w-virtuanoise-many-more/90529
CATEGORIES:Psytrance Event
CLASS:PUBLIC
END:VEVENT

BEGIN:VEVENT
UID:de6a184ae8b24a97db39668220f20e49
DTSTART:20151010T203000
DTEND:20151011T100000
LOCATION:Sirnach [Switzerland]
GEO:47.461589800;8.993887900
DTSTAMP:20151010T203000Z
SUMMARY:Ultrabase by Psytribe CH
DESCRIPTION:Line-up: - Projekt X 2.1 (Hysteria) - Greeny Steeny (Optic Vision) -
  Psynimalistic (Psytribe) - Barracuda (Psytribe) - IZZY (Psyt…
URL:https://www.goabase.net/fr/party/ultrabase-by-psytribe-ch/86712
CATEGORIES:Psytrance Event
CLASS:PUBLIC
END:VEVENT

END:VCALENDAR