BEGIN:VCALENDAR
VERSION:2.0
PRODID:goabase.net iCalendar 2026
X-WR-CALNAME:goabase.net - parties and people 
X-WR-TIMEZONE;VALUE=TEXT:Europe/Berlin
CALSCALE:GREGORIAN
BEGIN:VTIMEZONE
TZID:Europe/Berlin
X-LIC-LOCATION:Europe/Berlin
BEGIN:DAYLIGHT
TZOFFSETFROM:+0100
TZOFFSETTO:+0200
TZNAME:CEST
DTSTART:19700329T020000
RRULE:FREQ=YEARLY;INTERVAL=1;BYDAY=-1SU;BYMONTH=3
END:DAYLIGHT
BEGIN:STANDARD
TZOFFSETFROM:+0200
TZOFFSETTO:+0100
TZNAME:CET
DTSTART:19701025T030000
RRULE:FREQ=YEARLY;INTERVAL=1;BYDAY=-1SU;BYMONTH=10
END:STANDARD
END:VTIMEZONE

BEGIN:VEVENT
UID:41be10a04ddbfb65caf7c703c9d5f529
DTSTART:20140406T100000
DTEND:20140413T230000
LOCATION:Tenochtitlan [Mexico]
GEO:19.263963000;-99.103779300
DTSTAMP:20140406T100000Z
SUMMARY:Fiesta de "La Flor Mas Bella del Ejido" 6 al 13 Abril 2014 Xochimilco Centro Mex
DESCRIPTION:Line-up: Gran Inauguracion Domingo 6 de Abril Xochimilco Centro Centro
  y foro historico y cultural Quetzalcoatl de Xochimilco Lun…
URL:https://www.goabase.net/fr/party/fiesta-de-la-flor-mas-bella-del-ejido-6-al-13-abril-2014-xochimilco-centro-mex/78575
CATEGORIES:Psytrance Event
CLASS:PUBLIC
END:VEVENT

BEGIN:VEVENT
UID:0e4172f423797480e1156dd39365ea0d
DTSTART:20131005T100000
DTEND:20131005T200000
LOCATION:Mexico Tenochtitlan [Mexico]
GEO:17.519167000;-94.302222000
DTSTAMP:20131005T100000Z
SUMMARY:-ISLA CHEVE VARA XOCHIMILCO CIUDAD DE MEXICO
DESCRIPTION:Line-up: DJ- MOCTEZUMA TERCERO
URL:https://www.goabase.net/fr/party/isla-cheve-vara-xochimilco-ciudad-de-mexico/75335
CATEGORIES:Psytrance Event
CLASS:PUBLIC
END:VEVENT

BEGIN:VEVENT
UID:755e91e5fc3dc5f2eb087b5c5013d969
DTSTART:20130928T100000
DTEND:20130929T210000
LOCATION:Ciudad De Mexico Tenochtitl… [Mexico]
GEO:17.519167000;-94.302222000
DTSTAMP:20130928T100000Z
SUMMARY:-ISLA CHEVE VARA XOCHIMILCO CIUDAD DE MEXICO
DESCRIPTION:Line-up: DJ- MOCTEZUMA TERCERO
URL:https://www.goabase.net/fr/party/isla-cheve-vara-xochimilco-ciudad-de-mexico/75334
CATEGORIES:Psytrance Event
CLASS:PUBLIC
END:VEVENT

BEGIN:VEVENT
UID:425e1e580d876d1d0e1cdd6b0db82380
DTSTART:20130921T100000
DTEND:20130921T210000
LOCATION:Mexico Tenochtitlan [Mexico]
GEO:17.519167000;-94.302222000
DTSTAMP:20130921T100000Z
SUMMARY:-ISLA CHEVE VARA XOCHIMILCO CIUDAD DE MEXICO
DESCRIPTION:Line-up: DJ- MOCTEZUMA TERCERO
URL:https://www.goabase.net/fr/party/isla-cheve-vara-xochimilco-ciudad-de-mexico/75333
CATEGORIES:Psytrance Event
CLASS:PUBLIC
END:VEVENT

BEGIN:VEVENT
UID:0ca42bdeee98e4d49aaf15bbf6e3e920
DTSTART:20121216T100000
DTEND:20121217T120000
LOCATION:Mexico City [Mexico]
GEO:0.000000000;0.000000000
DTSTAMP:20121216T100000Z
SUMMARY:PRIMERA POSADA
DESCRIPTION:Line-up: MANY ARTIST
URL:https://www.goabase.net/fr/party/primera-posada/69961
CATEGORIES:Psytrance Event
CLASS:PUBLIC
END:VEVENT

BEGIN:VEVENT
UID:13a398ff8c70019a939922ac5c34a3f6
DTSTART:20110227T180000
DTEND:20110228T120000
LOCATION:Mexico Tenochtitlan Ciudad… [Mexico]
GEO:0.000000000;0.000000000
DTSTAMP:20110227T180000Z
SUMMARY:FIESTA CONVIVIO
DESCRIPTION:Line-up: SURPRISE
URL:https://www.goabase.net/fr/party/fiesta-convivio/58513
CATEGORIES:Psytrance Event
CLASS:PUBLIC
END:VEVENT

BEGIN:VEVENT
UID:c40db2963448f447ece0f160b151ad07
DTSTART:20061111T220000
DTEND:20061112T120000
LOCATION:Xochimilco [Mexico]
GEO:0.000000000;0.000000000
DTSTAMP:20061111T220000Z
SUMMARY:- Y A L A H A O -
DESCRIPTION:Line-up: - SUBCONSCIOUSMIND - - Fiin Records - - SUIZA -
URL:https://www.goabase.net/fr/party/y-a-l-a-h-a-o/25959
CATEGORIES:Psytrance Event
CLASS:PUBLIC
END:VEVENT

END:VCALENDAR