BEGIN:VCALENDAR
VERSION:2.0
PRODID:goabase.net iCalendar 2026
X-WR-CALNAME:goabase.net - parties and people 
X-WR-TIMEZONE;VALUE=TEXT:Europe/Berlin
CALSCALE:GREGORIAN
BEGIN:VTIMEZONE
TZID:Europe/Berlin
X-LIC-LOCATION:Europe/Berlin
BEGIN:DAYLIGHT
TZOFFSETFROM:+0100
TZOFFSETTO:+0200
TZNAME:CEST
DTSTART:19700329T020000
RRULE:FREQ=YEARLY;INTERVAL=1;BYDAY=-1SU;BYMONTH=3
END:DAYLIGHT
BEGIN:STANDARD
TZOFFSETFROM:+0200
TZOFFSETTO:+0100
TZNAME:CET
DTSTART:19701025T030000
RRULE:FREQ=YEARLY;INTERVAL=1;BYDAY=-1SU;BYMONTH=10
END:STANDARD
END:VTIMEZONE

BEGIN:VEVENT
UID:faefca4c8b072b28b98c1b7655317701
DTSTART:20081101T233000
DTEND:20081102T203000
LOCATION:Malaga [Spain]
GEO:0.000000000;0.000000000
DTSTAMP:20081101T233000Z
SUMMARY:Halloween Rave + Cumpleaños Oliveiro
DESCRIPTION:
URL:https://www.goabase.net/fr/party/halloween-rave-cumpleanos-oliveiro/41837
CATEGORIES:Psytrance Event
CLASS:PUBLIC
END:VEVENT

BEGIN:VEVENT
UID:f1c81d691b0cfa67480e1dd3f70a79cd
DTSTART:20071027T233000
DTEND:20071028T210000
LOCATION:Churriana, Malaga [Spain]
GEO:0.000000000;0.000000000
DTSTAMP:20071027T233000Z
SUMMARY:Rave Psytrance @ Malaga
DESCRIPTION:
URL:https://www.goabase.net/fr/party/rave-psytrance-malaga/34789
CATEGORIES:Psytrance Event
CLASS:PUBLIC
END:VEVENT

END:VCALENDAR