BEGIN:VCALENDAR
VERSION:2.0
PRODID:goabase.net iCalendar 2026
X-WR-CALNAME:goabase.net - parties and people 
X-WR-TIMEZONE;VALUE=TEXT:Europe/Berlin
CALSCALE:GREGORIAN
BEGIN:VTIMEZONE
TZID:Europe/Berlin
X-LIC-LOCATION:Europe/Berlin
BEGIN:DAYLIGHT
TZOFFSETFROM:+0100
TZOFFSETTO:+0200
TZNAME:CEST
DTSTART:19700329T020000
RRULE:FREQ=YEARLY;INTERVAL=1;BYDAY=-1SU;BYMONTH=3
END:DAYLIGHT
BEGIN:STANDARD
TZOFFSETFROM:+0200
TZOFFSETTO:+0100
TZNAME:CET
DTSTART:19701025T030000
RRULE:FREQ=YEARLY;INTERVAL=1;BYDAY=-1SU;BYMONTH=10
END:STANDARD
END:VTIMEZONE

BEGIN:VEVENT
UID:d1d0e85d6fcc72624ee8dfb19dddae16
DTSTART:20250104T230000
DTEND:20250105T070000
LOCATION:Hamburg [Germany]
GEO:53.600000000;10.000000000
DTSTAMP:20250104T230000Z
SUMMARY:7Hz x ForkingRealitY
DESCRIPTION:Line-up: Dagobert (Open Nature) Elias Wolff (Open Nature) Jonte (7Hz)
  Luigi (7Hz) CCleaner (7Hz) HE (Happy Dude Rec. / ErroR404)… Lieu:
  Gängeviertel - Fabrique, Valentinskamp 34a, 20355 Hamburg
URL:https://www.goabase.net/fr/party/7hz-x-forkingreality/114193
CATEGORIES:Psytrance Event
CLASS:PUBLIC
END:VEVENT

BEGIN:VEVENT
UID:6887f7b8b0bdca844176d4efded71f5d
DTSTART:20180317T200000
DTEND:20180318T100000
LOCATION:Saint Gallen [Switzerland]
GEO:47.411823001;9.348743821
DTSTAMP:20180317T200000Z
SUMMARY:PEACE@St.Gallen - People Educate Against Criminal Establishment
DESCRIPTION:Line-up: Nur feiern kann jeder dachten wir uns, aber in einer Zeit, in
  der staatliche Repressionen wieder zunehmen, in der die Fr…
URL:https://www.goabase.net/fr/party/peacestgallen-people-educate-against-criminal-establishment/99342
CATEGORIES:Psytrance Event
CLASS:PUBLIC
END:VEVENT

END:VCALENDAR