BEGIN:VCALENDAR
VERSION:2.0
PRODID:goabase.net iCalendar 2026
X-WR-CALNAME:goabase.net - parties and people 
X-WR-TIMEZONE;VALUE=TEXT:Europe/Berlin
CALSCALE:GREGORIAN
BEGIN:VTIMEZONE
TZID:Europe/Berlin
X-LIC-LOCATION:Europe/Berlin
BEGIN:DAYLIGHT
TZOFFSETFROM:+0100
TZOFFSETTO:+0200
TZNAME:CEST
DTSTART:19700329T020000
RRULE:FREQ=YEARLY;INTERVAL=1;BYDAY=-1SU;BYMONTH=3
END:DAYLIGHT
BEGIN:STANDARD
TZOFFSETFROM:+0200
TZOFFSETTO:+0100
TZNAME:CET
DTSTART:19701025T030000
RRULE:FREQ=YEARLY;INTERVAL=1;BYDAY=-1SU;BYMONTH=10
END:STANDARD
END:VTIMEZONE

BEGIN:VEVENT
UID:869e77ace8d709b876876363818a4e76
DTSTART:20130906T120000
DTEND:20130909T120000
LOCATION:Bruton, nr Bristol, Somerse… [United Kingdom]
GEO:0.000000000;0.000000000
DTSTAMP:20130906T120000Z
SUMMARY:WAVEFORM ELECTRONIC MUSIC FESTIVAL 2013
DESCRIPTION:Line-up: HANGING GARDENS LIVE STAGE hosted by CATS CRADLE & BABYLON
  UNDERGROUND: Dreadzone- Orb Sound System- System 7- Zion Trai…
URL:https://www.goabase.net/fr/festival/waveform-electronic-music-festival-2013/72219
CATEGORIES:Psytrance Event
CLASS:PUBLIC
END:VEVENT

END:VCALENDAR