BEGIN:VCALENDAR
VERSION:2.0
PRODID:goabase.net iCalendar 2026
X-WR-CALNAME:goabase.net - parties and people 
X-WR-TIMEZONE;VALUE=TEXT:Europe/Berlin
CALSCALE:GREGORIAN
BEGIN:VTIMEZONE
TZID:Europe/Berlin
X-LIC-LOCATION:Europe/Berlin
BEGIN:DAYLIGHT
TZOFFSETFROM:+0100
TZOFFSETTO:+0200
TZNAME:CEST
DTSTART:19700329T020000
RRULE:FREQ=YEARLY;INTERVAL=1;BYDAY=-1SU;BYMONTH=3
END:DAYLIGHT
BEGIN:STANDARD
TZOFFSETFROM:+0200
TZOFFSETTO:+0100
TZNAME:CET
DTSTART:19701025T030000
RRULE:FREQ=YEARLY;INTERVAL=1;BYDAY=-1SU;BYMONTH=10
END:STANDARD
END:VTIMEZONE

BEGIN:VEVENT
UID:18e34af7b5ddb40ab701ad644e3a39ea
DTSTART:20070310T220000
DTEND:20070311T110000
LOCATION:rössing [Germany]
GEO:0.000000000;0.000000000
DTSTAMP:20070310T220000Z
SUMMARY:flexible swedensound
DESCRIPTION:Line-up: Lumbago (D) Djeyage (Psychoaktives nachtgewusel)
URL:https://www.goabase.net/fr/party/flexible-swedensound/28774
CATEGORIES:Psytrance Event
CLASS:PUBLIC
END:VEVENT

BEGIN:VEVENT
UID:1edf3b45f2e5baddeb41e29a134246d6
DTSTART:20070203T220000
DTEND:20070204T070000
LOCATION:hildesheim [Germany]
GEO:0.000000000;0.000000000
DTSTAMP:20070203T220000Z
SUMMARY:psychoaktives nachtgewusel 6
DESCRIPTION:
URL:https://www.goabase.net/fr/party/psychoaktives-nachtgewusel-6/29301
CATEGORIES:Psytrance Event
CLASS:PUBLIC
END:VEVENT

BEGIN:VEVENT
UID:69d7ba96023e51abbffa9bdd1b311e4d
DTSTART:20070106T220000
DTEND:20070107T070000
LOCATION:hildesheim [Germany]
GEO:0.000000000;0.000000000
DTSTAMP:20070106T220000Z
SUMMARY:psychoaktives nachtgewusel 5
DESCRIPTION:
URL:https://www.goabase.net/fr/party/psychoaktives-nachtgewusel-5/28205
CATEGORIES:Psytrance Event
CLASS:PUBLIC
END:VEVENT

BEGIN:VEVENT
UID:7d64a47242c4c673a5f4e2ce4dbb05c5
DTSTART:20061202T220000
DTEND:20061203T070000
LOCATION:hildesheim [Germany]
GEO:0.000000000;0.000000000
DTSTAMP:20061202T220000Z
SUMMARY:psychoaktives nachtgewusel 4
DESCRIPTION:
URL:https://www.goabase.net/fr/party/psychoaktives-nachtgewusel-4/27701
CATEGORIES:Psytrance Event
CLASS:PUBLIC
END:VEVENT

BEGIN:VEVENT
UID:2355ab52d26a3ff7111cd64b5f1bbcce
DTSTART:20061104T220000
DTEND:20061105T070000
LOCATION:hildesheim [Germany]
GEO:0.000000000;0.000000000
DTSTAMP:20061104T220000Z
SUMMARY:psychoaktives nachtgewusel 3
DESCRIPTION:
URL:https://www.goabase.net/fr/party/psychoaktives-nachtgewusel-3/27700
CATEGORIES:Psytrance Event
CLASS:PUBLIC
END:VEVENT

END:VCALENDAR