BEGIN:VCALENDAR
VERSION:2.0
PRODID:goabase.net iCalendar 2026
X-WR-CALNAME:goabase.net - parties and people 
X-WR-TIMEZONE;VALUE=TEXT:Europe/Berlin
CALSCALE:GREGORIAN
BEGIN:VTIMEZONE
TZID:Europe/Berlin
X-LIC-LOCATION:Europe/Berlin
BEGIN:DAYLIGHT
TZOFFSETFROM:+0100
TZOFFSETTO:+0200
TZNAME:CEST
DTSTART:19700329T020000
RRULE:FREQ=YEARLY;INTERVAL=1;BYDAY=-1SU;BYMONTH=3
END:DAYLIGHT
BEGIN:STANDARD
TZOFFSETFROM:+0200
TZOFFSETTO:+0100
TZNAME:CET
DTSTART:19701025T030000
RRULE:FREQ=YEARLY;INTERVAL=1;BYDAY=-1SU;BYMONTH=10
END:STANDARD
END:VTIMEZONE

BEGIN:VEVENT
UID:6ec782a99a112f2ebd13fe556e0e4db5
DTSTART:20180804T200000
DTEND:20180805T120000
LOCATION:Bleiken b. O. [Switzerland]
GEO:46.809427700;7.624134100
DTSTAMP:20180804T200000Z
SUMMARY:Vibration des Waldes
DESCRIPTION:Line-up: Philozipin Circus of Illusons RaGma Circus of Illusions/HSF
URL:https://www.goabase.net/fr/party/vibration-des-waldes/98648
CATEGORIES:Psytrance Event
CLASS:PUBLIC
END:VEVENT

BEGIN:VEVENT
UID:0fe90cd98f8e2021dab8312aab0483c3
DTSTART:20180601T220000
DTEND:20180602T060000
LOCATION:Thun [Switzerland]
GEO:46.907253933;7.474222183
DTSTAMP:20180601T220000Z
SUMMARY:Kulti Night
DESCRIPTION:
URL:https://www.goabase.net/fr/party/kulti-night/99887
CATEGORIES:Psytrance Event
CLASS:PUBLIC
END:VEVENT

BEGIN:VEVENT
UID:475baf0e7c25e94da58bf987ee9c34e9
DTSTART:20180414T220000
DTEND:20180415T070000
LOCATION:Kehrsatz [Switzerland]
GEO:46.907253933;7.474222183
DTSTAMP:20180414T220000Z
SUMMARY:Progressive Illusions (BERN)
DESCRIPTION:Line-up: Circus of Illusions presents ***** Progressive ILLUSIONS ***
  Nach einem super Start mit unserer 》Gala…
URL:https://www.goabase.net/fr/party/progressive-illusions-bern/99412
CATEGORIES:Psytrance Event
CLASS:PUBLIC
END:VEVENT

BEGIN:VEVENT
UID:7e45d6cb736820c3b3251a572deb21f5
DTSTART:20180303T210000
DTEND:20180304T090000
LOCATION:Kehrsatz [Switzerland]
GEO:46.907510000;7.474520000
DTSTAMP:20180303T210000Z
SUMMARY:Galaxy of Illusions (part 1)
DESCRIPTION:Line-up: Analog Minds @Music Shops: ----- Bea…
URL:https://www.goabase.net/fr/party/galaxy-of-illusions-part-1/97876
CATEGORIES:Psytrance Event
CLASS:PUBLIC
END:VEVENT

END:VCALENDAR